{"text_format":"1","workbook":"xlsx","n_sheets":7,"sheets":["ввод","расчет","мощность","цены","округл","Нерег.цена","Часы пик"],"not_rendered":{"charts":0,"images":0,"macros":1,"external_links":1,"defined_names":2,"comments":0,"pivot_tables":0},"unopened":[],"bounds":{"document_bytes":16777216,"sheet_cells":100000,"rows_first":2000,"rows_last":500,"rows_between":2000,"halvings":0,"cell_chars":16384,"cell_head_chars":4096},"cells_cut":0,"cells_raw":0,"read":"whole","date_system":"1900"}

{"sheet":"ввод","index":0,"n_rows":36,"n_cols":26,"rows_kept":36,"cut":false,"hidden":false,"merged":[[2,0,3,0],[2,1,2,24],[2,25,3,25]]}
["PTVERENE","1. Вставить почасовой профиль электроэнергии в закрашенные ячейки "]
[{"$f":"мощность!B1","v":"февраль"},"2. Перейти в лист \"Расчёт\""]
["Дата\\Часы","Фактический почасовой объем  электрической энергии, кВтч",null,null,null,null,null,null,null,null,null,null,null,null,null,null,null,null,null,null,null,null,null,null,null,"Итого"]
[null,1,2,3,4,5,6,7,8,9,10,11,12,13,14,15,16,17,18,19,20,21,22,23,24]
[{"$f":"мощность!AA4","v":"01.02.2026"},null,null,null,null,null,null,null,null,null,null,null,null,null,null,null,null,null,null,null,null,null,null,null,null,{"$f":"SUM(B5:Y5)","v":0}]
[{"$f":"мощность!AA5","v":"02.02.2026"},null,null,null,null,null,null,null,null,null,null,null,null,null,null,null,null,null,null,null,null,null,null,null,null,{"$f":"SUM(B6:Y6)","v":0}]
[{"$f":"мощность!AA6","v":"03.02.2026"},null,null,null,null,null,null,null,null,null,null,null,null,null,null,null,null,null,null,null,null,null,null,null,null,0]
[{"$f":"мощность!AA7","v":"04.02.2026"},null,null,null,null,null,null,null,null,null,null,null,null,null,null,null,null,null,null,null,null,null,null,null,null,0]
[{"$f":"мощность!AA8","v":"05.02.2026"},null,null,null,null,null,null,null,null,null,null,null,null,null,null,null,null,null,null,null,null,null,null,null,null,0]
[{"$f":"мощность!AA9","v":"06.02.2026"},null,null,null,null,null,null,null,null,null,null,null,null,null,null,null,null,null,null,null,null,null,null,null,null,0]
[{"$f":"мощность!AA10","v":"07.02.2026"},null,null,null,null,null,null,null,null,null,null,null,null,null,null,null,null,null,null,null,null,null,null,null,null,0]
[{"$f":"мощность!AA11","v":"08.02.2026"},null,null,null,null,null,null,null,null,null,null,null,null,null,null,null,null,null,null,null,null,null,null,null,null,0]
[{"$f":"мощность!AA12","v":"09.02.2026"},null,null,null,null,null,null,null,null,null,null,null,null,null,null,null,null,null,null,null,null,null,null,null,null,0]
[{"$f":"мощность!AA13","v":"10.02.2026"},null,null,null,null,null,null,null,null,null,null,null,null,null,null,null,null,null,null,null,null,null,null,null,null,0]
[{"$f":"мощность!AA14","v":"11.02.2026"},null,null,null,null,null,null,null,null,null,null,null,null,null,null,null,null,null,null,null,null,null,null,null,null,0]
[{"$f":"мощность!AA15","v":"12.02.2026"},null,null,null,null,null,null,null,null,null,null,null,null,null,null,null,null,null,null,null,null,null,null,null,null,0]
[{"$f":"мощность!AA16","v":"13.02.2026"},null,null,null,null,null,null,null,null,null,null,null,null,null,null,null,null,null,null,null,null,null,null,null,null,0]
[{"$f":"мощность!AA17","v":"14.02.2026"},null,null,null,null,null,null,null,null,null,null,null,null,null,null,null,null,null,null,null,null,null,null,null,null,0]
[{"$f":"мощность!AA18","v":"15.02.2026"},null,null,null,null,null,null,null,null,null,null,null,null,null,null,null,null,null,null,null,null,null,null,null,null,0]
[{"$f":"мощность!AA19","v":"16.02.2026"},null,null,null,null,null,null,null,null,null,null,null,null,null,null,null,null,null,null,null,null,null,null,null,null,0]
[{"$f":"мощность!AA20","v":"17.02.2026"},null,null,null,null,null,null,null,null,null,null,null,null,null,null,null,null,null,null,null,null,null,null,null,null,0]
[{"$f":"мощность!AA21","v":"18.02.2026"},null,null,null,null,null,null,null,null,null,null,null,null,null,null,null,null,null,null,null,null,null,null,null,null,0]
[{"$f":"мощность!AA22","v":"19.02.2026"},null,null,null,null,null,null,null,null,null,null,null,null,null,null,null,null,null,null,null,null,null,null,null,null,0]
[{"$f":"мощность!AA23","v":"20.02.2026"},null,null,null,null,null,null,null,null,null,null,null,null,null,null,null,null,null,null,null,null,null,null,null,null,0]
[{"$f":"мощность!AA24","v":"21.02.2026"},null,null,null,null,null,null,null,null,null,null,null,null,null,null,null,null,null,null,null,null,null,null,null,null,0]
[{"$f":"мощность!AA25","v":"22.02.2026"},null,null,null,null,null,null,null,null,null,null,null,null,null,null,null,null,null,null,null,null,null,null,null,null,0]
[{"$f":"мощность!AA26","v":"23.02.2026"},null,null,null,null,null,null,null,null,null,null,null,null,null,null,null,null,null,null,null,null,null,null,null,null,0]
[{"$f":"мощность!AA27","v":"24.02.2026"},null,null,null,null,null,null,null,null,null,null,null,null,null,null,null,null,null,null,null,null,null,null,null,null,0]
[{"$f":"мощность!AA28","v":"25.02.2026"},null,null,null,null,null,null,null,null,null,null,null,null,null,null,null,null,null,null,null,null,null,null,null,null,0]
[{"$f":"мощность!AA29","v":"26.02.2026"},null,null,null,null,null,null,null,null,null,null,null,null,null,null,null,null,null,null,null,null,null,null,null,null,0]
[{"$f":"мощность!AA30","v":"27.02.2026"},null,null,null,null,null,null,null,null,null,null,null,null,null,null,null,null,null,null,null,null,null,null,null,null,0]
[{"$f":"мощность!AA31","v":"28.02.2026"},null,null,null,null,null,null,null,null,null,null,null,null,null,null,null,null,null,null,null,null,null,null,null,null,0]
[{"$f":"мощность!AA32","v":"01.03.2026"},null,null,null,null,null,null,null,null,null,null,null,null,null,null,null,null,null,null,null,null,null,null,null,null,0]
[{"$f":"мощность!AA33","v":"02.03.2026"},null,null,null,null,null,null,null,null,null,null,null,null,null,null,null,null,null,null,null,null,null,null,null,null,0]
[{"$f":"мощность!AA34","v":"03.03.2026"},null,null,null,null,null,null,null,null,null,null,null,null,null,null,null,null,null,null,null,null,null,null,null,null,0]
["ИТОГО",{"$f":"SUM(B5:B35)","v":0},{"$f":"SUM(C5:C35)","v":0},0,0,0,0,0,0,0,0,0,0,0,0,0,0,0,0,0,0,0,{"$f":"SUM(W5:W35)","v":0},0,0,{"$f":"SUM(Z5:Z35)","v":0}]

{"sheet":"расчет","index":1,"n_rows":42,"n_cols":26,"rows_kept":42,"cut":false,"hidden":false,"merged":[[2,0,2,25],[37,0,37,5]]}
["Расчёт объемов и стоимости электроэнергии (мощности) выполнен за",null,null,null,null,null,{"$f":"ввод!A2","v":"февраль"}]
[]
["1. Сформирован округленный фактический почасовой объем  электрической энергии, кВтч"]
["Дата\\Часы",1,2,3,4,5,6,7,8,9,10,11,12,13,14,15,16,17,18,19,20,21,22,23,24,"Итого"]
[{"$f":"мощность!AA4","v":"01.02.2026"},{"$f":"мощность!B4","v":0},{"$f":"мощность!C4","v":0},{"$f":"мощность!D4","v":0},{"$f":"мощность!E4","v":0},{"$f":"мощность!F4","v":0},{"$f":"мощность!G4","v":0},{"$f":"мощность!H4","v":0},{"$f":"мощность!I4","v":0},{"$f":"мощность!J4","v":0},{"$f":"мощность!K4","v":0},{"$f":"мощность!L4","v":0},{"$f":"мощность!M4","v":0},{"$f":"мощность!N4","v":0},{"$f":"мощность!O4","v":0},{"$f":"мощность!P4","v":0},{"$f":"мощность!Q4","v":0},{"$f":"мощность!R4","v":0},{"$f":"мощность!S4","v":0},{"$f":"мощность!T4","v":0},{"$f":"мощность!U4","v":0},{"$f":"мощность!V4","v":0},{"$f":"мощность!W4","v":0},{"$f":"мощность!X4","v":0},{"$f":"мощность!Y4","v":0},{"$f":"SUM(B5:Y5)","v":0}]
[{"$f":"мощность!AA5","v":"02.02.2026"},{"$f":"мощность!B5","v":0},{"$f":"мощность!C5","v":0},{"$f":"мощность!D5","v":0},{"$f":"мощность!E5","v":0},{"$f":"мощность!F5","v":0},{"$f":"мощность!G5","v":0},{"$f":"мощность!H5","v":0},{"$f":"мощность!I5","v":0},{"$f":"мощность!J5","v":0},{"$f":"мощность!K5","v":0},{"$f":"мощность!L5","v":0},{"$f":"мощность!M5","v":0},{"$f":"мощность!N5","v":0},{"$f":"мощность!O5","v":0},{"$f":"мощность!P5","v":0},{"$f":"мощность!Q5","v":0},{"$f":"мощность!R5","v":0},{"$f":"мощность!S5","v":0},{"$f":"мощность!T5","v":0},{"$f":"мощность!U5","v":0},{"$f":"мощность!V5","v":0},{"$f":"мощность!W5","v":0},{"$f":"мощность!X5","v":0},{"$f":"мощность!Y5","v":0},{"$f":"SUM(B6:Y6)","v":0}]
[{"$f":"мощность!AA6","v":"03.02.2026"},{"$f":"мощность!B6","v":0},{"$f":"мощность!C6","v":0},{"$f":"мощность!D6","v":0},{"$f":"мощность!E6","v":0},{"$f":"мощность!F6","v":0},{"$f":"мощность!G6","v":0},{"$f":"мощность!H6","v":0},{"$f":"мощность!I6","v":0},{"$f":"мощность!J6","v":0},{"$f":"мощность!K6","v":0},{"$f":"мощность!L6","v":0},{"$f":"мощность!M6","v":0},{"$f":"мощность!N6","v":0},{"$f":"мощность!O6","v":0},{"$f":"мощность!P6","v":0},{"$f":"мощность!Q6","v":0},{"$f":"мощность!R6","v":0},{"$f":"мощность!S6","v":0},{"$f":"мощность!T6","v":0},{"$f":"мощность!U6","v":0},{"$f":"мощность!V6","v":0},{"$f":"мощность!W6","v":0},{"$f":"мощность!X6","v":0},{"$f":"мощность!Y6","v":0},0]
[{"$f":"мощность!AA7","v":"04.02.2026"},{"$f":"мощность!B7","v":0},{"$f":"мощность!C7","v":0},{"$f":"мощность!D7","v":0},{"$f":"мощность!E7","v":0},{"$f":"мощность!F7","v":0},{"$f":"мощность!G7","v":0},{"$f":"мощность!H7","v":0},{"$f":"мощность!I7","v":0},{"$f":"мощность!J7","v":0},{"$f":"мощность!K7","v":0},{"$f":"мощность!L7","v":0},{"$f":"мощность!M7","v":0},{"$f":"мощность!N7","v":0},{"$f":"мощность!O7","v":0},{"$f":"мощность!P7","v":0},{"$f":"мощность!Q7","v":0},{"$f":"мощность!R7","v":0},{"$f":"мощность!S7","v":0},{"$f":"мощность!T7","v":0},{"$f":"мощность!U7","v":0},{"$f":"мощность!V7","v":0},{"$f":"мощность!W7","v":0},{"$f":"мощность!X7","v":0},{"$f":"мощность!Y7","v":0},0]
[{"$f":"мощность!AA8","v":"05.02.2026"},{"$f":"мощность!B8","v":0},{"$f":"мощность!C8","v":0},{"$f":"мощность!D8","v":0},{"$f":"мощность!E8","v":0},{"$f":"мощность!F8","v":0},{"$f":"мощность!G8","v":0},{"$f":"мощность!H8","v":0},{"$f":"мощность!I8","v":0},{"$f":"мощность!J8","v":0},{"$f":"мощность!K8","v":0},{"$f":"мощность!L8","v":0},{"$f":"мощность!M8","v":0},{"$f":"мощность!N8","v":0},{"$f":"мощность!O8","v":0},{"$f":"мощность!P8","v":0},{"$f":"мощность!Q8","v":0},{"$f":"мощность!R8","v":0},{"$f":"мощность!S8","v":0},{"$f":"мощность!T8","v":0},{"$f":"мощность!U8","v":0},{"$f":"мощность!V8","v":0},{"$f":"мощность!W8","v":0},{"$f":"мощность!X8","v":0},{"$f":"мощность!Y8","v":0},0]
[{"$f":"мощность!AA9","v":"06.02.2026"},{"$f":"мощность!B9","v":0},{"$f":"мощность!C9","v":0},{"$f":"мощность!D9","v":0},{"$f":"мощность!E9","v":0},{"$f":"мощность!F9","v":0},{"$f":"мощность!G9","v":0},{"$f":"мощность!H9","v":0},{"$f":"мощность!I9","v":0},{"$f":"мощность!J9","v":0},{"$f":"мощность!K9","v":0},{"$f":"мощность!L9","v":0},{"$f":"мощность!M9","v":0},{"$f":"мощность!N9","v":0},{"$f":"мощность!O9","v":0},{"$f":"мощность!P9","v":0},{"$f":"мощность!Q9","v":0},{"$f":"мощность!R9","v":0},{"$f":"мощность!S9","v":0},{"$f":"мощность!T9","v":0},{"$f":"мощность!U9","v":0},{"$f":"мощность!V9","v":0},{"$f":"мощность!W9","v":0},{"$f":"мощность!X9","v":0},{"$f":"мощность!Y9","v":0},0]
[{"$f":"мощность!AA10","v":"07.02.2026"},{"$f":"мощность!B10","v":0},{"$f":"мощность!C10","v":0},{"$f":"мощность!D10","v":0},{"$f":"мощность!E10","v":0},{"$f":"мощность!F10","v":0},{"$f":"мощность!G10","v":0},{"$f":"мощность!H10","v":0},{"$f":"мощность!I10","v":0},{"$f":"мощность!J10","v":0},{"$f":"мощность!K10","v":0},{"$f":"мощность!L10","v":0},{"$f":"мощность!M10","v":0},{"$f":"мощность!N10","v":0},{"$f":"мощность!O10","v":0},{"$f":"мощность!P10","v":0},{"$f":"мощность!Q10","v":0},{"$f":"мощность!R10","v":0},{"$f":"мощность!S10","v":0},{"$f":"мощность!T10","v":0},{"$f":"мощность!U10","v":0},{"$f":"мощность!V10","v":0},{"$f":"мощность!W10","v":0},{"$f":"мощность!X10","v":0},{"$f":"мощность!Y10","v":0},0]
[{"$f":"мощность!AA11","v":"08.02.2026"},{"$f":"мощность!B11","v":0},{"$f":"мощность!C11","v":0},{"$f":"мощность!D11","v":0},{"$f":"мощность!E11","v":0},{"$f":"мощность!F11","v":0},{"$f":"мощность!G11","v":0},{"$f":"мощность!H11","v":0},{"$f":"мощность!I11","v":0},{"$f":"мощность!J11","v":0},{"$f":"мощность!K11","v":0},{"$f":"мощность!L11","v":0},{"$f":"мощность!M11","v":0},{"$f":"мощность!N11","v":0},{"$f":"мощность!O11","v":0},{"$f":"мощность!P11","v":0},{"$f":"мощность!Q11","v":0},{"$f":"мощность!R11","v":0},{"$f":"мощность!S11","v":0},{"$f":"мощность!T11","v":0},{"$f":"мощность!U11","v":0},{"$f":"мощность!V11","v":0},{"$f":"мощность!W11","v":0},{"$f":"мощность!X11","v":0},{"$f":"мощность!Y11","v":0},0]
[{"$f":"мощность!AA12","v":"09.02.2026"},{"$f":"мощность!B12","v":0},{"$f":"мощность!C12","v":0},{"$f":"мощность!D12","v":0},{"$f":"мощность!E12","v":0},{"$f":"мощность!F12","v":0},{"$f":"мощность!G12","v":0},{"$f":"мощность!H12","v":0},{"$f":"мощность!I12","v":0},{"$f":"мощность!J12","v":0},{"$f":"мощность!K12","v":0},{"$f":"мощность!L12","v":0},{"$f":"мощность!M12","v":0},{"$f":"мощность!N12","v":0},{"$f":"мощность!O12","v":0},{"$f":"мощность!P12","v":0},{"$f":"мощность!Q12","v":0},{"$f":"мощность!R12","v":0},{"$f":"мощность!S12","v":0},{"$f":"мощность!T12","v":0},{"$f":"мощность!U12","v":0},{"$f":"мощность!V12","v":0},{"$f":"мощность!W12","v":0},{"$f":"мощность!X12","v":0},{"$f":"мощность!Y12","v":0},0]
[{"$f":"мощность!AA13","v":"10.02.2026"},{"$f":"мощность!B13","v":0},{"$f":"мощность!C13","v":0},{"$f":"мощность!D13","v":0},{"$f":"мощность!E13","v":0},{"$f":"мощность!F13","v":0},{"$f":"мощность!G13","v":0},{"$f":"мощность!H13","v":0},{"$f":"мощность!I13","v":0},{"$f":"мощность!J13","v":0},{"$f":"мощность!K13","v":0},{"$f":"мощность!L13","v":0},{"$f":"мощность!M13","v":0},{"$f":"мощность!N13","v":0},{"$f":"мощность!O13","v":0},{"$f":"мощность!P13","v":0},{"$f":"мощность!Q13","v":0},{"$f":"мощность!R13","v":0},{"$f":"мощность!S13","v":0},{"$f":"мощность!T13","v":0},{"$f":"мощность!U13","v":0},{"$f":"мощность!V13","v":0},{"$f":"мощность!W13","v":0},{"$f":"мощность!X13","v":0},{"$f":"мощность!Y13","v":0},0]
[{"$f":"мощность!AA14","v":"11.02.2026"},{"$f":"мощность!B14","v":0},{"$f":"мощность!C14","v":0},{"$f":"мощность!D14","v":0},{"$f":"мощность!E14","v":0},{"$f":"мощность!F14","v":0},{"$f":"мощность!G14","v":0},{"$f":"мощность!H14","v":0},{"$f":"мощность!I14","v":0},{"$f":"мощность!J14","v":0},{"$f":"мощность!K14","v":0},{"$f":"мощность!L14","v":0},{"$f":"мощность!M14","v":0},{"$f":"мощность!N14","v":0},{"$f":"мощность!O14","v":0},{"$f":"мощность!P14","v":0},{"$f":"мощность!Q14","v":0},{"$f":"мощность!R14","v":0},{"$f":"мощность!S14","v":0},{"$f":"мощность!T14","v":0},{"$f":"мощность!U14","v":0},{"$f":"мощность!V14","v":0},{"$f":"мощность!W14","v":0},{"$f":"мощность!X14","v":0},{"$f":"мощность!Y14","v":0},0]
[{"$f":"мощность!AA15","v":"12.02.2026"},{"$f":"мощность!B15","v":0},{"$f":"мощность!C15","v":0},{"$f":"мощность!D15","v":0},{"$f":"мощность!E15","v":0},{"$f":"мощность!F15","v":0},{"$f":"мощность!G15","v":0},{"$f":"мощность!H15","v":0},{"$f":"мощность!I15","v":0},{"$f":"мощность!J15","v":0},{"$f":"мощность!K15","v":0},{"$f":"мощность!L15","v":0},{"$f":"мощность!M15","v":0},{"$f":"мощность!N15","v":0},{"$f":"мощность!O15","v":0},{"$f":"мощность!P15","v":0},{"$f":"мощность!Q15","v":0},{"$f":"мощность!R15","v":0},{"$f":"мощность!S15","v":0},{"$f":"мощность!T15","v":0},{"$f":"мощность!U15","v":0},{"$f":"мощность!V15","v":0},{"$f":"мощность!W15","v":0},{"$f":"мощность!X15","v":0},{"$f":"мощность!Y15","v":0},0]
[{"$f":"мощность!AA16","v":"13.02.2026"},{"$f":"мощность!B16","v":0},{"$f":"мощность!C16","v":0},{"$f":"мощность!D16","v":0},{"$f":"мощность!E16","v":0},{"$f":"мощность!F16","v":0},{"$f":"мощность!G16","v":0},{"$f":"мощность!H16","v":0},{"$f":"мощность!I16","v":0},{"$f":"мощность!J16","v":0},{"$f":"мощность!K16","v":0},{"$f":"мощность!L16","v":0},{"$f":"мощность!M16","v":0},{"$f":"мощность!N16","v":0},{"$f":"мощность!O16","v":0},{"$f":"мощность!P16","v":0},{"$f":"мощность!Q16","v":0},{"$f":"мощность!R16","v":0},{"$f":"мощность!S16","v":0},{"$f":"мощность!T16","v":0},{"$f":"мощность!U16","v":0},{"$f":"мощность!V16","v":0},{"$f":"мощность!W16","v":0},{"$f":"мощность!X16","v":0},{"$f":"мощность!Y16","v":0},0]
[{"$f":"мощность!AA17","v":"14.02.2026"},{"$f":"мощность!B17","v":0},{"$f":"мощность!C17","v":0},{"$f":"мощность!D17","v":0},{"$f":"мощность!E17","v":0},{"$f":"мощность!F17","v":0},{"$f":"мощность!G17","v":0},{"$f":"мощность!H17","v":0},{"$f":"мощность!I17","v":0},{"$f":"мощность!J17","v":0},{"$f":"мощность!K17","v":0},{"$f":"мощность!L17","v":0},{"$f":"мощность!M17","v":0},{"$f":"мощность!N17","v":0},{"$f":"мощность!O17","v":0},{"$f":"мощность!P17","v":0},{"$f":"мощность!Q17","v":0},{"$f":"мощность!R17","v":0},{"$f":"мощность!S17","v":0},{"$f":"мощность!T17","v":0},{"$f":"мощность!U17","v":0},{"$f":"мощность!V17","v":0},{"$f":"мощность!W17","v":0},{"$f":"мощность!X17","v":0},{"$f":"мощность!Y17","v":0},0]
[{"$f":"мощность!AA18","v":"15.02.2026"},{"$f":"мощность!B18","v":0},{"$f":"мощность!C18","v":0},{"$f":"мощность!D18","v":0},{"$f":"мощность!E18","v":0},{"$f":"мощность!F18","v":0},{"$f":"мощность!G18","v":0},{"$f":"мощность!H18","v":0},{"$f":"мощность!I18","v":0},{"$f":"мощность!J18","v":0},{"$f":"мощность!K18","v":0},{"$f":"мощность!L18","v":0},{"$f":"мощность!M18","v":0},{"$f":"мощность!N18","v":0},{"$f":"мощность!O18","v":0},{"$f":"мощность!P18","v":0},{"$f":"мощность!Q18","v":0},{"$f":"мощность!R18","v":0},{"$f":"мощность!S18","v":0},{"$f":"мощность!T18","v":0},{"$f":"мощность!U18","v":0},{"$f":"мощность!V18","v":0},{"$f":"мощность!W18","v":0},{"$f":"мощность!X18","v":0},{"$f":"мощность!Y18","v":0},0]
[{"$f":"мощность!AA19","v":"16.02.2026"},{"$f":"мощность!B19","v":0},{"$f":"мощность!C19","v":0},{"$f":"мощность!D19","v":0},{"$f":"мощность!E19","v":0},{"$f":"мощность!F19","v":0},{"$f":"мощность!G19","v":0},{"$f":"мощность!H19","v":0},{"$f":"мощность!I19","v":0},{"$f":"мощность!J19","v":0},{"$f":"мощность!K19","v":0},{"$f":"мощность!L19","v":0},{"$f":"мощность!M19","v":0},{"$f":"мощность!N19","v":0},{"$f":"мощность!O19","v":0},{"$f":"мощность!P19","v":0},{"$f":"мощность!Q19","v":0},{"$f":"мощность!R19","v":0},{"$f":"мощность!S19","v":0},{"$f":"мощность!T19","v":0},{"$f":"мощность!U19","v":0},{"$f":"мощность!V19","v":0},{"$f":"мощность!W19","v":0},{"$f":"мощность!X19","v":0},{"$f":"мощность!Y19","v":0},0]
[{"$f":"мощность!AA20","v":"17.02.2026"},{"$f":"мощность!B20","v":0},{"$f":"мощность!C20","v":0},{"$f":"мощность!D20","v":0},{"$f":"мощность!E20","v":0},{"$f":"мощность!F20","v":0},{"$f":"мощность!G20","v":0},{"$f":"мощность!H20","v":0},{"$f":"мощность!I20","v":0},{"$f":"мощность!J20","v":0},{"$f":"мощность!K20","v":0},{"$f":"мощность!L20","v":0},{"$f":"мощность!M20","v":0},{"$f":"мощность!N20","v":0},{"$f":"мощность!O20","v":0},{"$f":"мощность!P20","v":0},{"$f":"мощность!Q20","v":0},{"$f":"мощность!R20","v":0},{"$f":"мощность!S20","v":0},{"$f":"мощность!T20","v":0},{"$f":"мощность!U20","v":0},{"$f":"мощность!V20","v":0},{"$f":"мощность!W20","v":0},{"$f":"мощность!X20","v":0},{"$f":"мощность!Y20","v":0},0]
[{"$f":"мощность!AA21","v":"18.02.2026"},{"$f":"мощность!B21","v":0},{"$f":"мощность!C21","v":0},{"$f":"мощность!D21","v":0},{"$f":"мощность!E21","v":0},{"$f":"мощность!F21","v":0},{"$f":"мощность!G21","v":0},{"$f":"мощность!H21","v":0},{"$f":"мощность!I21","v":0},{"$f":"мощность!J21","v":0},{"$f":"мощность!K21","v":0},{"$f":"мощность!L21","v":0},{"$f":"мощность!M21","v":0},{"$f":"мощность!N21","v":0},{"$f":"мощность!O21","v":0},{"$f":"мощность!P21","v":0},{"$f":"мощность!Q21","v":0},{"$f":"мощность!R21","v":0},{"$f":"мощность!S21","v":0},{"$f":"мощность!T21","v":0},{"$f":"мощность!U21","v":0},{"$f":"мощность!V21","v":0},{"$f":"мощность!W21","v":0},{"$f":"мощность!X21","v":0},{"$f":"мощность!Y21","v":0},0]
[{"$f":"мощность!AA22","v":"19.02.2026"},{"$f":"мощность!B22","v":0},{"$f":"мощность!C22","v":0},{"$f":"мощность!D22","v":0},{"$f":"мощность!E22","v":0},{"$f":"мощность!F22","v":0},{"$f":"мощность!G22","v":0},{"$f":"мощность!H22","v":0},{"$f":"мощность!I22","v":0},{"$f":"мощность!J22","v":0},{"$f":"мощность!K22","v":0},{"$f":"мощность!L22","v":0},{"$f":"мощность!M22","v":0},{"$f":"мощность!N22","v":0},{"$f":"мощность!O22","v":0},{"$f":"мощность!P22","v":0},{"$f":"мощность!Q22","v":0},{"$f":"мощность!R22","v":0},{"$f":"мощность!S22","v":0},{"$f":"мощность!T22","v":0},{"$f":"мощность!U22","v":0},{"$f":"мощность!V22","v":0},{"$f":"мощность!W22","v":0},{"$f":"мощность!X22","v":0},{"$f":"мощность!Y22","v":0},0]
[{"$f":"мощность!AA23","v":"20.02.2026"},{"$f":"мощность!B23","v":0},{"$f":"мощность!C23","v":0},{"$f":"мощность!D23","v":0},{"$f":"мощность!E23","v":0},{"$f":"мощность!F23","v":0},{"$f":"мощность!G23","v":0},{"$f":"мощность!H23","v":0},{"$f":"мощность!I23","v":0},{"$f":"мощность!J23","v":0},{"$f":"мощность!K23","v":0},{"$f":"мощность!L23","v":0},{"$f":"мощность!M23","v":0},{"$f":"мощность!N23","v":0},{"$f":"мощность!O23","v":0},{"$f":"мощность!P23","v":0},{"$f":"мощность!Q23","v":0},{"$f":"мощность!R23","v":0},{"$f":"мощность!S23","v":0},{"$f":"мощность!T23","v":0},{"$f":"мощность!U23","v":0},{"$f":"мощность!V23","v":0},{"$f":"мощность!W23","v":0},{"$f":"мощность!X23","v":0},{"$f":"мощность!Y23","v":0},0]
[{"$f":"мощность!AA24","v":"21.02.2026"},{"$f":"мощность!B24","v":0},{"$f":"мощность!C24","v":0},{"$f":"мощность!D24","v":0},{"$f":"мощность!E24","v":0},{"$f":"мощность!F24","v":0},{"$f":"мощность!G24","v":0},{"$f":"мощность!H24","v":0},{"$f":"мощность!I24","v":0},{"$f":"мощность!J24","v":0},{"$f":"мощность!K24","v":0},{"$f":"мощность!L24","v":0},{"$f":"мощность!M24","v":0},{"$f":"мощность!N24","v":0},{"$f":"мощность!O24","v":0},{"$f":"мощность!P24","v":0},{"$f":"мощность!Q24","v":0},{"$f":"мощность!R24","v":0},{"$f":"мощность!S24","v":0},{"$f":"мощность!T24","v":0},{"$f":"мощность!U24","v":0},{"$f":"мощность!V24","v":0},{"$f":"мощность!W24","v":0},{"$f":"мощность!X24","v":0},{"$f":"мощность!Y24","v":0},0]
[{"$f":"мощность!AA25","v":"22.02.2026"},{"$f":"мощность!B25","v":0},{"$f":"мощность!C25","v":0},{"$f":"мощность!D25","v":0},{"$f":"мощность!E25","v":0},{"$f":"мощность!F25","v":0},{"$f":"мощность!G25","v":0},{"$f":"мощность!H25","v":0},{"$f":"мощность!I25","v":0},{"$f":"мощность!J25","v":0},{"$f":"мощность!K25","v":0},{"$f":"мощность!L25","v":0},{"$f":"мощность!M25","v":0},{"$f":"мощность!N25","v":0},{"$f":"мощность!O25","v":0},{"$f":"мощность!P25","v":0},{"$f":"мощность!Q25","v":0},{"$f":"мощность!R25","v":0},{"$f":"мощность!S25","v":0},{"$f":"мощность!T25","v":0},{"$f":"мощность!U25","v":0},{"$f":"мощность!V25","v":0},{"$f":"мощность!W25","v":0},{"$f":"мощность!X25","v":0},{"$f":"мощность!Y25","v":0},0]
[{"$f":"мощность!AA26","v":"23.02.2026"},{"$f":"мощность!B26","v":0},{"$f":"мощность!C26","v":0},{"$f":"мощность!D26","v":0},{"$f":"мощность!E26","v":0},{"$f":"мощность!F26","v":0},{"$f":"мощность!G26","v":0},{"$f":"мощность!H26","v":0},{"$f":"мощность!I26","v":0},{"$f":"мощность!J26","v":0},{"$f":"мощность!K26","v":0},{"$f":"мощность!L26","v":0},{"$f":"мощность!M26","v":0},{"$f":"мощность!N26","v":0},{"$f":"мощность!O26","v":0},{"$f":"мощность!P26","v":0},{"$f":"мощность!Q26","v":0},{"$f":"мощность!R26","v":0},{"$f":"мощность!S26","v":0},{"$f":"мощность!T26","v":0},{"$f":"мощность!U26","v":0},{"$f":"мощность!V26","v":0},{"$f":"мощность!W26","v":0},{"$f":"мощность!X26","v":0},{"$f":"мощность!Y26","v":0},0]
[{"$f":"мощность!AA27","v":"24.02.2026"},{"$f":"мощность!B27","v":0},{"$f":"мощность!C27","v":0},{"$f":"мощность!D27","v":0},{"$f":"мощность!E27","v":0},{"$f":"мощность!F27","v":0},{"$f":"мощность!G27","v":0},{"$f":"мощность!H27","v":0},{"$f":"мощность!I27","v":0},{"$f":"мощность!J27","v":0},{"$f":"мощность!K27","v":0},{"$f":"мощность!L27","v":0},{"$f":"мощность!M27","v":0},{"$f":"мощность!N27","v":0},{"$f":"мощность!O27","v":0},{"$f":"мощность!P27","v":0},{"$f":"мощность!Q27","v":0},{"$f":"мощность!R27","v":0},{"$f":"мощность!S27","v":0},{"$f":"мощность!T27","v":0},{"$f":"мощность!U27","v":0},{"$f":"мощность!V27","v":0},{"$f":"мощность!W27","v":0},{"$f":"мощность!X27","v":0},{"$f":"мощность!Y27","v":0},0]
[{"$f":"мощность!AA28","v":"25.02.2026"},{"$f":"мощность!B28","v":0},{"$f":"мощность!C28","v":0},{"$f":"мощность!D28","v":0},{"$f":"мощность!E28","v":0},{"$f":"мощность!F28","v":0},{"$f":"мощность!G28","v":0},{"$f":"мощность!H28","v":0},{"$f":"мощность!I28","v":0},{"$f":"мощность!J28","v":0},{"$f":"мощность!K28","v":0},{"$f":"мощность!L28","v":0},{"$f":"мощность!M28","v":0},{"$f":"мощность!N28","v":0},{"$f":"мощность!O28","v":0},{"$f":"мощность!P28","v":0},{"$f":"мощность!Q28","v":0},{"$f":"мощность!R28","v":0},{"$f":"мощность!S28","v":0},{"$f":"мощность!T28","v":0},{"$f":"мощность!U28","v":0},{"$f":"мощность!V28","v":0},{"$f":"мощность!W28","v":0},{"$f":"мощность!X28","v":0},{"$f":"мощность!Y28","v":0},0]
[{"$f":"мощность!AA29","v":"26.02.2026"},{"$f":"мощность!B29","v":0},{"$f":"мощность!C29","v":0},{"$f":"мощность!D29","v":0},{"$f":"мощность!E29","v":0},{"$f":"мощность!F29","v":0},{"$f":"мощность!G29","v":0},{"$f":"мощность!H29","v":0},{"$f":"мощность!I29","v":0},{"$f":"мощность!J29","v":0},{"$f":"мощность!K29","v":0},{"$f":"мощность!L29","v":0},{"$f":"мощность!M29","v":0},{"$f":"мощность!N29","v":0},{"$f":"мощность!O29","v":0},{"$f":"мощность!P29","v":0},{"$f":"мощность!Q29","v":0},{"$f":"мощность!R29","v":0},{"$f":"мощность!S29","v":0},{"$f":"мощность!T29","v":0},{"$f":"мощность!U29","v":0},{"$f":"мощность!V29","v":0},{"$f":"мощность!W29","v":0},{"$f":"мощность!X29","v":0},{"$f":"мощность!Y29","v":0},0]
[{"$f":"мощность!AA30","v":"27.02.2026"},{"$f":"мощность!B30","v":0},{"$f":"мощность!C30","v":0},{"$f":"мощность!D30","v":0},{"$f":"мощность!E30","v":0},{"$f":"мощность!F30","v":0},{"$f":"мощность!G30","v":0},{"$f":"мощность!H30","v":0},{"$f":"мощность!I30","v":0},{"$f":"мощность!J30","v":0},{"$f":"мощность!K30","v":0},{"$f":"мощность!L30","v":0},{"$f":"мощность!M30","v":0},{"$f":"мощность!N30","v":0},{"$f":"мощность!O30","v":0},{"$f":"мощность!P30","v":0},{"$f":"мощность!Q30","v":0},{"$f":"мощность!R30","v":0},{"$f":"мощность!S30","v":0},{"$f":"мощность!T30","v":0},{"$f":"мощность!U30","v":0},{"$f":"мощность!V30","v":0},{"$f":"мощность!W30","v":0},{"$f":"мощность!X30","v":0},{"$f":"мощность!Y30","v":0},0]
[{"$f":"мощность!AA31","v":"28.02.2026"},{"$f":"мощность!B31","v":0},{"$f":"мощность!C31","v":0},{"$f":"мощность!D31","v":0},{"$f":"мощность!E31","v":0},{"$f":"мощность!F31","v":0},{"$f":"мощность!G31","v":0},{"$f":"мощность!H31","v":0},{"$f":"мощность!I31","v":0},{"$f":"мощность!J31","v":0},{"$f":"мощность!K31","v":0},{"$f":"мощность!L31","v":0},{"$f":"мощность!M31","v":0},{"$f":"мощность!N31","v":0},{"$f":"мощность!O31","v":0},{"$f":"мощность!P31","v":0},{"$f":"мощность!Q31","v":0},{"$f":"мощность!R31","v":0},{"$f":"мощность!S31","v":0},{"$f":"мощность!T31","v":0},{"$f":"мощность!U31","v":0},{"$f":"мощность!V31","v":0},{"$f":"мощность!W31","v":0},{"$f":"мощность!X31","v":0},{"$f":"мощность!Y31","v":0},0]
[{"$f":"мощность!AA32","v":"01.03.2026"},{"$f":"мощность!B32","v":0},{"$f":"мощность!C32","v":0},{"$f":"мощность!D32","v":0},{"$f":"мощность!E32","v":0},{"$f":"мощность!F32","v":0},{"$f":"мощность!G32","v":0},{"$f":"мощность!H32","v":0},{"$f":"мощность!I32","v":0},{"$f":"мощность!J32","v":0},{"$f":"мощность!K32","v":0},{"$f":"мощность!L32","v":0},{"$f":"мощность!M32","v":0},{"$f":"мощность!N32","v":0},{"$f":"мощность!O32","v":0},{"$f":"мощность!P32","v":0},{"$f":"мощность!Q32","v":0},{"$f":"мощность!R32","v":0},{"$f":"мощность!S32","v":0},{"$f":"мощность!T32","v":0},{"$f":"мощность!U32","v":0},{"$f":"мощность!V32","v":0},{"$f":"мощность!W32","v":0},{"$f":"мощность!X32","v":0},{"$f":"мощность!Y32","v":0},0]
[{"$f":"мощность!AA33","v":"02.03.2026"},{"$f":"мощность!B33","v":0},{"$f":"мощность!C33","v":0},{"$f":"мощность!D33","v":0},{"$f":"мощность!E33","v":0},{"$f":"мощность!F33","v":0},{"$f":"мощность!G33","v":0},{"$f":"мощность!H33","v":0},{"$f":"мощность!I33","v":0},{"$f":"мощность!J33","v":0},{"$f":"мощность!K33","v":0},{"$f":"мощность!L33","v":0},{"$f":"мощность!M33","v":0},{"$f":"мощность!N33","v":0},{"$f":"мощность!O33","v":0},{"$f":"мощность!P33","v":0},{"$f":"мощность!Q33","v":0},{"$f":"мощность!R33","v":0},{"$f":"мощность!S33","v":0},{"$f":"мощность!T33","v":0},{"$f":"мощность!U33","v":0},{"$f":"мощность!V33","v":0},{"$f":"мощность!W33","v":0},{"$f":"мощность!X33","v":0},{"$f":"мощность!Y33","v":0},0]
[{"$f":"мощность!AA34","v":"03.03.2026"},{"$f":"мощность!B34","v":0},{"$f":"мощность!C34","v":0},{"$f":"мощность!D34","v":0},{"$f":"мощность!E34","v":0},{"$f":"мощность!F34","v":0},{"$f":"мощность!G34","v":0},{"$f":"мощность!H34","v":0},{"$f":"мощность!I34","v":0},{"$f":"мощность!J34","v":0},{"$f":"мощность!K34","v":0},{"$f":"мощность!L34","v":0},{"$f":"мощность!M34","v":0},{"$f":"мощность!N34","v":0},{"$f":"мощность!O34","v":0},{"$f":"мощность!P34","v":0},{"$f":"мощность!Q34","v":0},{"$f":"мощность!R34","v":0},{"$f":"мощность!S34","v":0},{"$f":"мощность!T34","v":0},{"$f":"мощность!U34","v":0},{"$f":"мощность!V34","v":0},{"$f":"мощность!W34","v":0},{"$f":"мощность!X34","v":0},{"$f":"мощность!Y34","v":0},0]
["ИТОГО",{"$f":"SUM(B5:B35)","v":0},{"$f":"SUM(C5:C35)","v":0},0,0,0,0,0,0,0,0,0,0,0,0,0,0,0,0,0,0,0,{"$f":"SUM(W5:W35)","v":0},0,0,{"$f":"SUM(Z5:Z35)","v":0}]
[]
["2. Объем и стоиомсть электрической энергии и мощности по договорам купли-продажи электрической энергии (мощности) для розничной генерации (за исключением микрогенерации)"]
["Показатель","Объём, МВтч (МВт)","Цена руб/МВтч (МВт)","Стоимость без НДС, руб.","Стоимость с НДС, руб.","в т.ч. НДС (22%)"]
["Электроэнергия",{"$f":"цены!C680/1000","v":0},{"$f":"IF(B40=0,\"\",цены!D680)","v":""},{"$f":"IF(B40=0,\"\",цены!E680)","v":""},{"$f":"IF(B40=0,\"\",цены!F680)","v":""},{"$f":"IF(B40=0,\"\",цены!G680)","v":""}]
["Мощность",{"$f":"цены!C681/1000","v":0},{"$f":"IF(B41=0,\"\",цены!D681)","v":""},{"$f":"IF(B41=0,\"\",цены!E681)","v":""},{"$f":"IF(B41=0,\"\",цены!F681)","v":""},{"$f":"IF(B41=0,\"\",цены!G681)","v":""}]
["ИТОГО","Х",null,{"$f":"SUM(D40:D41)","v":0},{"$f":"SUM(E40:E41)","v":0},{"$f":"SUM(F40:F41)","v":0}]

{"sheet":"мощность","index":2,"n_rows":48,"n_cols":32,"rows_kept":48,"cut":false,"hidden":true,"merged":[[1,0,2,0],[1,1,1,24],[1,25,2,25],[37,16,37,21],[38,16,38,21]]}
["Месяц",{"$f":"IF(E1=1,\"январь\",IF(E1=2,\"февраль\",IF(E1=3,\"март\",IF(E1=4,\"апрель\",IF(E1=5,\"май\",IF(E1=6,\"июнь\",IF(E1=7,\"июль\",IF(E1=8,\"август\",IF(E1=9,\"сентябрь\",IF(E1=10,\"октябрь\",IF(E1=11,\"ноябрь\",IF(E1=12,\"декабрь\",0))))))))))))","v":"февраль"},null,null,{"$f":"MONTH(H1)","v":2},null,null,"2026-02-01","заполнять зеленые ячейки",null,null,null,null,null,null,null,null,null,null,null,null,null,null,null,null,null,{"$f":"TODAY()","v":"2026-03-13"},null,null,null,null,{"$f":"'[1]Лист 1'!$J$7","v":0}]
["Дата\\Часы","Фактический почасовой объем производства  электрической энергии (мощности), кВтч",null,null,null,null,null,null,null,null,null,null,null,null,null,null,null,null,null,null,null,null,null,null,null,"Итого",null,null,"max","в"]
[null,1,2,3,4,5,6,7,8,9,10,11,12,13,14,15,16,17,18,19,20,21,22,23,24,null,null,null,"час","дата"]
[1,{"$f":"округл!$B$66","v":0},{"$f":"округл!$B$67","v":0},{"$f":"округл!$B$68","v":0},{"$f":"округл!$B$69","v":0},{"$f":"округл!$B$70","v":0},{"$f":"округл!$B$71","v":0},{"$f":"округл!$B$72","v":0},{"$f":"округл!$B$73","v":0},{"$f":"округл!$B$74","v":0},{"$f":"округл!$B$75","v":0},{"$f":"округл!$B$76","v":0},{"$f":"округл!$B$77","v":0},{"$f":"округл!$B$78","v":0},{"$f":"округл!$B$79","v":0},{"$f":"округл!$B$80","v":0},{"$f":"округл!$B$81","v":0},{"$f":"округл!$B$82","v":0},{"$f":"округл!$B$83","v":0},{"$f":"округл!$B$84","v":0},{"$f":"округл!$B$85","v":0},{"$f":"округл!$B$86","v":0},{"$f":"округл!$B$87","v":0},{"$f":"округл!$B$88","v":0},{"$f":"округл!$B$89","v":0},{"$f":"SUM(B4:Y4)","v":0},{"$f":"B43","v":"01.02.2026"},{"$f":"IF(AD4=\"выходной\",\"\",INDEX($B$4:$Y$34,A4,LOOKUP(AC4,$B$3:$Y$3)))","v":""},{"$f":"VLOOKUP(AA4,'Часы пик'!$A$7:$B$60,2,0)","v":{"$error":"#N/A"}},{"$f":"IF($B$45=\"\",$B$44,$B$45)","v":"выходной"}]
[2,{"$f":"округл!$C$66","v":0},{"$f":"округл!$C$67","v":0},{"$f":"округл!$C$68","v":0},{"$f":"округл!$C$69","v":0},{"$f":"округл!$C$70","v":0},{"$f":"округл!$C$71","v":0},{"$f":"округл!$C$72","v":0},{"$f":"округл!$C$73","v":0},{"$f":"округл!$C$74","v":0},{"$f":"округл!$C$75","v":0},{"$f":"округл!$C$76","v":0},{"$f":"округл!$C$77","v":0},{"$f":"округл!$C$78","v":0},{"$f":"округл!$C$79","v":0},{"$f":"округл!$C$80","v":0},{"$f":"округл!$C$81","v":0},{"$f":"округл!$C$82","v":0},{"$f":"округл!$C$83","v":0},{"$f":"округл!$C$84","v":0},{"$f":"округл!$C$85","v":0},{"$f":"округл!$C$86","v":0},{"$f":"округл!$C$87","v":0},{"$f":"округл!$C$88","v":0},{"$f":"округл!$C$89","v":0},{"$f":"SUM(B5:Y5)","v":0},{"$f":"$C$43","v":"02.02.2026"},{"$f":"IF(AD5=\"выходной\",\"\",INDEX($B$4:$Y$34,A5,LOOKUP(AC5,$B$3:$Y$3)))","v":0},{"$f":"VLOOKUP(AA5,'Часы пик'!$A$7:$B$60,2,0)","v":11},{"$f":"IF($C$45=\"\",$C$44,$C$45)","v":"рабочий"}]
[3,{"$f":"округл!$D$66","v":0},{"$f":"округл!$D$67","v":0},{"$f":"округл!$D$68","v":0},{"$f":"округл!$D$69","v":0},{"$f":"округл!$D$70","v":0},{"$f":"округл!$D$71","v":0},{"$f":"округл!$D$72","v":0},{"$f":"округл!$D$73","v":0},{"$f":"округл!$D$74","v":0},{"$f":"округл!$D$75","v":0},{"$f":"округл!$D$76","v":0},{"$f":"округл!$D$77","v":0},{"$f":"округл!$D$78","v":0},{"$f":"округл!$D$79","v":0},{"$f":"округл!$D$80","v":0},{"$f":"округл!$D$81","v":0},{"$f":"округл!$D$82","v":0},{"$f":"округл!$D$83","v":0},{"$f":"округл!$D$84","v":0},{"$f":"округл!$D$85","v":0},{"$f":"округл!$D$86","v":0},{"$f":"округл!$D$87","v":0},{"$f":"округл!$D$88","v":0},{"$f":"округл!$D$89","v":0},0,{"$f":"$D$43","v":"03.02.2026"},{"$f":"IF(AD6=\"выходной\",\"\",INDEX($B$4:$Y$34,A6,LOOKUP(AC6,$B$3:$Y$3)))","v":0},{"$f":"VLOOKUP(AA6,'Часы пик'!$A$7:$B$60,2,0)","v":11},{"$f":"IF($D$45=\"\",$D$44,$D$45)","v":"рабочий"}]
[4,{"$f":"округл!$E$66","v":0},{"$f":"округл!$E$67","v":0},{"$f":"округл!$E$68","v":0},{"$f":"округл!$E$69","v":0},{"$f":"округл!$E$70","v":0},{"$f":"округл!$E$71","v":0},{"$f":"округл!$E$72","v":0},{"$f":"округл!$E$73","v":0},{"$f":"округл!$E$74","v":0},{"$f":"округл!$E$75","v":0},{"$f":"округл!$E$76","v":0},{"$f":"округл!$E$77","v":0},{"$f":"округл!$E$78","v":0},{"$f":"округл!$E$79","v":0},{"$f":"округл!$E$80","v":0},{"$f":"округл!$E$81","v":0},{"$f":"округл!$E$82","v":0},{"$f":"округл!$E$83","v":0},{"$f":"округл!$E$84","v":0},{"$f":"округл!$E$85","v":0},{"$f":"округл!$E$86","v":0},{"$f":"округл!$E$87","v":0},{"$f":"округл!$E$88","v":0},{"$f":"округл!$E$89","v":0},0,{"$f":"$E$43","v":"04.02.2026"},0,{"$f":"VLOOKUP(AA7,'Часы пик'!$A$7:$B$60,2,0)","v":10},{"$f":"IF($E$45=\"\",$E$44,$E$45)","v":"рабочий"}]
[5,{"$f":"округл!$F$66","v":0},{"$f":"округл!$F$67","v":0},{"$f":"округл!$F$68","v":0},{"$f":"округл!$F$69","v":0},{"$f":"округл!$F$70","v":0},{"$f":"округл!$F$71","v":0},{"$f":"округл!$F$72","v":0},{"$f":"округл!$F$73","v":0},{"$f":"округл!$F$74","v":0},{"$f":"округл!$F$75","v":0},{"$f":"округл!$F$76","v":0},{"$f":"округл!$F$77","v":0},{"$f":"округл!$F$78","v":0},{"$f":"округл!$F$79","v":0},{"$f":"округл!$F$80","v":0},{"$f":"округл!$F$81","v":0},{"$f":"округл!$F$82","v":0},{"$f":"округл!$F$83","v":0},{"$f":"округл!$F$84","v":0},{"$f":"округл!$F$85","v":0},{"$f":"округл!$F$86","v":0},{"$f":"округл!$F$87","v":0},{"$f":"округл!$F$88","v":0},{"$f":"округл!$F$89","v":0},0,{"$f":"$F$43","v":"05.02.2026"},0,{"$f":"VLOOKUP(AA8,'Часы пик'!$A$7:$B$60,2,0)","v":10},{"$f":"IF($F$45=\"\",$F$44,$F$45)","v":"рабочий"}]
[6,{"$f":"округл!$G$66","v":0},{"$f":"округл!$G$67","v":0},{"$f":"округл!$G$68","v":0},{"$f":"округл!$G$69","v":0},{"$f":"округл!$G$70","v":0},{"$f":"округл!$G$71","v":0},{"$f":"округл!$G$72","v":0},{"$f":"округл!$G$73","v":0},{"$f":"округл!$G$74","v":0},{"$f":"округл!$G$75","v":0},{"$f":"округл!$G$76","v":0},{"$f":"округл!$G$77","v":0},{"$f":"округл!$G$78","v":0},{"$f":"округл!$G$79","v":0},{"$f":"округл!$G$80","v":0},{"$f":"округл!$G$81","v":0},{"$f":"округл!$G$82","v":0},{"$f":"округл!$G$83","v":0},{"$f":"округл!$G$84","v":0},{"$f":"округл!$G$85","v":0},{"$f":"округл!$G$86","v":0},{"$f":"округл!$G$87","v":0},{"$f":"округл!$G$88","v":0},{"$f":"округл!$G$89","v":0},0,{"$f":"$G$43","v":"06.02.2026"},{"$f":"IF(AD9=\"выходной\",\"\",INDEX($B$4:$Y$34,A9,LOOKUP(AC9,$B$3:$Y$3)))","v":0},{"$f":"VLOOKUP(AA9,'Часы пик'!$A$7:$B$60,2,0)","v":10},{"$f":"IF($G$45=\"\",$G$44,$G$45)","v":"рабочий"}]
[7,{"$f":"округл!$H$66","v":0},{"$f":"округл!$H$67","v":0},{"$f":"округл!$H$68","v":0},{"$f":"округл!$H$69","v":0},{"$f":"округл!$H$70","v":0},{"$f":"округл!$H$71","v":0},{"$f":"округл!$H$72","v":0},{"$f":"округл!$H$73","v":0},{"$f":"округл!$H$74","v":0},{"$f":"округл!$H$75","v":0},{"$f":"округл!$H$76","v":0},{"$f":"округл!$H$77","v":0},{"$f":"округл!$H$78","v":0},{"$f":"округл!$H$79","v":0},{"$f":"округл!$H$80","v":0},{"$f":"округл!$H$81","v":0},{"$f":"округл!$H$82","v":0},{"$f":"округл!$H$83","v":0},{"$f":"округл!$H$84","v":0},{"$f":"округл!$H$85","v":0},{"$f":"округл!$H$86","v":0},{"$f":"округл!$H$87","v":0},{"$f":"округл!$H$88","v":0},{"$f":"округл!$H$89","v":0},0,{"$f":"$H$43","v":"07.02.2026"},"",{"$f":"VLOOKUP(AA10,'Часы пик'!$A$7:$B$60,2,0)","v":{"$error":"#N/A"}},{"$f":"IF($H$45=\"\",$H$44,$H$45)","v":"выходной"}]
[8,{"$f":"округл!$I$66","v":0},{"$f":"округл!$I$67","v":0},{"$f":"округл!$I$68","v":0},{"$f":"округл!$I$69","v":0},{"$f":"округл!$I$70","v":0},{"$f":"округл!$I$71","v":0},{"$f":"округл!$I$72","v":0},{"$f":"округл!$I$73","v":0},{"$f":"округл!$I$74","v":0},{"$f":"округл!$I$75","v":0},{"$f":"округл!$I$76","v":0},{"$f":"округл!$I$77","v":0},{"$f":"округл!$I$78","v":0},{"$f":"округл!$I$79","v":0},{"$f":"округл!$I$80","v":0},{"$f":"округл!$I$81","v":0},{"$f":"округл!$I$82","v":0},{"$f":"округл!$I$83","v":0},{"$f":"округл!$I$84","v":0},{"$f":"округл!$I$85","v":0},{"$f":"округл!$I$86","v":0},{"$f":"округл!$I$87","v":0},{"$f":"округл!$I$88","v":0},{"$f":"округл!$I$89","v":0},0,{"$f":"$I$43","v":"08.02.2026"},{"$f":"IF(AD11=\"выходной\",\"\",INDEX($B$4:$Y$34,A11,LOOKUP(AC11,$B$3:$Y$3)))","v":""},{"$f":"VLOOKUP(AA11,'Часы пик'!$A$7:$B$60,2,0)","v":{"$error":"#N/A"}},{"$f":"IF($I$45=\"\",$I$44,$I$45)","v":"выходной"}]
[9,{"$f":"округл!$J$66","v":0},{"$f":"округл!$J$67","v":0},{"$f":"округл!$J$68","v":0},{"$f":"округл!$J$69","v":0},{"$f":"округл!$J$70","v":0},{"$f":"округл!$J$71","v":0},{"$f":"округл!$J$72","v":0},{"$f":"округл!$J$73","v":0},{"$f":"округл!$J$74","v":0},{"$f":"округл!$J$75","v":0},{"$f":"округл!$J$76","v":0},{"$f":"округл!$J$77","v":0},{"$f":"округл!$J$78","v":0},{"$f":"округл!$J$79","v":0},{"$f":"округл!$J$80","v":0},{"$f":"округл!$J$81","v":0},{"$f":"округл!$J$82","v":0},{"$f":"округл!$J$83","v":0},{"$f":"округл!$J$84","v":0},{"$f":"округл!$J$85","v":0},{"$f":"округл!$J$86","v":0},{"$f":"округл!$J$87","v":0},{"$f":"округл!$J$88","v":0},{"$f":"округл!$J$89","v":0},0,{"$f":"$J$43","v":"09.02.2026"},{"$f":"IF(AD12=\"выходной\",\"\",INDEX($B$4:$Y$34,A12,LOOKUP(AC12,$B$3:$Y$3)))","v":0},{"$f":"VLOOKUP(AA12,'Часы пик'!$A$7:$B$60,2,0)","v":11},{"$f":"IF($J$45=\"\",$J$44,$J$45)","v":"рабочий"}]
[10,{"$f":"округл!$K$66","v":0},{"$f":"округл!$K$67","v":0},{"$f":"округл!$K$68","v":0},{"$f":"округл!$K$69","v":0},{"$f":"округл!$K$70","v":0},{"$f":"округл!$K$71","v":0},{"$f":"округл!$K$72","v":0},{"$f":"округл!$K$73","v":0},{"$f":"округл!$K$74","v":0},{"$f":"округл!$K$75","v":0},{"$f":"округл!$K$76","v":0},{"$f":"округл!$K$77","v":0},{"$f":"округл!$K$78","v":0},{"$f":"округл!$K$79","v":0},{"$f":"округл!$K$80","v":0},{"$f":"округл!$K$81","v":0},{"$f":"округл!$K$82","v":0},{"$f":"округл!$K$83","v":0},{"$f":"округл!$K$84","v":0},{"$f":"округл!$K$85","v":0},{"$f":"округл!$K$86","v":0},{"$f":"округл!$K$87","v":0},{"$f":"округл!$K$88","v":0},{"$f":"округл!$K$89","v":0},0,{"$f":"$K$43","v":"10.02.2026"},0,{"$f":"VLOOKUP(AA13,'Часы пик'!$A$7:$B$60,2,0)","v":10},{"$f":"IF($K$45=\"\",$K$44,$K$45)","v":"рабочий"}]
[11,{"$f":"округл!$L$66","v":0},{"$f":"округл!$L$67","v":0},{"$f":"округл!$L$68","v":0},{"$f":"округл!$L$69","v":0},{"$f":"округл!$L$70","v":0},{"$f":"округл!$L$71","v":0},{"$f":"округл!$L$72","v":0},{"$f":"округл!$L$73","v":0},{"$f":"округл!$L$74","v":0},{"$f":"округл!$L$75","v":0},{"$f":"округл!$L$76","v":0},{"$f":"округл!$L$77","v":0},{"$f":"округл!$L$78","v":0},{"$f":"округл!$L$79","v":0},{"$f":"округл!$L$80","v":0},{"$f":"округл!$L$81","v":0},{"$f":"округл!$L$82","v":0},{"$f":"округл!$L$83","v":0},{"$f":"округл!$L$84","v":0},{"$f":"округл!$L$85","v":0},{"$f":"округл!$L$86","v":0},{"$f":"округл!$L$87","v":0},{"$f":"округл!$L$88","v":0},{"$f":"округл!$L$89","v":0},0,{"$f":"$L$43","v":"11.02.2026"},{"$f":"IF(AD14=\"выходной\",\"\",INDEX($B$4:$Y$34,A14,LOOKUP(AC14,$B$3:$Y$3)))","v":0},{"$f":"VLOOKUP(AA14,'Часы пик'!$A$7:$B$60,2,0)","v":11},{"$f":"IF($L$45=\"\",$L$44,$L$45)","v":"рабочий"}]
[12,{"$f":"округл!$M$66","v":0},{"$f":"округл!$M$67","v":0},{"$f":"округл!$M$68","v":0},{"$f":"округл!$M$69","v":0},{"$f":"округл!$M$70","v":0},{"$f":"округл!$M$71","v":0},{"$f":"округл!$M$72","v":0},{"$f":"округл!$M$73","v":0},{"$f":"округл!$M$74","v":0},{"$f":"округл!$M$75","v":0},{"$f":"округл!$M$76","v":0},{"$f":"округл!$M$77","v":0},{"$f":"округл!$M$78","v":0},{"$f":"округл!$M$79","v":0},{"$f":"округл!$M$80","v":0},{"$f":"округл!$M$81","v":0},{"$f":"округл!$M$82","v":0},{"$f":"округл!$M$83","v":0},{"$f":"округл!$M$84","v":0},{"$f":"округл!$M$85","v":0},{"$f":"округл!$M$86","v":0},{"$f":"округл!$M$87","v":0},{"$f":"округл!$M$88","v":0},{"$f":"округл!$M$89","v":0},0,{"$f":"$M$43","v":"12.02.2026"},0,{"$f":"VLOOKUP(AA15,'Часы пик'!$A$7:$B$60,2,0)","v":10},{"$f":"IF($M$45=\"\",$M$44,$M$45)","v":"рабочий"}]
[13,{"$f":"округл!$N$66","v":0},{"$f":"округл!$N$67","v":0},{"$f":"округл!$N$68","v":0},{"$f":"округл!$N$69","v":0},{"$f":"округл!$N$70","v":0},{"$f":"округл!$N$71","v":0},{"$f":"округл!$N$72","v":0},{"$f":"округл!$N$73","v":0},{"$f":"округл!$N$74","v":0},{"$f":"округл!$N$75","v":0},{"$f":"округл!$N$76","v":0},{"$f":"округл!$N$77","v":0},{"$f":"округл!$N$78","v":0},{"$f":"округл!$N$79","v":0},{"$f":"округл!$N$80","v":0},{"$f":"округл!$N$81","v":0},{"$f":"округл!$N$82","v":0},{"$f":"округл!$N$83","v":0},{"$f":"округл!$N$84","v":0},{"$f":"округл!$N$85","v":0},{"$f":"округл!$N$86","v":0},{"$f":"округл!$N$87","v":0},{"$f":"округл!$N$88","v":0},{"$f":"округл!$N$89","v":0},0,{"$f":"$N$43","v":"13.02.2026"},0,{"$f":"VLOOKUP(AA16,'Часы пик'!$A$7:$B$60,2,0)","v":19},{"$f":"IF($N$45=\"\",$N$44,$N$45)","v":"рабочий"}]
[14,{"$f":"округл!$O$66","v":0},{"$f":"округл!$O$67","v":0},{"$f":"округл!$O$68","v":0},{"$f":"округл!$O$69","v":0},{"$f":"округл!$O$70","v":0},{"$f":"округл!$O$71","v":0},{"$f":"округл!$O$72","v":0},{"$f":"округл!$O$73","v":0},{"$f":"округл!$O$74","v":0},{"$f":"округл!$O$75","v":0},{"$f":"округл!$O$76","v":0},{"$f":"округл!$O$77","v":0},{"$f":"округл!$O$78","v":0},{"$f":"округл!$O$79","v":0},{"$f":"округл!$O$80","v":0},{"$f":"округл!$O$81","v":0},{"$f":"округл!$O$82","v":0},{"$f":"округл!$O$83","v":0},{"$f":"округл!$O$84","v":0},{"$f":"округл!$O$85","v":0},{"$f":"округл!$O$86","v":0},{"$f":"округл!$O$87","v":0},{"$f":"округл!$O$88","v":0},{"$f":"округл!$O$89","v":0},0,{"$f":"O$43","v":"14.02.2026"},"",{"$f":"VLOOKUP(AA17,'Часы пик'!$A$7:$B$60,2,0)","v":{"$error":"#N/A"}},{"$f":"IF($O$45=\"\",$O$44,$O$45)","v":"выходной"}]
[15,{"$f":"округл!$P$66","v":0},{"$f":"округл!$P$67","v":0},{"$f":"округл!$P$68","v":0},{"$f":"округл!$P$69","v":0},{"$f":"округл!$P$70","v":0},{"$f":"округл!$P$71","v":0},{"$f":"округл!$P$72","v":0},{"$f":"округл!$P$73","v":0},{"$f":"округл!$P$74","v":0},{"$f":"округл!$P$75","v":0},{"$f":"округл!$P$76","v":0},{"$f":"округл!$P$77","v":0},{"$f":"округл!$P$78","v":0},{"$f":"округл!$P$79","v":0},{"$f":"округл!$P$80","v":0},{"$f":"округл!$P$81","v":0},{"$f":"округл!$P$82","v":0},{"$f":"округл!$P$83","v":0},{"$f":"округл!$P$84","v":0},{"$f":"округл!$P$85","v":0},{"$f":"округл!$P$86","v":0},{"$f":"округл!$P$87","v":0},{"$f":"округл!$P$88","v":0},{"$f":"округл!$P$89","v":0},0,{"$f":"$P$43","v":"15.02.2026"},"",{"$f":"VLOOKUP(AA18,'Часы пик'!$A$7:$B$60,2,0)","v":{"$error":"#N/A"}},{"$f":"IF($P$45=\"\",$P$44,$P$45)","v":"выходной"}]
[16,{"$f":"округл!$Q$66","v":0},{"$f":"округл!$Q$67","v":0},{"$f":"округл!$Q$68","v":0},{"$f":"округл!$Q$69","v":0},{"$f":"округл!$Q$70","v":0},{"$f":"округл!$Q$71","v":0},{"$f":"округл!$Q$72","v":0},{"$f":"округл!$Q$73","v":0},{"$f":"округл!$Q$74","v":0},{"$f":"округл!$Q$75","v":0},{"$f":"округл!$Q$76","v":0},{"$f":"округл!$Q$77","v":0},{"$f":"округл!$Q$78","v":0},{"$f":"округл!$Q$79","v":0},{"$f":"округл!$Q$80","v":0},{"$f":"округл!$Q$81","v":0},{"$f":"округл!$Q$82","v":0},{"$f":"округл!$Q$83","v":0},{"$f":"округл!$Q$84","v":0},{"$f":"округл!$Q$85","v":0},{"$f":"округл!$Q$86","v":0},{"$f":"округл!$Q$87","v":0},{"$f":"округл!$Q$88","v":0},{"$f":"округл!$Q$89","v":0},0,{"$f":"$Q$43","v":"16.02.2026"},0,{"$f":"VLOOKUP(AA19,'Часы пик'!$A$7:$B$60,2,0)","v":12},{"$f":"IF($Q$45=\"\",$Q$44,$Q$45)","v":"рабочий"}]
[17,{"$f":"округл!$R$66","v":0},{"$f":"округл!$R$67","v":0},{"$f":"округл!$R$68","v":0},{"$f":"округл!$R$69","v":0},{"$f":"округл!$R$70","v":0},{"$f":"округл!$R$71","v":0},{"$f":"округл!$R$72","v":0},{"$f":"округл!$R$73","v":0},{"$f":"округл!$R$74","v":0},{"$f":"округл!$R$75","v":0},{"$f":"округл!$R$76","v":0},{"$f":"округл!$R$77","v":0},{"$f":"округл!$R$78","v":0},{"$f":"округл!$R$79","v":0},{"$f":"округл!$R$80","v":0},{"$f":"округл!$R$81","v":0},{"$f":"округл!$R$82","v":0},{"$f":"округл!$R$83","v":0},{"$f":"округл!$R$84","v":0},{"$f":"округл!$R$85","v":0},{"$f":"округл!$R$86","v":0},{"$f":"округл!$R$87","v":0},{"$f":"округл!$R$88","v":0},{"$f":"округл!$R$89","v":0},0,{"$f":"$R$43","v":"17.02.2026"},0,{"$f":"VLOOKUP(AA20,'Часы пик'!$A$7:$B$60,2,0)","v":10},{"$f":"IF($R$45=\"\",$R$44,$R$45)","v":"рабочий"}]
[18,{"$f":"округл!$S$66","v":0},{"$f":"округл!$S$67","v":0},{"$f":"округл!$S$68","v":0},{"$f":"округл!$S$69","v":0},{"$f":"округл!$S$70","v":0},{"$f":"округл!$S$71","v":0},{"$f":"округл!$S$72","v":0},{"$f":"округл!$S$73","v":0},{"$f":"округл!$S$74","v":0},{"$f":"округл!$S$75","v":0},{"$f":"округл!$S$76","v":0},{"$f":"округл!$S$77","v":0},{"$f":"округл!$S$78","v":0},{"$f":"округл!$S$79","v":0},{"$f":"округл!$S$80","v":0},{"$f":"округл!$S$81","v":0},{"$f":"округл!$S$82","v":0},{"$f":"округл!$S$83","v":0},{"$f":"округл!$S$84","v":0},{"$f":"округл!$S$85","v":0},{"$f":"округл!$S$86","v":0},{"$f":"округл!$S$87","v":0},{"$f":"округл!$S$88","v":0},{"$f":"округл!$S$89","v":0},0,{"$f":"$S$43","v":"18.02.2026"},0,{"$f":"VLOOKUP(AA21,'Часы пик'!$A$7:$B$60,2,0)","v":11},{"$f":"IF($S$45=\"\",$S$44,$S$45)","v":"рабочий"}]
[19,{"$f":"округл!$T$66","v":0},{"$f":"округл!$T$67","v":0},{"$f":"округл!$T$68","v":0},{"$f":"округл!$T$69","v":0},{"$f":"округл!$T$70","v":0},{"$f":"округл!$T$71","v":0},{"$f":"округл!$T$72","v":0},{"$f":"округл!$T$73","v":0},{"$f":"округл!$T$74","v":0},{"$f":"округл!$T$75","v":0},{"$f":"округл!$T$76","v":0},{"$f":"округл!$T$77","v":0},{"$f":"округл!$T$78","v":0},{"$f":"округл!$T$79","v":0},{"$f":"округл!$T$80","v":0},{"$f":"округл!$T$81","v":0},{"$f":"округл!$T$82","v":0},{"$f":"округл!$T$83","v":0},{"$f":"округл!$T$84","v":0},{"$f":"округл!$T$85","v":0},{"$f":"округл!$T$86","v":0},{"$f":"округл!$T$87","v":0},{"$f":"округл!$T$88","v":0},{"$f":"округл!$T$89","v":0},0,{"$f":"$T$43","v":"19.02.2026"},0,{"$f":"VLOOKUP(AA22,'Часы пик'!$A$7:$B$60,2,0)","v":11},{"$f":"IF($T$45=\"\",$T$44,$T$45)","v":"рабочий"}]
[20,{"$f":"округл!$U$66","v":0},{"$f":"округл!$U$67","v":0},{"$f":"округл!$U$68","v":0},{"$f":"округл!$U$69","v":0},{"$f":"округл!$U$70","v":0},{"$f":"округл!$U$71","v":0},{"$f":"округл!$U$72","v":0},{"$f":"округл!$U$73","v":0},{"$f":"округл!$U$74","v":0},{"$f":"округл!$U$75","v":0},{"$f":"округл!$U$76","v":0},{"$f":"округл!$U$77","v":0},{"$f":"округл!$U$78","v":0},{"$f":"округл!$U$79","v":0},{"$f":"округл!$U$80","v":0},{"$f":"округл!$U$81","v":0},{"$f":"округл!$U$82","v":0},{"$f":"округл!$U$83","v":0},{"$f":"округл!$U$84","v":0},{"$f":"округл!$U$85","v":0},{"$f":"округл!$U$86","v":0},{"$f":"округл!$U$87","v":0},{"$f":"округл!$U$88","v":0},{"$f":"округл!$U$89","v":0},0,{"$f":"$U$43","v":"20.02.2026"},0,{"$f":"VLOOKUP(AA23,'Часы пик'!$A$7:$B$60,2,0)","v":11},{"$f":"IF($U$45=\"\",$U$44,$U$45)","v":"рабочий"}]
[21,{"$f":"округл!$V$66","v":0},{"$f":"округл!$V$67","v":0},{"$f":"округл!$V$68","v":0},{"$f":"округл!$V$69","v":0},{"$f":"округл!$V$70","v":0},{"$f":"округл!$V$71","v":0},{"$f":"округл!$V$72","v":0},{"$f":"округл!$V$73","v":0},{"$f":"округл!$V$74","v":0},{"$f":"округл!$V$75","v":0},{"$f":"округл!$V$76","v":0},{"$f":"округл!$V$77","v":0},{"$f":"округл!$V$78","v":0},{"$f":"округл!$V$79","v":0},{"$f":"округл!$V$80","v":0},{"$f":"округл!$V$81","v":0},{"$f":"округл!$V$82","v":0},{"$f":"округл!$V$83","v":0},{"$f":"округл!$V$84","v":0},{"$f":"округл!$V$85","v":0},{"$f":"округл!$V$86","v":0},{"$f":"округл!$V$87","v":0},{"$f":"округл!$V$88","v":0},{"$f":"округл!$V$89","v":0},0,{"$f":"$V$43","v":"21.02.2026"},"",{"$f":"VLOOKUP(AA24,'Часы пик'!$A$7:$B$60,2,0)","v":{"$error":"#N/A"}},{"$f":"IF($V$45=\"\",$V$44,$V$45)","v":"выходной"}]
[22,{"$f":"округл!$W$66","v":0},{"$f":"округл!$W$67","v":0},{"$f":"округл!$W$68","v":0},{"$f":"округл!$W$69","v":0},{"$f":"округл!$W$70","v":0},{"$f":"округл!$W$71","v":0},{"$f":"округл!$W$72","v":0},{"$f":"округл!$W$73","v":0},{"$f":"округл!$W$74","v":0},{"$f":"округл!$W$75","v":0},{"$f":"округл!$W$76","v":0},{"$f":"округл!$W$77","v":0},{"$f":"округл!$W$78","v":0},{"$f":"округл!$W$79","v":0},{"$f":"округл!$W$80","v":0},{"$f":"округл!$W$81","v":0},{"$f":"округл!$W$82","v":0},{"$f":"округл!$W$83","v":0},{"$f":"округл!$W$84","v":0},{"$f":"округл!$W$85","v":0},{"$f":"округл!$W$86","v":0},{"$f":"округл!$W$87","v":0},{"$f":"округл!$W$88","v":0},{"$f":"округл!$W$89","v":0},0,{"$f":"$W$43","v":"22.02.2026"},"",{"$f":"VLOOKUP(AA25,'Часы пик'!$A$7:$B$60,2,0)","v":{"$error":"#N/A"}},{"$f":"IF($W$45=\"\",$W$44,$W$45)","v":"выходной"}]
[23,{"$f":"округл!$X$66","v":0},{"$f":"округл!$X$67","v":0},{"$f":"округл!$X$68","v":0},{"$f":"округл!$X$69","v":0},{"$f":"округл!$X$70","v":0},{"$f":"округл!$X$71","v":0},{"$f":"округл!$X$72","v":0},{"$f":"округл!$X$73","v":0},{"$f":"округл!$X$74","v":0},{"$f":"округл!$X$75","v":0},{"$f":"округл!$X$76","v":0},{"$f":"округл!$X$77","v":0},{"$f":"округл!$X$78","v":0},{"$f":"округл!$X$79","v":0},{"$f":"округл!$X$80","v":0},{"$f":"округл!$X$81","v":0},{"$f":"округл!$X$82","v":0},{"$f":"округл!$X$83","v":0},{"$f":"округл!$X$84","v":0},{"$f":"округл!$X$85","v":0},{"$f":"округл!$X$86","v":0},{"$f":"округл!$X$87","v":0},{"$f":"округл!$X$88","v":0},{"$f":"округл!$X$89","v":0},0,{"$f":"$X$43","v":"23.02.2026"},"",{"$f":"VLOOKUP(AA26,'Часы пик'!$A$7:$B$60,2,0)","v":{"$error":"#N/A"}},{"$f":"IF($X$45=\"\",$X$44,$X$45)","v":"выходной"}]
[24,{"$f":"округл!$Y$66","v":0},{"$f":"округл!$Y$67","v":0},{"$f":"округл!$Y$68","v":0},{"$f":"округл!$Y$69","v":0},{"$f":"округл!$Y$70","v":0},{"$f":"округл!$Y$71","v":0},{"$f":"округл!$Y$72","v":0},{"$f":"округл!$Y$73","v":0},{"$f":"округл!$Y$74","v":0},{"$f":"округл!$Y$75","v":0},{"$f":"округл!$Y$76","v":0},{"$f":"округл!$Y$77","v":0},{"$f":"округл!$Y$78","v":0},{"$f":"округл!$Y$79","v":0},{"$f":"округл!$Y$80","v":0},{"$f":"округл!$Y$81","v":0},{"$f":"округл!$Y$82","v":0},{"$f":"округл!$Y$83","v":0},{"$f":"округл!$Y$84","v":0},{"$f":"округл!$Y$85","v":0},{"$f":"округл!$Y$86","v":0},{"$f":"округл!$Y$87","v":0},{"$f":"округл!$Y$88","v":0},{"$f":"округл!$Y$89","v":0},0,{"$f":"$Y$43","v":"24.02.2026"},0,{"$f":"VLOOKUP(AA27,'Часы пик'!$A$7:$B$60,2,0)","v":10},{"$f":"IF($Y$45=\"\",$Y$44,$Y$45)","v":"рабочий"}]
[25,{"$f":"округл!$Z$66","v":0},{"$f":"округл!$Z$67","v":0},{"$f":"округл!$Z$68","v":0},{"$f":"округл!$Z$69","v":0},{"$f":"округл!$Z$70","v":0},{"$f":"округл!$Z$71","v":0},{"$f":"округл!$Z$72","v":0},{"$f":"округл!$Z$73","v":0},{"$f":"округл!$Z$74","v":0},{"$f":"округл!$Z$75","v":0},{"$f":"округл!$Z$76","v":0},{"$f":"округл!$Z$77","v":0},{"$f":"округл!$Z$78","v":0},{"$f":"округл!$Z$79","v":0},{"$f":"округл!$Z$80","v":0},{"$f":"округл!$Z$81","v":0},{"$f":"округл!$Z$82","v":0},{"$f":"округл!$Z$83","v":0},{"$f":"округл!$Z$84","v":0},{"$f":"округл!$Z$85","v":0},{"$f":"округл!$Z$86","v":0},{"$f":"округл!$Z$87","v":0},{"$f":"округл!$Z$88","v":0},{"$f":"округл!$Z$89","v":0},0,{"$f":"$Z$43","v":"25.02.2026"},0,{"$f":"VLOOKUP(AA28,'Часы пик'!$A$7:$B$60,2,0)","v":20},{"$f":"IF($Z$45=\"\",$Z$44,$Z$45)","v":"рабочий"}]
[26,{"$f":"округл!$AA$66","v":0},{"$f":"округл!$AA$67","v":0},{"$f":"округл!$AA$68","v":0},{"$f":"округл!$AA$69","v":0},{"$f":"округл!$AA$70","v":0},{"$f":"округл!$AA$71","v":0},{"$f":"округл!$AA$72","v":0},{"$f":"округл!$AA$73","v":0},{"$f":"округл!$AA$74","v":0},{"$f":"округл!$AA$75","v":0},{"$f":"округл!$AA$76","v":0},{"$f":"округл!$AA$77","v":0},{"$f":"округл!$AA$78","v":0},{"$f":"округл!$AA$79","v":0},{"$f":"округл!$AA$80","v":0},{"$f":"округл!$AA$81","v":0},{"$f":"округл!$AA$82","v":0},{"$f":"округл!$AA$83","v":0},{"$f":"округл!$AA$84","v":0},{"$f":"округл!$AA$85","v":0},{"$f":"округл!$AA$86","v":0},{"$f":"округл!$AA$87","v":0},{"$f":"округл!$AA$88","v":0},{"$f":"округл!$AA$89","v":0},0,{"$f":"$AA$43","v":"26.02.2026"},0,{"$f":"VLOOKUP(AA29,'Часы пик'!$A$7:$B$60,2,0)","v":10},{"$f":"IF($AA$45=\"\",$AA$44,$AA$45)","v":"рабочий"}]
[27,{"$f":"округл!$AB$66","v":0},{"$f":"округл!$AB$67","v":0},{"$f":"округл!$AB$68","v":0},{"$f":"округл!$AB$69","v":0},{"$f":"округл!$AB$70","v":0},{"$f":"округл!$AB$71","v":0},{"$f":"округл!$AB$72","v":0},{"$f":"округл!$AB$73","v":0},{"$f":"округл!$AB$74","v":0},{"$f":"округл!$AB$75","v":0},{"$f":"округл!$AB$76","v":0},{"$f":"округл!$AB$77","v":0},{"$f":"округл!$AB$78","v":0},{"$f":"округл!$AB$79","v":0},{"$f":"округл!$AB$80","v":0},{"$f":"округл!$AB$81","v":0},{"$f":"округл!$AB$82","v":0},{"$f":"округл!$AB$83","v":0},{"$f":"округл!$AB$84","v":0},{"$f":"округл!$AB$85","v":0},{"$f":"округл!$AB$86","v":0},{"$f":"округл!$AB$87","v":0},{"$f":"округл!$AB$88","v":0},{"$f":"округл!$AB$89","v":0},0,{"$f":"$AB$43","v":"27.02.2026"},0,{"$f":"VLOOKUP(AA30,'Часы пик'!$A$7:$B$60,2,0)","v":10},{"$f":"IF($AB$45=\"\",$AB$44,$AB$45)","v":"рабочий"}]
[28,{"$f":"округл!$AC$66","v":0},{"$f":"округл!$AC$67","v":0},{"$f":"округл!$AC$68","v":0},{"$f":"округл!$AC$69","v":0},{"$f":"округл!$AC$70","v":0},{"$f":"округл!$AC$71","v":0},{"$f":"округл!$AC$72","v":0},{"$f":"округл!$AC$73","v":0},{"$f":"округл!$AC$74","v":0},{"$f":"округл!$AC$75","v":0},{"$f":"округл!$AC$76","v":0},{"$f":"округл!$AC$77","v":0},{"$f":"округл!$AC$78","v":0},{"$f":"округл!$AC$79","v":0},{"$f":"округл!$AC$80","v":0},{"$f":"округл!$AC$81","v":0},{"$f":"округл!$AC$82","v":0},{"$f":"округл!$AC$83","v":0},{"$f":"округл!$AC$84","v":0},{"$f":"округл!$AC$85","v":0},{"$f":"округл!$AC$86","v":0},{"$f":"округл!$AC$87","v":0},{"$f":"округл!$AC$88","v":0},{"$f":"округл!$AC$89","v":0},0,{"$f":"$AC$43","v":"28.02.2026"},"",{"$f":"VLOOKUP(AA31,'Часы пик'!$A$7:$B$60,2,0)","v":{"$error":"#N/A"}},{"$f":"IF($AC$45=\"\",$AC$44,$AC$45)","v":"выходной"}]
[29,{"$f":"округл!$AD$66","v":0},{"$f":"округл!$AD$67","v":0},{"$f":"округл!$AD$68","v":0},{"$f":"округл!$AD$69","v":0},{"$f":"округл!$AD$70","v":0},{"$f":"округл!$AD$71","v":0},{"$f":"округл!$AD$72","v":0},{"$f":"округл!$AD$73","v":0},{"$f":"округл!$AD$74","v":0},{"$f":"округл!$AD$75","v":0},{"$f":"округл!$AD$76","v":0},{"$f":"округл!$AD$77","v":0},{"$f":"округл!$AD$78","v":0},{"$f":"округл!$AD$79","v":0},{"$f":"округл!$AD$80","v":0},{"$f":"округл!$AD$81","v":0},{"$f":"округл!$AD$82","v":0},{"$f":"округл!$AD$83","v":0},{"$f":"округл!$AD$84","v":0},{"$f":"округл!$AD$85","v":0},{"$f":"округл!$AD$86","v":0},{"$f":"округл!$AD$87","v":0},{"$f":"округл!$AD$88","v":0},{"$f":"округл!$AD$89","v":0},0,{"$f":"$AD$43","v":"01.03.2026"},"",{"$f":"VLOOKUP(AA32,'Часы пик'!$A$7:$B$60,2,0)","v":{"$error":"#N/A"}},{"$f":"IF($AD$45=\"\",$AD$44,$AD$45)","v":"выходной"}]
[30,{"$f":"округл!$AE$66","v":0},{"$f":"округл!$AE$67","v":0},{"$f":"округл!$AE$68","v":0},{"$f":"округл!$AE$69","v":0},{"$f":"округл!$AE$70","v":0},{"$f":"округл!$AE$71","v":0},{"$f":"округл!$AE$72","v":0},{"$f":"округл!$AE$73","v":0},{"$f":"округл!$AE$74","v":0},{"$f":"округл!$AE$75","v":0},{"$f":"округл!$AE$76","v":0},{"$f":"округл!$AE$77","v":0},{"$f":"округл!$AE$78","v":0},{"$f":"округл!$AE$79","v":0},{"$f":"округл!$AE$80","v":0},{"$f":"округл!$AE$81","v":0},{"$f":"округл!$AE$82","v":0},{"$f":"округл!$AE$83","v":0},{"$f":"округл!$AE$84","v":0},{"$f":"округл!$AE$85","v":0},{"$f":"округл!$AE$86","v":0},{"$f":"округл!$AE$87","v":0},{"$f":"округл!$AE$88","v":0},{"$f":"округл!$AE$89","v":0},0,{"$f":"$AE$43","v":"02.03.2026"},"",{"$f":"VLOOKUP(AA33,'Часы пик'!$A$7:$B$60,2,0)","v":{"$error":"#N/A"}},{"$f":"IF($AE$45=\"\",$AE$44,$AE$45)","v":"выходной"}]
[31,{"$f":"округл!$AF$66","v":0},{"$f":"округл!$AF$67","v":0},{"$f":"округл!$AF$68","v":0},{"$f":"округл!$AF$69","v":0},{"$f":"округл!$AF$70","v":0},{"$f":"округл!$AF$71","v":0},{"$f":"округл!$AF$72","v":0},{"$f":"округл!$AF$73","v":0},{"$f":"округл!$AF$74","v":0},{"$f":"округл!$AF$75","v":0},{"$f":"округл!$AF$76","v":0},{"$f":"округл!$AF$77","v":0},{"$f":"округл!$AF$78","v":0},{"$f":"округл!$AF$79","v":0},{"$f":"округл!$AF$80","v":0},{"$f":"округл!$AF$81","v":0},{"$f":"округл!$AF$82","v":0},{"$f":"округл!$AF$83","v":0},{"$f":"округл!$AF$84","v":0},{"$f":"округл!$AF$85","v":0},{"$f":"округл!$AF$86","v":0},{"$f":"округл!$AF$87","v":0},{"$f":"округл!$AF$88","v":0},{"$f":"округл!$AF$89","v":0},0,{"$f":"$AF$43","v":"03.03.2026"},"",{"$f":"VLOOKUP(AA34,'Часы пик'!$A$7:$B$60,2,0)","v":{"$error":"#N/A"}},{"$f":"IF($AF$45=\"\",$AF$44,$AF$45)","v":"выходной"}]
["ИТОГО",{"$f":"SUM(B4:B34)","v":0},{"$f":"SUM(C4:C34)","v":0},0,0,0,0,0,0,0,0,0,0,0,0,0,0,0,0,0,0,0,{"$f":"SUM(W4:W34)","v":0},0,0,{"$f":"SUM(Z4:Z34)","v":0},null,{"$f":"AVERAGE(AB4:AB34)","v":0}]
[]
[]
[null,null,null,null,null,null,null,null,null,null,null,null,null,null,null,null,"Итого электроэнергия за расчетный период, кВтч:",null,null,null,null,null,{"$f":"Z35","v":0}]
[null,null,null,null,null,null,null,null,null,null,null,null,null,null,null,null,"Итого мошность за расчетный период, кВт: ",null,null,null,null,null,{"$f":"ROUND(AB35,0)","v":0}]
[]
[]
["День",{"$f":"CONCATENATE(PROPER(TEXT((DATE(YEAR($H$1),MONTH($H$1),DAY($H$1)+0)),\"ДДДД\")))","v":"Воскресенье"},{"$f":"CONCATENATE(PROPER(TEXT((DATE(YEAR($H$1),MONTH($H$1),DAY($H$1)+1)),\"ДДДД\")))","v":"Понедельник"},{"$f":"CONCATENATE(PROPER(TEXT((DATE(YEAR($H$1),MONTH($H$1),DAY($H$1)+2)),\"ДДДД\")))","v":"Вторник"},{"$f":"CONCATENATE(PROPER(TEXT((DATE(YEAR($H$1),MONTH($H$1),DAY($H$1)+3)),\"ДДДД\")))","v":"Среда"},{"$f":"CONCATENATE(PROPER(TEXT((DATE(YEAR($H$1),MONTH($H$1),DAY($H$1)+4)),\"ДДДД\")))","v":"Четверг"},{"$f":"CONCATENATE(PROPER(TEXT((DATE(YEAR($H$1),MONTH($H$1),DAY($H$1)+5)),\"ДДДД\")))","v":"Пятница"},{"$f":"CONCATENATE(PROPER(TEXT((DATE(YEAR($H$1),MONTH($H$1),DAY($H$1)+6)),\"ДДДД\")))","v":"Суббота"},{"$f":"CONCATENATE(PROPER(TEXT((DATE(YEAR($H$1),MONTH($H$1),DAY($H$1)+7)),\"ДДДД\")))","v":"Воскресенье"},{"$f":"CONCATENATE(PROPER(TEXT((DATE(YEAR($H$1),MONTH($H$1),DAY($H$1)+8)),\"ДДДД\")))","v":"Понедельник"},{"$f":"CONCATENATE(PROPER(TEXT((DATE(YEAR($H$1),MONTH($H$1),DAY($H$1)+9)),\"ДДДД\")))","v":"Вторник"},{"$f":"CONCATENATE(PROPER(TEXT((DATE(YEAR($H$1),MONTH($H$1),DAY($H$1)+10)),\"ДДДД\")))","v":"Среда"},{"$f":"CONCATENATE(PROPER(TEXT((DATE(YEAR($H$1),MONTH($H$1),DAY($H$1)+11)),\"ДДДД\")))","v":"Четверг"},{"$f":"CONCATENATE(PROPER(TEXT((DATE(YEAR($H$1),MONTH($H$1),DAY($H$1)+12)),\"ДДДД\")))","v":"Пятница"},{"$f":"CONCATENATE(PROPER(TEXT((DATE(YEAR($H$1),MONTH($H$1),DAY($H$1)+13)),\"ДДДД\")))","v":"Суббота"},{"$f":"CONCATENATE(PROPER(TEXT((DATE(YEAR($H$1),MONTH($H$1),DAY($H$1)+14)),\"ДДДД\")))","v":"Воскресенье"},{"$f":"CONCATENATE(PROPER(TEXT((DATE(YEAR($H$1),MONTH($H$1),DAY($H$1)+15)),\"ДДДД\")))","v":"Понедельник"},{"$f":"CONCATENATE(PROPER(TEXT((DATE(YEAR($H$1),MONTH($H$1),DAY($H$1)+16)),\"ДДДД\")))","v":"Вторник"},{"$f":"CONCATENATE(PROPER(TEXT((DATE(YEAR($H$1),MONTH($H$1),DAY($H$1)+17)),\"ДДДД\")))","v":"Среда"},{"$f":"CONCATENATE(PROPER(TEXT((DATE(YEAR($H$1),MONTH($H$1),DAY($H$1)+18)),\"ДДДД\")))","v":"Четверг"},{"$f":"CONCATENATE(PROPER(TEXT((DATE(YEAR($H$1),MONTH($H$1),DAY($H$1)+19)),\"ДДДД\")))","v":"Пятница"},{"$f":"CONCATENATE(PROPER(TEXT((DATE(YEAR($H$1),MONTH($H$1),DAY($H$1)+20)),\"ДДДД\")))","v":"Суббота"},{"$f":"CONCATENATE(PROPER(TEXT((DATE(YEAR($H$1),MONTH($H$1),DAY($H$1)+21)),\"ДДДД\")))","v":"Воскресенье"},{"$f":"CONCATENATE(PROPER(TEXT((DATE(YEAR($H$1),MONTH($H$1),DAY($H$1)+22)),\"ДДДД\")))","v":"Понедельник"},{"$f":"CONCATENATE(PROPER(TEXT((DATE(YEAR($H$1),MONTH($H$1),DAY($H$1)+23)),\"ДДДД\")))","v":"Вторник"},{"$f":"CONCATENATE(PROPER(TEXT((DATE(YEAR($H$1),MONTH($H$1),DAY($H$1)+24)),\"ДДДД\")))","v":"Среда"},{"$f":"CONCATENATE(PROPER(TEXT((DATE(YEAR($H$1),MONTH($H$1),DAY($H$1)+25)),\"ДДДД\")))","v":"Четверг"},{"$f":"CONCATENATE(PROPER(TEXT((DATE(YEAR($H$1),MONTH($H$1),DAY($H$1)+26)),\"ДДДД\")))","v":"Пятница"},{"$f":"CONCATENATE(PROPER(TEXT((DATE(YEAR($H$1),MONTH($H$1),DAY($H$1)+27)),\"ДДДД\")))","v":"Суббота"},{"$f":"CONCATENATE(PROPER(TEXT((DATE(YEAR($H$1),MONTH($H$1),DAY($H$1)+28)),\"ДДДД\")))","v":"Воскресенье"},{"$f":"CONCATENATE(PROPER(TEXT((DATE(YEAR($H$1),MONTH($H$1),DAY($H$1)+29)),\"ДДДД\")))","v":"Понедельник"},{"$f":"CONCATENATE(PROPER(TEXT((DATE(YEAR($H$1),MONTH($H$1),DAY($H$1)+30)),\"ДДДД\")))","v":"Вторник"}]
["Дата",{"$f":"CONCATENATE(TEXT((DATE(YEAR($H$1),MONTH($H$1),DAY($H$1)+0)),\"ДД.ММ.ГГГГ\"))","v":"01.02.2026"},{"$f":"CONCATENATE(TEXT((DATE(YEAR($H$1),MONTH($H$1),DAY($H$1)+1)),\"ДД.ММ.ГГГГ\"))","v":"02.02.2026"},{"$f":"CONCATENATE(TEXT((DATE(YEAR($H$1),MONTH($H$1),DAY($H$1)+2)),\"ДД.ММ.ГГГГ\"))","v":"03.02.2026"},{"$f":"CONCATENATE(TEXT((DATE(YEAR($H$1),MONTH($H$1),DAY($H$1)+3)),\"ДД.ММ.ГГГГ\"))","v":"04.02.2026"},{"$f":"CONCATENATE(TEXT((DATE(YEAR($H$1),MONTH($H$1),DAY($H$1)+4)),\"ДД.ММ.ГГГГ\"))","v":"05.02.2026"},{"$f":"CONCATENATE(TEXT((DATE(YEAR($H$1),MONTH($H$1),DAY($H$1)+5)),\"ДД.ММ.ГГГГ\"))","v":"06.02.2026"},{"$f":"CONCATENATE(TEXT((DATE(YEAR($H$1),MONTH($H$1),DAY($H$1)+6)),\"ДД.ММ.ГГГГ\"))","v":"07.02.2026"},{"$f":"CONCATENATE(TEXT((DATE(YEAR($H$1),MONTH($H$1),DAY($H$1)+7)),\"ДД.ММ.ГГГГ\"))","v":"08.02.2026"},{"$f":"CONCATENATE(TEXT((DATE(YEAR($H$1),MONTH($H$1),DAY($H$1)+8)),\"ДД.ММ.ГГГГ\"))","v":"09.02.2026"},{"$f":"CONCATENATE(TEXT((DATE(YEAR($H$1),MONTH($H$1),DAY($H$1)+9)),\"ДД.ММ.ГГГГ\"))","v":"10.02.2026"},{"$f":"CONCATENATE(TEXT((DATE(YEAR($H$1),MONTH($H$1),DAY($H$1)+10)),\"ДД.ММ.ГГГГ\"))","v":"11.02.2026"},{"$f":"CONCATENATE(TEXT((DATE(YEAR($H$1),MONTH($H$1),DAY($H$1)+11)),\"ДД.ММ.ГГГГ\"))","v":"12.02.2026"},{"$f":"CONCATENATE(TEXT((DATE(YEAR($H$1),MONTH($H$1),DAY($H$1)+12)),\"ДД.ММ.ГГГГ\"))","v":"13.02.2026"},{"$f":"CONCATENATE(TEXT((DATE(YEAR($H$1),MONTH($H$1),DAY($H$1)+13)),\"ДД.ММ.ГГГГ\"))","v":"14.02.2026"},{"$f":"CONCATENATE(TEXT((DATE(YEAR($H$1),MONTH($H$1),DAY($H$1)+14)),\"ДД.ММ.ГГГГ\"))","v":"15.02.2026"},{"$f":"CONCATENATE(TEXT((DATE(YEAR($H$1),MONTH($H$1),DAY($H$1)+15)),\"ДД.ММ.ГГГГ\"))","v":"16.02.2026"},{"$f":"CONCATENATE(TEXT((DATE(YEAR($H$1),MONTH($H$1),DAY($H$1)+16)),\"ДД.ММ.ГГГГ\"))","v":"17.02.2026"},{"$f":"CONCATENATE(TEXT((DATE(YEAR($H$1),MONTH($H$1),DAY($H$1)+17)),\"ДД.ММ.ГГГГ\"))","v":"18.02.2026"},{"$f":"CONCATENATE(TEXT((DATE(YEAR($H$1),MONTH($H$1),DAY($H$1)+18)),\"ДД.ММ.ГГГГ\"))","v":"19.02.2026"},{"$f":"CONCATENATE(TEXT((DATE(YEAR($H$1),MONTH($H$1),DAY($H$1)+19)),\"ДД.ММ.ГГГГ\"))","v":"20.02.2026"},{"$f":"CONCATENATE(TEXT((DATE(YEAR($H$1),MONTH($H$1),DAY($H$1)+20)),\"ДД.ММ.ГГГГ\"))","v":"21.02.2026"},{"$f":"CONCATENATE(TEXT((DATE(YEAR($H$1),MONTH($H$1),DAY($H$1)+21)),\"ДД.ММ.ГГГГ\"))","v":"22.02.2026"},{"$f":"CONCATENATE(TEXT((DATE(YEAR($H$1),MONTH($H$1),DAY($H$1)+22)),\"ДД.ММ.ГГГГ\"))","v":"23.02.2026"},{"$f":"CONCATENATE(TEXT((DATE(YEAR($H$1),MONTH($H$1),DAY($H$1)+23)),\"ДД.ММ.ГГГГ\"))","v":"24.02.2026"},{"$f":"CONCATENATE(TEXT((DATE(YEAR($H$1),MONTH($H$1),DAY($H$1)+24)),\"ДД.ММ.ГГГГ\"))","v":"25.02.2026"},{"$f":"CONCATENATE(TEXT((DATE(YEAR($H$1),MONTH($H$1),DAY($H$1)+25)),\"ДД.ММ.ГГГГ\"))","v":"26.02.2026"},{"$f":"CONCATENATE(TEXT((DATE(YEAR($H$1),MONTH($H$1),DAY($H$1)+26)),\"ДД.ММ.ГГГГ\"))","v":"27.02.2026"},{"$f":"CONCATENATE(TEXT((DATE(YEAR($H$1),MONTH($H$1),DAY($H$1)+27)),\"ДД.ММ.ГГГГ\"))","v":"28.02.2026"},{"$f":"CONCATENATE(TEXT((DATE(YEAR($H$1),MONTH($H$1),DAY($H$1)+28)),\"ДД.ММ.ГГГГ\"))","v":"01.03.2026"},{"$f":"CONCATENATE(TEXT((DATE(YEAR($H$1),MONTH($H$1),DAY($H$1)+29)),\"ДД.ММ.ГГГГ\"))","v":"02.03.2026"},{"$f":"CONCATENATE(TEXT((DATE(YEAR($H$1),MONTH($H$1),DAY($H$1)+30)),\"ДД.ММ.ГГГГ\"))","v":"03.03.2026"}]
["В/Р",{"$f":"IF(B42=\"Понедельник\",\"рабочий\",IF(B42=\"Вторник\",\"рабочий\",IF(B42=\"Среда\",\"рабочий\",IF(B42=\"Четверг\",\"рабочий\",IF(B42=\"Пятница\",\"рабочий\",IF(B42=\"Суббота\",\"выходной\",IF(B42=\"Воскресенье\",\"выходной\",0)))))))","v":"выходной"},{"$f":"IF(C42=\"Понедельник\",\"рабочий\",IF(C42=\"Вторник\",\"рабочий\",IF(C42=\"Среда\",\"рабочий\",IF(C42=\"Четверг\",\"рабочий\",IF(C42=\"Пятница\",\"рабочий\",IF(C42=\"Суббота\",\"выходной\",IF(C42=\"Воскресенье\",\"выходной\",0)))))))","v":"рабочий"},"рабочий","рабочий","рабочий","рабочий","выходной","выходной","рабочий","рабочий","рабочий","рабочий","рабочий","выходной","выходной","рабочий","рабочий","рабочий","рабочий","рабочий","выходной","выходной","рабочий","рабочий","рабочий","рабочий","рабочий","выходной","выходной","рабочий","рабочий"]
["вых/раб",null,null,null,null,null,null,null,null,null,null,null,null,null,null,null,null,null,null,null,null,null,null,"выходной",null,null,null,null,null,"выходной","выходной","выходной"]
[]
["рабочий"]
["выходной"]

{"sheet":"цены","index":3,"n_rows":682,"n_cols":7,"rows_kept":682,"cut":false,"hidden":true,"merged":[[673,0,673,1],[675,0,676,1],[675,2,676,2],[675,3,676,3],[675,4,676,4],[681,0,681,1],[675,5,676,5],[675,6,676,6],[678,0,678,1],[679,0,679,1],[680,0,680,1]]}
["Дата","Час","Объём (КВтч)","Цена руб/МВтч","К*Цена руб/МВтч","Стоимость (руб.)","К*Стоимость (руб.)"]
[{"$f":"мощность!$AA$4","v":"01.02.2026"},0,{"$f":"мощность!B4","v":0},1971.28,{"$f":"1*D2","v":1971.28},{"$f":"ROUND(C2*D2/1000,2)","v":0},{"$f":"ROUND(C2*E2/1000,2)","v":0}]
[{"$f":"мощность!$AA$4","v":"01.02.2026"},1,{"$f":"мощность!C4","v":0},1901.27,{"$f":"1*D3","v":1901.27},{"$f":"ROUND(C3*D3/1000,2)","v":0},{"$f":"ROUND(C3*E3/1000,2)","v":0}]
[{"$f":"мощность!$AA$4","v":"01.02.2026"},2,{"$f":"мощность!D4","v":0},1751.18,1751.18,0,0]
[{"$f":"мощность!$AA$4","v":"01.02.2026"},3,{"$f":"мощность!E4","v":0},1702.87,1702.87,0,0]
[{"$f":"мощность!$AA$4","v":"01.02.2026"},4,{"$f":"мощность!F4","v":0},1754.27,1754.27,0,0]
[{"$f":"мощность!$AA$4","v":"01.02.2026"},5,{"$f":"мощность!G4","v":0},1855.32,1855.32,{"$f":"ROUND(C7*D7/1000,2)","v":0},0]
[{"$f":"мощность!$AA$4","v":"01.02.2026"},6,{"$f":"мощность!H4","v":0},1902.34,1902.34,0,{"$f":"ROUND(C8*E8/1000,2)","v":0}]
[{"$f":"мощность!$AA$4","v":"01.02.2026"},7,{"$f":"мощность!I4","v":0},2012.94,2012.94,0,0]
[{"$f":"мощность!$AA$4","v":"01.02.2026"},8,{"$f":"мощность!J4","v":0},2253.2800000000002,2253.2800000000002,0,{"$f":"ROUND(C10*E10/1000,2)","v":0}]
[{"$f":"мощность!$AA$4","v":"01.02.2026"},9,{"$f":"мощность!K4","v":0},2548.34,2548.34,0,{"$f":"ROUND(C11*E11/1000,2)","v":0}]
[{"$f":"мощность!$AA$4","v":"01.02.2026"},10,{"$f":"мощность!L4","v":0},2632.36,2632.36,0,0]
[{"$f":"мощность!$AA$4","v":"01.02.2026"},11,{"$f":"мощность!M4","v":0},2668.84,2668.84,0,0]
[{"$f":"мощность!$AA$4","v":"01.02.2026"},12,{"$f":"мощность!N4","v":0},2661.79,2661.79,0,0]
[{"$f":"мощность!$AA$4","v":"01.02.2026"},13,{"$f":"мощность!O4","v":0},2665.76,2665.76,0,0]
[{"$f":"мощность!$AA$4","v":"01.02.2026"},14,{"$f":"мощность!P4","v":0},2621.12,2621.12,0,0]
[{"$f":"мощность!$AA$4","v":"01.02.2026"},15,{"$f":"мощность!Q4","v":0},2594.8200000000002,2594.8200000000002,0,0]
[{"$f":"мощность!$AA$4","v":"01.02.2026"},16,{"$f":"мощность!R4","v":0},2607.5300000000002,2607.5300000000002,0,0]
[{"$f":"мощность!$AA$4","v":"01.02.2026"},17,{"$f":"мощность!S4","v":0},2683.16,2683.16,0,0]
[{"$f":"мощность!$AA$4","v":"01.02.2026"},18,{"$f":"мощность!T4","v":0},2740.27,2740.27,0,0]
[{"$f":"мощность!$AA$4","v":"01.02.2026"},19,{"$f":"мощность!U4","v":0},2608.4,2608.4,0,0]
[{"$f":"мощность!$AA$4","v":"01.02.2026"},20,{"$f":"мощность!V4","v":0},2599,2599,0,0]
[{"$f":"мощность!$AA$4","v":"01.02.2026"},21,{"$f":"мощность!W4","v":0},2494.91,2494.91,0,0]
[{"$f":"мощность!$AA$4","v":"01.02.2026"},22,{"$f":"мощность!X4","v":0},2221.54,2221.54,0,0]
[{"$f":"мощность!$AA$4","v":"01.02.2026"},23,{"$f":"мощность!Y4","v":0},2021.71,2021.71,0,0]
[{"$f":"мощность!$AA$5","v":"02.02.2026"},0,{"$f":"мощность!B5","v":0},1915.81,1915.81,0,0]
[{"$f":"мощность!$AA$5","v":"02.02.2026"},1,{"$f":"мощность!C5","v":0},1859.32,1859.32,0,0]
[{"$f":"мощность!$AA$5","v":"02.02.2026"},2,{"$f":"мощность!D5","v":0},1638.82,1638.82,0,0]
[{"$f":"мощность!$AA$5","v":"02.02.2026"},3,{"$f":"мощность!E5","v":0},1612.51,1612.51,0,0]
[{"$f":"мощность!$AA$5","v":"02.02.2026"},4,{"$f":"мощность!F5","v":0},1711.38,1711.38,0,0]
[{"$f":"мощность!$AA$5","v":"02.02.2026"},5,{"$f":"мощность!G5","v":0},1914.9,1914.9,0,0]
[{"$f":"мощность!$AA$5","v":"02.02.2026"},6,{"$f":"мощность!H5","v":0},2069.64,2069.64,0,0]
[{"$f":"мощность!$AA$5","v":"02.02.2026"},7,{"$f":"мощность!I5","v":0},2297.42,2297.42,0,{"$f":"ROUND(C33*E33/1000,2)","v":0}]
[{"$f":"мощность!$AA$5","v":"02.02.2026"},8,{"$f":"мощность!J5","v":0},2318.6799999999998,2318.6799999999998,0,0]
[{"$f":"мощность!$AA$5","v":"02.02.2026"},9,{"$f":"мощность!K5","v":0},2345.39,2345.39,0,0]
[{"$f":"мощность!$AA$5","v":"02.02.2026"},10,{"$f":"мощность!L5","v":0},2447.8000000000002,2447.8000000000002,0,0]
[{"$f":"мощность!$AA$5","v":"02.02.2026"},11,{"$f":"мощность!M5","v":0},2537.9299999999998,2537.9299999999998,0,0]
[{"$f":"мощность!$AA$5","v":"02.02.2026"},12,{"$f":"мощность!N5","v":0},2517.23,2517.23,0,0]
[{"$f":"мощность!$AA$5","v":"02.02.2026"},13,{"$f":"мощность!O5","v":0},2531.67,2531.67,0,0]
[{"$f":"мощность!$AA$5","v":"02.02.2026"},14,{"$f":"мощность!P5","v":0},2375.36,2375.36,0,0]
[{"$f":"мощность!$AA$5","v":"02.02.2026"},15,{"$f":"мощность!Q5","v":0},2350.71,2350.71,0,0]
[{"$f":"мощность!$AA$5","v":"02.02.2026"},16,{"$f":"мощность!R5","v":0},2337.69,2337.69,0,0]
[{"$f":"мощность!$AA$5","v":"02.02.2026"},17,{"$f":"мощность!S5","v":0},2345.4899999999998,2345.4899999999998,0,0]
[{"$f":"мощность!$AA$5","v":"02.02.2026"},18,{"$f":"мощность!T5","v":0},2363.52,2363.52,0,0]
[{"$f":"мощность!$AA$5","v":"02.02.2026"},19,{"$f":"мощность!U5","v":0},2361.89,2361.89,0,0]
[{"$f":"мощность!$AA$5","v":"02.02.2026"},20,{"$f":"мощность!V5","v":0},2324.21,2324.21,0,0]
[{"$f":"мощность!$AA$5","v":"02.02.2026"},21,{"$f":"мощность!W5","v":0},2265.8000000000002,2265.8000000000002,0,0]
[{"$f":"мощность!$AA$5","v":"02.02.2026"},22,{"$f":"мощность!X5","v":0},2207.46,2207.46,0,0]
[{"$f":"мощность!$AA$5","v":"02.02.2026"},23,{"$f":"мощность!Y5","v":0},1918.43,1918.43,0,0]
[{"$f":"мощность!$AA$6","v":"03.02.2026"},0,{"$f":"мощность!B6","v":0},1910.25,1910.25,0,0]
[{"$f":"мощность!$AA$6","v":"03.02.2026"},1,{"$f":"мощность!C6","v":0},1797.3,1797.3,0,0]
[{"$f":"мощность!$AA$6","v":"03.02.2026"},2,{"$f":"мощность!D6","v":0},1590.16,1590.16,0,0]
[{"$f":"мощность!$AA$6","v":"03.02.2026"},3,{"$f":"мощность!E6","v":0},1558.88,1558.88,0,0]
[{"$f":"мощность!$AA$6","v":"03.02.2026"},4,{"$f":"мощность!F6","v":0},1594.36,1594.36,0,0]
[{"$f":"мощность!$AA$6","v":"03.02.2026"},5,{"$f":"мощность!G6","v":0},1913.67,1913.67,0,0]
[{"$f":"мощность!$AA$6","v":"03.02.2026"},6,{"$f":"мощность!H6","v":0},2018.35,2018.35,0,0]
[{"$f":"мощность!$AA$6","v":"03.02.2026"},7,{"$f":"мощность!I6","v":0},2245.75,2245.75,0,0]
[{"$f":"мощность!$AA$6","v":"03.02.2026"},8,{"$f":"мощность!J6","v":0},2318.16,2318.16,0,0]
[{"$f":"мощность!$AA$6","v":"03.02.2026"},9,{"$f":"мощность!K6","v":0},2370.25,2370.25,0,0]
[{"$f":"мощность!$AA$6","v":"03.02.2026"},10,{"$f":"мощность!L6","v":0},2496.46,2496.46,0,0]
[{"$f":"мощность!$AA$6","v":"03.02.2026"},11,{"$f":"мощность!M6","v":0},2610.87,2610.87,0,0]
[{"$f":"мощность!$AA$6","v":"03.02.2026"},12,{"$f":"мощность!N6","v":0},2513.1999999999998,2513.1999999999998,0,0]
[{"$f":"мощность!$AA$6","v":"03.02.2026"},13,{"$f":"мощность!O6","v":0},2522.54,2522.54,0,0]
[{"$f":"мощность!$AA$6","v":"03.02.2026"},14,{"$f":"мощность!P6","v":0},2501.94,2501.94,0,0]
[{"$f":"мощность!$AA$6","v":"03.02.2026"},15,{"$f":"мощность!Q6","v":0},2447.1,2447.1,0,0]
[{"$f":"мощность!$AA$6","v":"03.02.2026"},16,{"$f":"мощность!R6","v":0},2425.13,2425.13,0,0]
[{"$f":"мощность!$AA$6","v":"03.02.2026"},17,{"$f":"мощность!S6","v":0},2441.1,{"$f":"1*D67","v":2441.1},{"$f":"ROUND(C67*D67/1000,2)","v":0},{"$f":"ROUND(C67*E67/1000,2)","v":0}]
[{"$f":"мощность!$AA$6","v":"03.02.2026"},18,{"$f":"мощность!T6","v":0},2495.6999999999998,2495.6999999999998,0,0]
[{"$f":"мощность!$AA$6","v":"03.02.2026"},19,{"$f":"мощность!U6","v":0},2503.46,2503.46,0,0]
[{"$f":"мощность!$AA$6","v":"03.02.2026"},20,{"$f":"мощность!V6","v":0},2405.91,2405.91,0,0]
[{"$f":"мощность!$AA$6","v":"03.02.2026"},21,{"$f":"мощность!W6","v":0},2317.09,2317.09,0,0]
[{"$f":"мощность!$AA$6","v":"03.02.2026"},22,{"$f":"мощность!X6","v":0},2236.71,2236.71,0,0]
[{"$f":"мощность!$AA$6","v":"03.02.2026"},23,{"$f":"мощность!Y6","v":0},2015.79,2015.79,0,0]
[{"$f":"мощность!$AA$7","v":"04.02.2026"},0,{"$f":"мощность!B7","v":0},1899.32,1899.32,0,0]
[{"$f":"мощность!$AA$7","v":"04.02.2026"},1,{"$f":"мощность!C7","v":0},1679.15,1679.15,0,0]
[{"$f":"мощность!$AA$7","v":"04.02.2026"},2,{"$f":"мощность!D7","v":0},1601.42,1601.42,0,0]
[{"$f":"мощность!$AA$7","v":"04.02.2026"},3,{"$f":"мощность!E7","v":0},1592.13,1592.13,0,0]
[{"$f":"мощность!$AA$7","v":"04.02.2026"},4,{"$f":"мощность!F7","v":0},1695.24,1695.24,0,0]
[{"$f":"мощность!$AA$7","v":"04.02.2026"},5,{"$f":"мощность!G7","v":0},1935.33,1935.33,0,0]
[{"$f":"мощность!$AA$7","v":"04.02.2026"},6,{"$f":"мощность!H7","v":0},2073.4499999999998,2073.4499999999998,0,0]
[{"$f":"мощность!$AA$7","v":"04.02.2026"},7,{"$f":"мощность!I7","v":0},2274.44,2274.44,0,0]
[{"$f":"мощность!$AA$7","v":"04.02.2026"},8,{"$f":"мощность!J7","v":0},2497.29,2497.29,0,0]
[{"$f":"мощность!$AA$7","v":"04.02.2026"},9,{"$f":"мощность!K7","v":0},2558.0100000000002,2558.0100000000002,0,0]
[{"$f":"мощность!$AA$7","v":"04.02.2026"},10,{"$f":"мощность!L7","v":0},2573.02,2573.02,0,0]
[{"$f":"мощность!$AA$7","v":"04.02.2026"},11,{"$f":"мощность!M7","v":0},2638.23,2638.23,0,{"$f":"ROUND(C85*E85/1000,2)","v":0}]
[{"$f":"мощность!$AA$7","v":"04.02.2026"},12,{"$f":"мощность!N7","v":0},2595.88,2595.88,0,0]
[{"$f":"мощность!$AA$7","v":"04.02.2026"},13,{"$f":"мощность!O7","v":0},2604.13,2604.13,0,0]
[{"$f":"мощность!$AA$7","v":"04.02.2026"},14,{"$f":"мощность!P7","v":0},2600.81,2600.81,0,0]
[{"$f":"мощность!$AA$7","v":"04.02.2026"},15,{"$f":"мощность!Q7","v":0},2543.15,2543.15,0,0]
[{"$f":"мощность!$AA$7","v":"04.02.2026"},16,{"$f":"мощность!R7","v":0},2523.67,2523.67,0,0]
[{"$f":"мощность!$AA$7","v":"04.02.2026"},17,{"$f":"мощность!S7","v":0},2532,2532,0,0]
[{"$f":"мощность!$AA$7","v":"04.02.2026"},18,{"$f":"мощность!T7","v":0},2589.48,2589.48,0,0]
[{"$f":"мощность!$AA$7","v":"04.02.2026"},19,{"$f":"мощность!U7","v":0},2590.7199999999998,2590.7199999999998,0,0]
[{"$f":"мощность!$AA$7","v":"04.02.2026"},20,{"$f":"мощность!V7","v":0},2526.91,2526.91,0,0]
[{"$f":"мощность!$AA$7","v":"04.02.2026"},21,{"$f":"мощность!W7","v":0},2328.06,2328.06,0,0]
[{"$f":"мощность!$AA$7","v":"04.02.2026"},22,{"$f":"мощность!X7","v":0},2240.19,2240.19,0,0]
[{"$f":"мощность!$AA$7","v":"04.02.2026"},23,{"$f":"мощность!Y7","v":0},2028.02,2028.02,0,0]
[{"$f":"мощность!$AA$8","v":"05.02.2026"},0,{"$f":"мощность!B8","v":0},1943.4,1943.4,0,0]
[{"$f":"мощность!$AA$8","v":"05.02.2026"},1,{"$f":"мощность!C8","v":0},1863.06,1863.06,0,0]
[{"$f":"мощность!$AA$8","v":"05.02.2026"},2,{"$f":"мощность!D8","v":0},1635.11,1635.11,0,0]
[{"$f":"мощность!$AA$8","v":"05.02.2026"},3,{"$f":"мощность!E8","v":0},1602.2,1602.2,0,0]
[{"$f":"мощность!$AA$8","v":"05.02.2026"},4,{"$f":"мощность!F8","v":0},1743.3,1743.3,0,0]
[{"$f":"мощность!$AA$8","v":"05.02.2026"},5,{"$f":"мощность!G8","v":0},1944.89,1944.89,0,0]
[{"$f":"мощность!$AA$8","v":"05.02.2026"},6,{"$f":"мощность!H8","v":0},2214.15,2214.15,0,0]
[{"$f":"мощность!$AA$8","v":"05.02.2026"},7,{"$f":"мощность!I8","v":0},2360.75,2360.75,0,0]
[{"$f":"мощность!$AA$8","v":"05.02.2026"},8,{"$f":"мощность!J8","v":0},2527.73,2527.73,0,0]
[{"$f":"мощность!$AA$8","v":"05.02.2026"},9,{"$f":"мощность!K8","v":0},2580.64,2580.64,0,0]
[{"$f":"мощность!$AA$8","v":"05.02.2026"},10,{"$f":"мощность!L8","v":0},2593.06,2593.06,0,0]
[{"$f":"мощность!$AA$8","v":"05.02.2026"},11,{"$f":"мощность!M8","v":0},2664.81,2664.81,0,0]
[{"$f":"мощность!$AA$8","v":"05.02.2026"},12,{"$f":"мощность!N8","v":0},2592.29,2592.29,0,0]
[{"$f":"мощность!$AA$8","v":"05.02.2026"},13,{"$f":"мощность!O8","v":0},2619.06,2619.06,0,0]
[{"$f":"мощность!$AA$8","v":"05.02.2026"},14,{"$f":"мощность!P8","v":0},2601.09,2601.09,0,0]
[{"$f":"мощность!$AA$8","v":"05.02.2026"},15,{"$f":"мощность!Q8","v":0},2566.09,2566.09,0,0]
[{"$f":"мощность!$AA$8","v":"05.02.2026"},16,{"$f":"мощность!R8","v":0},2535.71,2535.71,0,0]
[{"$f":"мощность!$AA$8","v":"05.02.2026"},17,{"$f":"мощность!S8","v":0},2554.7800000000002,2554.7800000000002,0,0]
[{"$f":"мощность!$AA$8","v":"05.02.2026"},18,{"$f":"мощность!T8","v":0},2606.64,2606.64,0,0]
[{"$f":"мощность!$AA$8","v":"05.02.2026"},19,{"$f":"мощность!U8","v":0},2605.39,2605.39,0,0]
[{"$f":"мощность!$AA$8","v":"05.02.2026"},20,{"$f":"мощность!V8","v":0},2546.4299999999998,2546.4299999999998,0,0]
[{"$f":"мощность!$AA$8","v":"05.02.2026"},21,{"$f":"мощность!W8","v":0},2436.5300000000002,2436.5300000000002,0,0]
[{"$f":"мощность!$AA$8","v":"05.02.2026"},22,{"$f":"мощность!X8","v":0},2316.4,2316.4,0,0]
[{"$f":"мощность!$AA$8","v":"05.02.2026"},23,{"$f":"мощность!Y8","v":0},2206.0300000000002,2206.0300000000002,0,0]
[{"$f":"мощность!$AA$9","v":"06.02.2026"},0,{"$f":"мощность!B9","v":0},1936.79,1936.79,0,0]
[{"$f":"мощность!$AA$9","v":"06.02.2026"},1,{"$f":"мощность!C9","v":0},1829.71,1829.71,0,0]
[{"$f":"мощность!$AA$9","v":"06.02.2026"},2,{"$f":"мощность!D9","v":0},1616.9,1616.9,0,0]
[{"$f":"мощность!$AA$9","v":"06.02.2026"},3,{"$f":"мощность!E9","v":0},1584.63,1584.63,0,0]
[{"$f":"мощность!$AA$9","v":"06.02.2026"},4,{"$f":"мощность!F9","v":0},1696.61,1696.61,0,0]
[{"$f":"мощность!$AA$9","v":"06.02.2026"},5,{"$f":"мощность!G9","v":0},1923.18,1923.18,0,0]
[{"$f":"мощность!$AA$9","v":"06.02.2026"},6,{"$f":"мощность!H9","v":0},2221.29,2221.29,0,0]
[{"$f":"мощность!$AA$9","v":"06.02.2026"},7,{"$f":"мощность!I9","v":0},2396.58,2396.58,0,0]
[{"$f":"мощность!$AA$9","v":"06.02.2026"},8,{"$f":"мощность!J9","v":0},2548.54,2548.54,0,0]
[{"$f":"мощность!$AA$9","v":"06.02.2026"},9,{"$f":"мощность!K9","v":0},2558.85,{"$f":"1*D131","v":2558.85},{"$f":"ROUND(C131*D131/1000,2)","v":0},{"$f":"ROUND(C131*E131/1000,2)","v":0}]
[{"$f":"мощность!$AA$9","v":"06.02.2026"},10,{"$f":"мощность!L9","v":0},2571.64,2571.64,0,0]
[{"$f":"мощность!$AA$9","v":"06.02.2026"},11,{"$f":"мощность!M9","v":0},2678.02,2678.02,0,0]
[{"$f":"мощность!$AA$9","v":"06.02.2026"},12,{"$f":"мощность!N9","v":0},2638.47,2638.47,0,0]
[{"$f":"мощность!$AA$9","v":"06.02.2026"},13,{"$f":"мощность!O9","v":0},2635.27,2635.27,0,0]
[{"$f":"мощность!$AA$9","v":"06.02.2026"},14,{"$f":"мощность!P9","v":0},2622.41,2622.41,0,0]
[{"$f":"мощность!$AA$9","v":"06.02.2026"},15,{"$f":"мощность!Q9","v":0},2578.0100000000002,2578.0100000000002,0,0]
[{"$f":"мощность!$AA$9","v":"06.02.2026"},16,{"$f":"мощность!R9","v":0},2550.58,2550.58,0,0]
[{"$f":"мощность!$AA$9","v":"06.02.2026"},17,{"$f":"мощность!S9","v":0},2541.42,2541.42,0,0]
[{"$f":"мощность!$AA$9","v":"06.02.2026"},18,{"$f":"мощность!T9","v":0},2600.0500000000002,2600.0500000000002,0,0]
[{"$f":"мощность!$AA$9","v":"06.02.2026"},19,{"$f":"мощность!U9","v":0},2598.7800000000002,2598.7800000000002,0,0]
[{"$f":"мощность!$AA$9","v":"06.02.2026"},20,{"$f":"мощность!V9","v":0},2578.56,2578.56,0,0]
[{"$f":"мощность!$AA$9","v":"06.02.2026"},21,{"$f":"мощность!W9","v":0},2487.41,2487.41,0,0]
[{"$f":"мощность!$AA$9","v":"06.02.2026"},22,{"$f":"мощность!X9","v":0},2354.48,2354.48,0,0]
[{"$f":"мощность!$AA$9","v":"06.02.2026"},23,{"$f":"мощность!Y9","v":0},2161.0700000000002,2161.0700000000002,0,0]
[{"$f":"мощность!$AA$10","v":"07.02.2026"},0,{"$f":"мощность!B10","v":0},1927.51,1927.51,0,0]
[{"$f":"мощность!$AA$10","v":"07.02.2026"},1,{"$f":"мощность!C10","v":0},1878.53,1878.53,0,0]
[{"$f":"мощность!$AA$10","v":"07.02.2026"},2,{"$f":"мощность!D10","v":0},1717.76,1717.76,0,0]
[{"$f":"мощность!$AA$10","v":"07.02.2026"},3,{"$f":"мощность!E10","v":0},1650.24,1650.24,0,0]
[{"$f":"мощность!$AA$10","v":"07.02.2026"},4,{"$f":"мощность!F10","v":0},1694.54,1694.54,0,0]
[{"$f":"мощность!$AA$10","v":"07.02.2026"},5,{"$f":"мощность!G10","v":0},1860.04,1860.04,0,0]
[{"$f":"мощность!$AA$10","v":"07.02.2026"},6,{"$f":"мощность!H10","v":0},1904,1904,0,0]
[{"$f":"мощность!$AA$10","v":"07.02.2026"},7,{"$f":"мощность!I10","v":0},2215.54,2215.54,0,0]
[{"$f":"мощность!$AA$10","v":"07.02.2026"},8,{"$f":"мощность!J10","v":0},2397.41,2397.41,0,0]
[{"$f":"мощность!$AA$10","v":"07.02.2026"},9,{"$f":"мощность!K10","v":0},2599.5300000000002,2599.5300000000002,0,0]
[{"$f":"мощность!$AA$10","v":"07.02.2026"},10,{"$f":"мощность!L10","v":0},2680.9,2680.9,0,0]
[{"$f":"мощность!$AA$10","v":"07.02.2026"},11,{"$f":"мощность!M10","v":0},2717.91,2717.91,0,0]
[{"$f":"мощность!$AA$10","v":"07.02.2026"},12,{"$f":"мощность!N10","v":0},2707.31,2707.31,0,0]
[{"$f":"мощность!$AA$10","v":"07.02.2026"},13,{"$f":"мощность!O10","v":0},2692.57,2692.57,0,0]
[{"$f":"мощность!$AA$10","v":"07.02.2026"},14,{"$f":"мощность!P10","v":0},2642.52,2642.52,0,0]
[{"$f":"мощность!$AA$10","v":"07.02.2026"},15,{"$f":"мощность!Q10","v":0},2631.41,2631.41,0,0]
[{"$f":"мощность!$AA$10","v":"07.02.2026"},16,{"$f":"мощность!R10","v":0},2634.57,2634.57,0,0]
[{"$f":"мощность!$AA$10","v":"07.02.2026"},17,{"$f":"мощность!S10","v":0},2675.1,2675.1,0,0]
[{"$f":"мощность!$AA$10","v":"07.02.2026"},18,{"$f":"мощность!T10","v":0},2730.35,2730.35,0,0]
[{"$f":"мощность!$AA$10","v":"07.02.2026"},19,{"$f":"мощность!U10","v":0},2684.17,2684.17,0,0]
[{"$f":"мощность!$AA$10","v":"07.02.2026"},20,{"$f":"мощность!V10","v":0},2654.18,2654.18,0,0]
[{"$f":"мощность!$AA$10","v":"07.02.2026"},21,{"$f":"мощность!W10","v":0},2453.04,2453.04,0,0]
[{"$f":"мощность!$AA$10","v":"07.02.2026"},22,{"$f":"мощность!X10","v":0},2310.73,2310.73,0,0]
[{"$f":"мощность!$AA$10","v":"07.02.2026"},23,{"$f":"мощность!Y10","v":0},2087.8000000000002,2087.8000000000002,0,0]
[{"$f":"мощность!$AA$11","v":"08.02.2026"},0,{"$f":"мощность!B11","v":0},1996.57,1996.57,0,0]
[{"$f":"мощность!$AA$11","v":"08.02.2026"},1,{"$f":"мощность!C11","v":0},1904.72,1904.72,0,0]
[{"$f":"мощность!$AA$11","v":"08.02.2026"},2,{"$f":"мощность!D11","v":0},1739.4,1739.4,0,0]
[{"$f":"мощность!$AA$11","v":"08.02.2026"},3,{"$f":"мощность!E11","v":0},1708.26,1708.26,0,0]
[{"$f":"мощность!$AA$11","v":"08.02.2026"},4,{"$f":"мощность!F11","v":0},1733.11,1733.11,0,0]
[{"$f":"мощность!$AA$11","v":"08.02.2026"},5,{"$f":"мощность!G11","v":0},1875.31,1875.31,0,0]
[{"$f":"мощность!$AA$11","v":"08.02.2026"},6,{"$f":"мощность!H11","v":0},1889.23,1889.23,0,0]
[{"$f":"мощность!$AA$11","v":"08.02.2026"},7,{"$f":"мощность!I11","v":0},1950.33,1950.33,0,0]
[{"$f":"мощность!$AA$11","v":"08.02.2026"},8,{"$f":"мощность!J11","v":0},2233.91,2233.91,0,0]
[{"$f":"мощность!$AA$11","v":"08.02.2026"},9,{"$f":"мощность!K11","v":0},2369.1,2369.1,0,0]
[{"$f":"мощность!$AA$11","v":"08.02.2026"},10,{"$f":"мощность!L11","v":0},2464.41,2464.41,0,0]
[{"$f":"мощность!$AA$11","v":"08.02.2026"},11,{"$f":"мощность!M11","v":0},2498.11,2498.11,0,0]
[{"$f":"мощность!$AA$11","v":"08.02.2026"},12,{"$f":"мощность!N11","v":0},2496.13,2496.13,0,0]
[{"$f":"мощность!$AA$11","v":"08.02.2026"},13,{"$f":"мощность!O11","v":0},2488.17,2488.17,0,0]
[{"$f":"мощность!$AA$11","v":"08.02.2026"},14,{"$f":"мощность!P11","v":0},2485.75,2485.75,0,0]
[{"$f":"мощность!$AA$11","v":"08.02.2026"},15,{"$f":"мощность!Q11","v":0},2446.56,2446.56,0,0]
[{"$f":"мощность!$AA$11","v":"08.02.2026"},16,{"$f":"мощность!R11","v":0},2442.06,2442.06,0,0]
[{"$f":"мощность!$AA$11","v":"08.02.2026"},17,{"$f":"мощность!S11","v":0},2471.69,2471.69,0,0]
[{"$f":"мощность!$AA$11","v":"08.02.2026"},18,{"$f":"мощность!T11","v":0},2501.14,2501.14,0,0]
[{"$f":"мощность!$AA$11","v":"08.02.2026"},19,{"$f":"мощность!U11","v":0},2520.44,2520.44,0,0]
[{"$f":"мощность!$AA$11","v":"08.02.2026"},20,{"$f":"мощность!V11","v":0},2532.81,2532.81,0,0]
[{"$f":"мощность!$AA$11","v":"08.02.2026"},21,{"$f":"мощность!W11","v":0},2401.73,2401.73,0,0]
[{"$f":"мощность!$AA$11","v":"08.02.2026"},22,{"$f":"мощность!X11","v":0},2267.77,2267.77,0,0]
[{"$f":"мощность!$AA$11","v":"08.02.2026"},23,{"$f":"мощность!Y11","v":0},2045.35,2045.35,0,0]
[{"$f":"мощность!$AA$12","v":"09.02.2026"},0,{"$f":"мощность!B12","v":0},1831.38,1831.38,0,0]
[{"$f":"мощность!$AA$12","v":"09.02.2026"},1,{"$f":"мощность!C12","v":0},1623.52,{"$f":"1*D195","v":1623.52},{"$f":"ROUND(C195*D195/1000,2)","v":0},{"$f":"ROUND(C195*E195/1000,2)","v":0}]
[{"$f":"мощность!$AA$12","v":"09.02.2026"},2,{"$f":"мощность!D12","v":0},1560.64,1560.64,0,0]
[{"$f":"мощность!$AA$12","v":"09.02.2026"},3,{"$f":"мощность!E12","v":0},1546.67,1546.67,0,0]
[{"$f":"мощность!$AA$12","v":"09.02.2026"},4,{"$f":"мощность!F12","v":0},1618.93,1618.93,0,0]
[{"$f":"мощность!$AA$12","v":"09.02.2026"},5,{"$f":"мощность!G12","v":0},1831.6,1831.6,0,0]
[{"$f":"мощность!$AA$12","v":"09.02.2026"},6,{"$f":"мощность!H12","v":0},2118.83,2118.83,0,0]
[{"$f":"мощность!$AA$12","v":"09.02.2026"},7,{"$f":"мощность!I12","v":0},2336.6,2336.6,0,0]
[{"$f":"мощность!$AA$12","v":"09.02.2026"},8,{"$f":"мощность!J12","v":0},2470.04,2470.04,0,0]
[{"$f":"мощность!$AA$12","v":"09.02.2026"},9,{"$f":"мощность!K12","v":0},2537.91,2537.91,0,0]
[{"$f":"мощность!$AA$12","v":"09.02.2026"},10,{"$f":"мощность!L12","v":0},2560.2800000000002,2560.2800000000002,0,0]
[{"$f":"мощность!$AA$12","v":"09.02.2026"},11,{"$f":"мощность!M12","v":0},2605.42,2605.42,0,0]
[{"$f":"мощность!$AA$12","v":"09.02.2026"},12,{"$f":"мощность!N12","v":0},2585,2585,0,0]
[{"$f":"мощность!$AA$12","v":"09.02.2026"},13,{"$f":"мощность!O12","v":0},2586.8000000000002,2586.8000000000002,0,0]
[{"$f":"мощность!$AA$12","v":"09.02.2026"},14,{"$f":"мощность!P12","v":0},2575.85,2575.85,0,0]
[{"$f":"мощность!$AA$12","v":"09.02.2026"},15,{"$f":"мощность!Q12","v":0},2539.9499999999998,2539.9499999999998,0,0]
[{"$f":"мощность!$AA$12","v":"09.02.2026"},16,{"$f":"мощность!R12","v":0},2510.7399999999998,2510.7399999999998,0,0]
[{"$f":"мощность!$AA$12","v":"09.02.2026"},17,{"$f":"мощность!S12","v":0},2519.2600000000002,2519.2600000000002,0,0]
[{"$f":"мощность!$AA$12","v":"09.02.2026"},18,{"$f":"мощность!T12","v":0},2555.75,2555.75,0,0]
[{"$f":"мощность!$AA$12","v":"09.02.2026"},19,{"$f":"мощность!U12","v":0},2556.17,2556.17,0,0]
[{"$f":"мощность!$AA$12","v":"09.02.2026"},20,{"$f":"мощность!V12","v":0},2481.59,2481.59,0,0]
[{"$f":"мощность!$AA$12","v":"09.02.2026"},21,{"$f":"мощность!W12","v":0},2345.86,2345.86,0,0]
[{"$f":"мощность!$AA$12","v":"09.02.2026"},22,{"$f":"мощность!X12","v":0},2193.83,2193.83,0,0]
[{"$f":"мощность!$AA$12","v":"09.02.2026"},23,{"$f":"мощность!Y12","v":0},1904.31,1904.31,0,0]
[{"$f":"мощность!$AA$13","v":"10.02.2026"},0,{"$f":"мощность!B13","v":0},1776.55,1776.55,0,0]
[{"$f":"мощность!$AA$13","v":"10.02.2026"},1,{"$f":"мощность!C13","v":0},1581.59,1581.59,0,0]
[{"$f":"мощность!$AA$13","v":"10.02.2026"},2,{"$f":"мощность!D13","v":0},1539.28,1539.28,0,0]
[{"$f":"мощность!$AA$13","v":"10.02.2026"},3,{"$f":"мощность!E13","v":0},1550.24,1550.24,0,0]
[{"$f":"мощность!$AA$13","v":"10.02.2026"},4,{"$f":"мощность!F13","v":0},1658.92,1658.92,0,0]
[{"$f":"мощность!$AA$13","v":"10.02.2026"},5,{"$f":"мощность!G13","v":0},1907.22,1907.22,0,0]
[{"$f":"мощность!$AA$13","v":"10.02.2026"},6,{"$f":"мощность!H13","v":0},2218.2199999999998,2218.2199999999998,0,0]
[{"$f":"мощность!$AA$13","v":"10.02.2026"},7,{"$f":"мощность!I13","v":0},2373.2199999999998,2373.2199999999998,0,0]
[{"$f":"мощность!$AA$13","v":"10.02.2026"},8,{"$f":"мощность!J13","v":0},2500.37,2500.37,0,0]
[{"$f":"мощность!$AA$13","v":"10.02.2026"},9,{"$f":"мощность!K13","v":0},2519.38,2519.38,0,0]
[{"$f":"мощность!$AA$13","v":"10.02.2026"},10,{"$f":"мощность!L13","v":0},2528.06,2528.06,0,0]
[{"$f":"мощность!$AA$13","v":"10.02.2026"},11,{"$f":"мощность!M13","v":0},2630.86,2630.86,0,0]
[{"$f":"мощность!$AA$13","v":"10.02.2026"},12,{"$f":"мощность!N13","v":0},2588.09,2588.09,0,0]
[{"$f":"мощность!$AA$13","v":"10.02.2026"},13,{"$f":"мощность!O13","v":0},2595.17,2595.17,0,0]
[{"$f":"мощность!$AA$13","v":"10.02.2026"},14,{"$f":"мощность!P13","v":0},2578.4499999999998,2578.4499999999998,0,0]
[{"$f":"мощность!$AA$13","v":"10.02.2026"},15,{"$f":"мощность!Q13","v":0},2537.9699999999998,2537.9699999999998,0,0]
[{"$f":"мощность!$AA$13","v":"10.02.2026"},16,{"$f":"мощность!R13","v":0},2514.61,2514.61,0,0]
[{"$f":"мощность!$AA$13","v":"10.02.2026"},17,{"$f":"мощность!S13","v":0},2501.4,2501.4,0,0]
[{"$f":"мощность!$AA$13","v":"10.02.2026"},18,{"$f":"мощность!T13","v":0},2510.79,2510.79,0,0]
[{"$f":"мощность!$AA$13","v":"10.02.2026"},19,{"$f":"мощность!U13","v":0},2557.6,2557.6,0,0]
[{"$f":"мощность!$AA$13","v":"10.02.2026"},20,{"$f":"мощность!V13","v":0},2520.39,2520.39,0,0]
[{"$f":"мощность!$AA$13","v":"10.02.2026"},21,{"$f":"мощность!W13","v":0},2427.0700000000002,2427.0700000000002,0,0]
[{"$f":"мощность!$AA$13","v":"10.02.2026"},22,{"$f":"мощность!X13","v":0},2226.69,2226.69,0,0]
[{"$f":"мощность!$AA$13","v":"10.02.2026"},23,{"$f":"мощность!Y13","v":0},2059.9,2059.9,0,0]
[{"$f":"мощность!$AA$14","v":"11.02.2026"},0,{"$f":"мощность!B14","v":0},1889.94,1889.94,0,0]
[{"$f":"мощность!$AA$14","v":"11.02.2026"},1,{"$f":"мощность!C14","v":0},1712.58,1712.58,0,0]
[{"$f":"мощность!$AA$14","v":"11.02.2026"},2,{"$f":"мощность!D14","v":0},1689.4,1689.4,0,0]
[{"$f":"мощность!$AA$14","v":"11.02.2026"},3,{"$f":"мощность!E14","v":0},1659.93,1659.93,0,0]
[{"$f":"мощность!$AA$14","v":"11.02.2026"},4,{"$f":"мощность!F14","v":0},1726.97,1726.97,0,0]
[{"$f":"мощность!$AA$14","v":"11.02.2026"},5,{"$f":"мощность!G14","v":0},1935.96,1935.96,0,0]
[{"$f":"мощность!$AA$14","v":"11.02.2026"},6,{"$f":"мощность!H14","v":0},2211.83,2211.83,0,0]
[{"$f":"мощность!$AA$14","v":"11.02.2026"},7,{"$f":"мощность!I14","v":0},2437.2600000000002,2437.2600000000002,0,0]
[{"$f":"мощность!$AA$14","v":"11.02.2026"},8,{"$f":"мощность!J14","v":0},2543.66,2543.66,0,0]
[{"$f":"мощность!$AA$14","v":"11.02.2026"},9,{"$f":"мощность!K14","v":0},2506.56,2506.56,0,0]
[{"$f":"мощность!$AA$14","v":"11.02.2026"},10,{"$f":"мощность!L14","v":0},2523.85,2523.85,0,0]
[{"$f":"мощность!$AA$14","v":"11.02.2026"},11,{"$f":"мощность!M14","v":0},2626.99,2626.99,0,0]
[{"$f":"мощность!$AA$14","v":"11.02.2026"},12,{"$f":"мощность!N14","v":0},2560.81,2560.81,0,0]
[{"$f":"мощность!$AA$14","v":"11.02.2026"},13,{"$f":"мощность!O14","v":0},2640.65,2640.65,0,0]
[{"$f":"мощность!$AA$14","v":"11.02.2026"},14,{"$f":"мощность!P14","v":0},2623.97,2623.97,0,0]
[{"$f":"мощность!$AA$14","v":"11.02.2026"},15,{"$f":"мощность!Q14","v":0},2581.91,2581.91,0,0]
[{"$f":"мощность!$AA$14","v":"11.02.2026"},16,{"$f":"мощность!R14","v":0},2546,2546,0,0]
[{"$f":"мощность!$AA$14","v":"11.02.2026"},17,{"$f":"мощность!S14","v":0},2511.96,{"$f":"1*D259","v":2511.96},{"$f":"ROUND(C259*D259/1000,2)","v":0},{"$f":"ROUND(C259*E259/1000,2)","v":0}]
[{"$f":"мощность!$AA$14","v":"11.02.2026"},18,{"$f":"мощность!T14","v":0},2583.4299999999998,2583.4299999999998,0,0]
[{"$f":"мощность!$AA$14","v":"11.02.2026"},19,{"$f":"мощность!U14","v":0},2595.19,2595.19,0,0]
[{"$f":"мощность!$AA$14","v":"11.02.2026"},20,{"$f":"мощность!V14","v":0},2544.69,2544.69,0,0]
[{"$f":"мощность!$AA$14","v":"11.02.2026"},21,{"$f":"мощность!W14","v":0},2424.4899999999998,2424.4899999999998,0,0]
[{"$f":"мощность!$AA$14","v":"11.02.2026"},22,{"$f":"мощность!X14","v":0},2215.0100000000002,2215.0100000000002,0,0]
[{"$f":"мощность!$AA$14","v":"11.02.2026"},23,{"$f":"мощность!Y14","v":0},2011.82,2011.82,0,0]
[{"$f":"мощность!$AA$15","v":"12.02.2026"},0,{"$f":"мощность!B15","v":0},1917.66,1917.66,0,0]
[{"$f":"мощность!$AA$15","v":"12.02.2026"},1,{"$f":"мощность!C15","v":0},1814.09,1814.09,0,0]
[{"$f":"мощность!$AA$15","v":"12.02.2026"},2,{"$f":"мощность!D15","v":0},1751.45,1751.45,0,0]
[{"$f":"мощность!$AA$15","v":"12.02.2026"},3,{"$f":"мощность!E15","v":0},1725.57,1725.57,0,0]
[{"$f":"мощность!$AA$15","v":"12.02.2026"},4,{"$f":"мощность!F15","v":0},1831.07,1831.07,0,0]
[{"$f":"мощность!$AA$15","v":"12.02.2026"},5,{"$f":"мощность!G15","v":0},2091.5700000000002,2091.5700000000002,0,0]
[{"$f":"мощность!$AA$15","v":"12.02.2026"},6,{"$f":"мощность!H15","v":0},2235.1799999999998,2235.1799999999998,0,0]
[{"$f":"мощность!$AA$15","v":"12.02.2026"},7,{"$f":"мощность!I15","v":0},2505.06,2505.06,0,0]
[{"$f":"мощность!$AA$15","v":"12.02.2026"},8,{"$f":"мощность!J15","v":0},2467.61,2467.61,0,0]
[{"$f":"мощность!$AA$15","v":"12.02.2026"},9,{"$f":"мощность!K15","v":0},2558.04,2558.04,0,0]
[{"$f":"мощность!$AA$15","v":"12.02.2026"},10,{"$f":"мощность!L15","v":0},2584.33,2584.33,0,0]
[{"$f":"мощность!$AA$15","v":"12.02.2026"},11,{"$f":"мощность!M15","v":0},2625.76,2625.76,0,0]
[{"$f":"мощность!$AA$15","v":"12.02.2026"},12,{"$f":"мощность!N15","v":0},2582.4899999999998,2582.4899999999998,0,0]
[{"$f":"мощность!$AA$15","v":"12.02.2026"},13,{"$f":"мощность!O15","v":0},2588.1799999999998,2588.1799999999998,0,0]
[{"$f":"мощность!$AA$15","v":"12.02.2026"},14,{"$f":"мощность!P15","v":0},2573.66,2573.66,0,0]
[{"$f":"мощность!$AA$15","v":"12.02.2026"},15,{"$f":"мощность!Q15","v":0},2533.96,2533.96,0,0]
[{"$f":"мощность!$AA$15","v":"12.02.2026"},16,{"$f":"мощность!R15","v":0},2503.7600000000002,2503.7600000000002,0,0]
[{"$f":"мощность!$AA$15","v":"12.02.2026"},17,{"$f":"мощность!S15","v":0},2508.87,2508.87,0,0]
[{"$f":"мощность!$AA$15","v":"12.02.2026"},18,{"$f":"мощность!T15","v":0},2533.6,2533.6,0,0]
[{"$f":"мощность!$AA$15","v":"12.02.2026"},19,{"$f":"мощность!U15","v":0},2534.75,2534.75,0,0]
[{"$f":"мощность!$AA$15","v":"12.02.2026"},20,{"$f":"мощность!V15","v":0},2482.9499999999998,2482.9499999999998,0,0]
[{"$f":"мощность!$AA$15","v":"12.02.2026"},21,{"$f":"мощность!W15","v":0},2536.87,2536.87,0,0]
[{"$f":"мощность!$AA$15","v":"12.02.2026"},22,{"$f":"мощность!X15","v":0},2336.41,2336.41,0,0]
[{"$f":"мощность!$AA$15","v":"12.02.2026"},23,{"$f":"мощность!Y15","v":0},2199.09,2199.09,0,0]
[{"$f":"мощность!$AA$16","v":"13.02.2026"},0,{"$f":"мощность!B16","v":0},1884.67,1884.67,0,0]
[{"$f":"мощность!$AA$16","v":"13.02.2026"},1,{"$f":"мощность!C16","v":0},1733.19,1733.19,0,0]
[{"$f":"мощность!$AA$16","v":"13.02.2026"},2,{"$f":"мощность!D16","v":0},1700.1,1700.1,0,0]
[{"$f":"мощность!$AA$16","v":"13.02.2026"},3,{"$f":"мощность!E16","v":0},1695.46,1695.46,0,0]
[{"$f":"мощность!$AA$16","v":"13.02.2026"},4,{"$f":"мощность!F16","v":0},1793.05,1793.05,0,0]
[{"$f":"мощность!$AA$16","v":"13.02.2026"},5,{"$f":"мощность!G16","v":0},2009.9,2009.9,0,0]
[{"$f":"мощность!$AA$16","v":"13.02.2026"},6,{"$f":"мощность!H16","v":0},2222.0300000000002,2222.0300000000002,0,0]
[{"$f":"мощность!$AA$16","v":"13.02.2026"},7,{"$f":"мощность!I16","v":0},2489.42,2489.42,0,0]
[{"$f":"мощность!$AA$16","v":"13.02.2026"},8,{"$f":"мощность!J16","v":0},2651.22,2651.22,0,0]
[{"$f":"мощность!$AA$16","v":"13.02.2026"},9,{"$f":"мощность!K16","v":0},2725.11,2725.11,0,0]
[{"$f":"мощность!$AA$16","v":"13.02.2026"},10,{"$f":"мощность!L16","v":0},2737.82,2737.82,0,0]
[{"$f":"мощность!$AA$16","v":"13.02.2026"},11,{"$f":"мощность!M16","v":0},2782.17,2782.17,0,0]
[{"$f":"мощность!$AA$16","v":"13.02.2026"},12,{"$f":"мощность!N16","v":0},2732.06,2732.06,0,0]
[{"$f":"мощность!$AA$16","v":"13.02.2026"},13,{"$f":"мощность!O16","v":0},2730.36,2730.36,0,0]
[{"$f":"мощность!$AA$16","v":"13.02.2026"},14,{"$f":"мощность!P16","v":0},2724.15,2724.15,0,0]
[{"$f":"мощность!$AA$16","v":"13.02.2026"},15,{"$f":"мощность!Q16","v":0},2693.57,2693.57,0,0]
[{"$f":"мощность!$AA$16","v":"13.02.2026"},16,{"$f":"мощность!R16","v":0},2660.95,2660.95,0,0]
[{"$f":"мощность!$AA$16","v":"13.02.2026"},17,{"$f":"мощность!S16","v":0},2670.3,2670.3,0,0]
[{"$f":"мощность!$AA$16","v":"13.02.2026"},18,{"$f":"мощность!T16","v":0},2706.47,2706.47,0,0]
[{"$f":"мощность!$AA$16","v":"13.02.2026"},19,{"$f":"мощность!U16","v":0},2694.47,2694.47,0,0]
[{"$f":"мощность!$AA$16","v":"13.02.2026"},20,{"$f":"мощность!V16","v":0},2614.67,2614.67,0,0]
[{"$f":"мощность!$AA$16","v":"13.02.2026"},21,{"$f":"мощность!W16","v":0},2527.7199999999998,2527.7199999999998,0,0]
[{"$f":"мощность!$AA$16","v":"13.02.2026"},22,{"$f":"мощность!X16","v":0},2232.1799999999998,2232.1799999999998,0,0]
[{"$f":"мощность!$AA$16","v":"13.02.2026"},23,{"$f":"мощность!Y16","v":0},2128.0500000000002,2128.0500000000002,0,0]
[{"$f":"мощность!$AA$17","v":"14.02.2026"},0,{"$f":"мощность!B17","v":0},2104.29,2104.29,0,0]
[{"$f":"мощность!$AA$17","v":"14.02.2026"},1,{"$f":"мощность!C17","v":0},1881.65,1881.65,0,0]
[{"$f":"мощность!$AA$17","v":"14.02.2026"},2,{"$f":"мощность!D17","v":0},1857.09,1857.09,0,0]
[{"$f":"мощность!$AA$17","v":"14.02.2026"},3,{"$f":"мощность!E17","v":0},1827.13,1827.13,0,0]
[{"$f":"мощность!$AA$17","v":"14.02.2026"},4,{"$f":"мощность!F17","v":0},1861.6,1861.6,0,0]
[{"$f":"мощность!$AA$17","v":"14.02.2026"},5,{"$f":"мощность!G17","v":0},1885.18,1885.18,0,0]
[{"$f":"мощность!$AA$17","v":"14.02.2026"},6,{"$f":"мощность!H17","v":0},1976.7,1976.7,0,0]
[{"$f":"мощность!$AA$17","v":"14.02.2026"},7,{"$f":"мощность!I17","v":0},2197.86,2197.86,0,0]
[{"$f":"мощность!$AA$17","v":"14.02.2026"},8,{"$f":"мощность!J17","v":0},2327.46,2327.46,0,0]
[{"$f":"мощность!$AA$17","v":"14.02.2026"},9,{"$f":"мощность!K17","v":0},2558.94,{"$f":"1*D323","v":2558.94},{"$f":"ROUND(C323*D323/1000,2)","v":0},{"$f":"ROUND(C323*E323/1000,2)","v":0}]
[{"$f":"мощность!$AA$17","v":"14.02.2026"},10,{"$f":"мощность!L17","v":0},2651.07,2651.07,0,0]
[{"$f":"мощность!$AA$17","v":"14.02.2026"},11,{"$f":"мощность!M17","v":0},2682.62,2682.62,0,0]
[{"$f":"мощность!$AA$17","v":"14.02.2026"},12,{"$f":"мощность!N17","v":0},2671.55,2671.55,0,0]
[{"$f":"мощность!$AA$17","v":"14.02.2026"},13,{"$f":"мощность!O17","v":0},2654.95,2654.95,0,0]
[{"$f":"мощность!$AA$17","v":"14.02.2026"},14,{"$f":"мощность!P17","v":0},2581.86,2581.86,0,0]
[{"$f":"мощность!$AA$17","v":"14.02.2026"},15,{"$f":"мощность!Q17","v":0},2557.8000000000002,2557.8000000000002,0,0]
[{"$f":"мощность!$AA$17","v":"14.02.2026"},16,{"$f":"мощность!R17","v":0},2532.1799999999998,2532.1799999999998,0,0]
[{"$f":"мощность!$AA$17","v":"14.02.2026"},17,{"$f":"мощность!S17","v":0},2454.81,2454.81,0,0]
[{"$f":"мощность!$AA$17","v":"14.02.2026"},18,{"$f":"мощность!T17","v":0},2577.13,2577.13,0,0]
[{"$f":"мощность!$AA$17","v":"14.02.2026"},19,{"$f":"мощность!U17","v":0},2607.84,2607.84,0,0]
[{"$f":"мощность!$AA$17","v":"14.02.2026"},20,{"$f":"мощность!V17","v":0},2586.5700000000002,2586.5700000000002,0,0]
[{"$f":"мощность!$AA$17","v":"14.02.2026"},21,{"$f":"мощность!W17","v":0},2353.12,2353.12,0,0]
[{"$f":"мощность!$AA$17","v":"14.02.2026"},22,{"$f":"мощность!X17","v":0},2234.65,2234.65,0,0]
[{"$f":"мощность!$AA$17","v":"14.02.2026"},23,{"$f":"мощность!Y17","v":0},2017.01,2017.01,0,0]
[{"$f":"мощность!$AA$18","v":"15.02.2026"},0,{"$f":"мощность!B18","v":0},1951.7,1951.7,0,0]
[{"$f":"мощность!$AA$18","v":"15.02.2026"},1,{"$f":"мощность!C18","v":0},1844.34,1844.34,0,0]
[{"$f":"мощность!$AA$18","v":"15.02.2026"},2,{"$f":"мощность!D18","v":0},1746.57,1746.57,0,0]
[{"$f":"мощность!$AA$18","v":"15.02.2026"},3,{"$f":"мощность!E18","v":0},1700.6,1700.6,0,0]
[{"$f":"мощность!$AA$18","v":"15.02.2026"},4,{"$f":"мощность!F18","v":0},1752.98,1752.98,0,0]
[{"$f":"мощность!$AA$18","v":"15.02.2026"},5,{"$f":"мощность!G18","v":0},1866.23,1866.23,0,0]
[{"$f":"мощность!$AA$18","v":"15.02.2026"},6,{"$f":"мощность!H18","v":0},1892.11,1892.11,0,0]
[{"$f":"мощность!$AA$18","v":"15.02.2026"},7,{"$f":"мощность!I18","v":0},2054.65,2054.65,0,0]
[{"$f":"мощность!$AA$18","v":"15.02.2026"},8,{"$f":"мощность!J18","v":0},2255.09,2255.09,0,0]
[{"$f":"мощность!$AA$18","v":"15.02.2026"},9,{"$f":"мощность!K18","v":0},2470.39,2470.39,0,0]
[{"$f":"мощность!$AA$18","v":"15.02.2026"},10,{"$f":"мощность!L18","v":0},2580.44,2580.44,0,0]
[{"$f":"мощность!$AA$18","v":"15.02.2026"},11,{"$f":"мощность!M18","v":0},2609.9899999999998,2609.9899999999998,0,0]
[{"$f":"мощность!$AA$18","v":"15.02.2026"},12,{"$f":"мощность!N18","v":0},2600.31,2600.31,0,0]
[{"$f":"мощность!$AA$18","v":"15.02.2026"},13,{"$f":"мощность!O18","v":0},2592.5100000000002,2592.5100000000002,0,0]
[{"$f":"мощность!$AA$18","v":"15.02.2026"},14,{"$f":"мощность!P18","v":0},2592.87,2592.87,0,0]
[{"$f":"мощность!$AA$18","v":"15.02.2026"},15,{"$f":"мощность!Q18","v":0},2531.08,2531.08,0,0]
[{"$f":"мощность!$AA$18","v":"15.02.2026"},16,{"$f":"мощность!R18","v":0},2549.9,2549.9,0,0]
[{"$f":"мощность!$AA$18","v":"15.02.2026"},17,{"$f":"мощность!S18","v":0},2568.66,2568.66,0,0]
[{"$f":"мощность!$AA$18","v":"15.02.2026"},18,{"$f":"мощность!T18","v":0},2602.8000000000002,2602.8000000000002,0,0]
[{"$f":"мощность!$AA$18","v":"15.02.2026"},19,{"$f":"мощность!U18","v":0},2521.86,2521.86,0,0]
[{"$f":"мощность!$AA$18","v":"15.02.2026"},20,{"$f":"мощность!V18","v":0},2662.02,2662.02,0,0]
[{"$f":"мощность!$AA$18","v":"15.02.2026"},21,{"$f":"мощность!W18","v":0},2514.21,2514.21,0,0]
[{"$f":"мощность!$AA$18","v":"15.02.2026"},22,{"$f":"мощность!X18","v":0},2261.4699999999998,2261.4699999999998,0,0]
[{"$f":"мощность!$AA$18","v":"15.02.2026"},23,{"$f":"мощность!Y18","v":0},2041.09,2041.09,0,0]
[{"$f":"мощность!$AA$19","v":"16.02.2026"},0,{"$f":"мощность!B19","v":0},1999.03,1999.03,0,0]
[{"$f":"мощность!$AA$19","v":"16.02.2026"},1,{"$f":"мощность!C19","v":0},1873.83,1873.83,0,0]
[{"$f":"мощность!$AA$19","v":"16.02.2026"},2,{"$f":"мощность!D19","v":0},1792.64,1792.64,0,0]
[{"$f":"мощность!$AA$19","v":"16.02.2026"},3,{"$f":"мощность!E19","v":0},1666.17,1666.17,0,0]
[{"$f":"мощность!$AA$19","v":"16.02.2026"},4,{"$f":"мощность!F19","v":0},1819.95,1819.95,0,0]
[{"$f":"мощность!$AA$19","v":"16.02.2026"},5,{"$f":"мощность!G19","v":0},1970.78,1970.78,0,0]
[{"$f":"мощность!$AA$19","v":"16.02.2026"},6,{"$f":"мощность!H19","v":0},2201.1799999999998,2201.1799999999998,0,0]
[{"$f":"мощность!$AA$19","v":"16.02.2026"},7,{"$f":"мощность!I19","v":0},2443.2399999999998,2443.2399999999998,0,0]
[{"$f":"мощность!$AA$19","v":"16.02.2026"},8,{"$f":"мощность!J19","v":0},2604.75,2604.75,0,0]
[{"$f":"мощность!$AA$19","v":"16.02.2026"},9,{"$f":"мощность!K19","v":0},2562.06,2562.06,0,0]
[{"$f":"мощность!$AA$19","v":"16.02.2026"},10,{"$f":"мощность!L19","v":0},2560.94,2560.94,0,0]
[{"$f":"мощность!$AA$19","v":"16.02.2026"},11,{"$f":"мощность!M19","v":0},2581.75,2581.75,0,0]
[{"$f":"мощность!$AA$19","v":"16.02.2026"},12,{"$f":"мощность!N19","v":0},2578.63,2578.63,0,0]
[{"$f":"мощность!$AA$19","v":"16.02.2026"},13,{"$f":"мощность!O19","v":0},2585.17,2585.17,0,0]
[{"$f":"мощность!$AA$19","v":"16.02.2026"},14,{"$f":"мощность!P19","v":0},2572.86,2572.86,0,0]
[{"$f":"мощность!$AA$19","v":"16.02.2026"},15,{"$f":"мощность!Q19","v":0},2561.94,2561.94,0,0]
[{"$f":"мощность!$AA$19","v":"16.02.2026"},16,{"$f":"мощность!R19","v":0},2521.91,2521.91,0,0]
[{"$f":"мощность!$AA$19","v":"16.02.2026"},17,{"$f":"мощность!S19","v":0},2514.69,2514.69,0,0]
[{"$f":"мощность!$AA$19","v":"16.02.2026"},18,{"$f":"мощность!T19","v":0},2541.56,2541.56,0,0]
[{"$f":"мощность!$AA$19","v":"16.02.2026"},19,{"$f":"мощность!U19","v":0},2556.16,2556.16,0,0]
[{"$f":"мощность!$AA$19","v":"16.02.2026"},20,{"$f":"мощность!V19","v":0},2504.56,2504.56,0,0]
[{"$f":"мощность!$AA$19","v":"16.02.2026"},21,{"$f":"мощность!W19","v":0},2520.87,2520.87,0,0]
[{"$f":"мощность!$AA$19","v":"16.02.2026"},22,{"$f":"мощность!X19","v":0},2254.96,2254.96,0,0]
[{"$f":"мощность!$AA$19","v":"16.02.2026"},23,{"$f":"мощность!Y19","v":0},2152.9899999999998,2152.9899999999998,0,0]
[{"$f":"мощность!$AA$20","v":"17.02.2026"},0,{"$f":"мощность!B20","v":0},1954.71,1954.71,0,0]
[{"$f":"мощность!$AA$20","v":"17.02.2026"},1,{"$f":"мощность!C20","v":0},1858.96,{"$f":"1*D387","v":1858.96},{"$f":"ROUND(C387*D387/1000,2)","v":0},{"$f":"ROUND(C387*E387/1000,2)","v":0}]
[{"$f":"мощность!$AA$20","v":"17.02.2026"},2,{"$f":"мощность!D20","v":0},1696.66,1696.66,0,0]
[{"$f":"мощность!$AA$20","v":"17.02.2026"},3,{"$f":"мощность!E20","v":0},1699.26,1699.26,0,0]
[{"$f":"мощность!$AA$20","v":"17.02.2026"},4,{"$f":"мощность!F20","v":0},1847.37,1847.37,0,0]
[{"$f":"мощность!$AA$20","v":"17.02.2026"},5,{"$f":"мощность!G20","v":0},1978.85,1978.85,0,0]
[{"$f":"мощность!$AA$20","v":"17.02.2026"},6,{"$f":"мощность!H20","v":0},2206.67,2206.67,0,0]
[{"$f":"мощность!$AA$20","v":"17.02.2026"},7,{"$f":"мощность!I20","v":0},2409.65,2409.65,0,0]
[{"$f":"мощность!$AA$20","v":"17.02.2026"},8,{"$f":"мощность!J20","v":0},2472.1,2472.1,0,0]
[{"$f":"мощность!$AA$20","v":"17.02.2026"},9,{"$f":"мощность!K20","v":0},2550.09,2550.09,0,0]
[{"$f":"мощность!$AA$20","v":"17.02.2026"},10,{"$f":"мощность!L20","v":0},2559.75,2559.75,0,0]
[{"$f":"мощность!$AA$20","v":"17.02.2026"},11,{"$f":"мощность!M20","v":0},2568.11,2568.11,0,0]
[{"$f":"мощность!$AA$20","v":"17.02.2026"},12,{"$f":"мощность!N20","v":0},2555.96,2555.96,0,0]
[{"$f":"мощность!$AA$20","v":"17.02.2026"},13,{"$f":"мощность!O20","v":0},2562.6999999999998,2562.6999999999998,0,0]
[{"$f":"мощность!$AA$20","v":"17.02.2026"},14,{"$f":"мощность!P20","v":0},2543.75,2543.75,0,0]
[{"$f":"мощность!$AA$20","v":"17.02.2026"},15,{"$f":"мощность!Q20","v":0},2522.7800000000002,2522.7800000000002,0,0]
[{"$f":"мощность!$AA$20","v":"17.02.2026"},16,{"$f":"мощность!R20","v":0},2499,2499,0,0]
[{"$f":"мощность!$AA$20","v":"17.02.2026"},17,{"$f":"мощность!S20","v":0},2473.88,2473.88,0,0]
[{"$f":"мощность!$AA$20","v":"17.02.2026"},18,{"$f":"мощность!T20","v":0},2517.14,2517.14,0,0]
[{"$f":"мощность!$AA$20","v":"17.02.2026"},19,{"$f":"мощность!U20","v":0},2549.0100000000002,2549.0100000000002,0,0]
[{"$f":"мощность!$AA$20","v":"17.02.2026"},20,{"$f":"мощность!V20","v":0},2463.17,2463.17,0,0]
[{"$f":"мощность!$AA$20","v":"17.02.2026"},21,{"$f":"мощность!W20","v":0},2491.88,2491.88,0,0]
[{"$f":"мощность!$AA$20","v":"17.02.2026"},22,{"$f":"мощность!X20","v":0},2327.4499999999998,2327.4499999999998,0,0]
[{"$f":"мощность!$AA$20","v":"17.02.2026"},23,{"$f":"мощность!Y20","v":0},2193,2193,0,0]
[{"$f":"мощность!$AA$21","v":"18.02.2026"},0,{"$f":"мощность!B21","v":0},1914.08,1914.08,0,0]
[{"$f":"мощность!$AA$21","v":"18.02.2026"},1,{"$f":"мощность!C21","v":0},1783.47,1783.47,0,0]
[{"$f":"мощность!$AA$21","v":"18.02.2026"},2,{"$f":"мощность!D21","v":0},1592.46,1592.46,0,0]
[{"$f":"мощность!$AA$21","v":"18.02.2026"},3,{"$f":"мощность!E21","v":0},1615.59,1615.59,0,0]
[{"$f":"мощность!$AA$21","v":"18.02.2026"},4,{"$f":"мощность!F21","v":0},1797.25,1797.25,0,0]
[{"$f":"мощность!$AA$21","v":"18.02.2026"},5,{"$f":"мощность!G21","v":0},1955.79,1955.79,0,0]
[{"$f":"мощность!$AA$21","v":"18.02.2026"},6,{"$f":"мощность!H21","v":0},2216.9899999999998,2216.9899999999998,0,0]
[{"$f":"мощность!$AA$21","v":"18.02.2026"},7,{"$f":"мощность!I21","v":0},2390.12,2390.12,0,0]
[{"$f":"мощность!$AA$21","v":"18.02.2026"},8,{"$f":"мощность!J21","v":0},2524.92,2524.92,0,0]
[{"$f":"мощность!$AA$21","v":"18.02.2026"},9,{"$f":"мощность!K21","v":0},2541.2600000000002,2541.2600000000002,0,0]
[{"$f":"мощность!$AA$21","v":"18.02.2026"},10,{"$f":"мощность!L21","v":0},2563.9499999999998,2563.9499999999998,0,0]
[{"$f":"мощность!$AA$21","v":"18.02.2026"},11,{"$f":"мощность!M21","v":0},2588.2199999999998,2588.2199999999998,0,0]
[{"$f":"мощность!$AA$21","v":"18.02.2026"},12,{"$f":"мощность!N21","v":0},2574.5500000000002,2574.5500000000002,0,0]
[{"$f":"мощность!$AA$21","v":"18.02.2026"},13,{"$f":"мощность!O21","v":0},2577.84,2577.84,0,0]
[{"$f":"мощность!$AA$21","v":"18.02.2026"},14,{"$f":"мощность!P21","v":0},2570.7800000000002,2570.7800000000002,0,0]
[{"$f":"мощность!$AA$21","v":"18.02.2026"},15,{"$f":"мощность!Q21","v":0},2549.81,2549.81,0,0]
[{"$f":"мощность!$AA$21","v":"18.02.2026"},16,{"$f":"мощность!R21","v":0},2500.91,2500.91,0,0]
[{"$f":"мощность!$AA$21","v":"18.02.2026"},17,{"$f":"мощность!S21","v":0},2518.69,2518.69,0,0]
[{"$f":"мощность!$AA$21","v":"18.02.2026"},18,{"$f":"мощность!T21","v":0},2550.9,2550.9,0,0]
[{"$f":"мощность!$AA$21","v":"18.02.2026"},19,{"$f":"мощность!U21","v":0},2569.38,2569.38,0,0]
[{"$f":"мощность!$AA$21","v":"18.02.2026"},20,{"$f":"мощность!V21","v":0},2478.39,2478.39,0,0]
[{"$f":"мощность!$AA$21","v":"18.02.2026"},21,{"$f":"мощность!W21","v":0},2424.6799999999998,2424.6799999999998,0,0]
[{"$f":"мощность!$AA$21","v":"18.02.2026"},22,{"$f":"мощность!X21","v":0},2277.5300000000002,2277.5300000000002,0,0]
[{"$f":"мощность!$AA$21","v":"18.02.2026"},23,{"$f":"мощность!Y21","v":0},1966.79,1966.79,0,0]
[{"$f":"мощность!$AA$22","v":"19.02.2026"},0,{"$f":"мощность!B22","v":0},1856.8,1856.8,0,0]
[{"$f":"мощность!$AA$22","v":"19.02.2026"},1,{"$f":"мощность!C22","v":0},1627.74,1627.74,0,0]
[{"$f":"мощность!$AA$22","v":"19.02.2026"},2,{"$f":"мощность!D22","v":0},1538.03,1538.03,0,0]
[{"$f":"мощность!$AA$22","v":"19.02.2026"},3,{"$f":"мощность!E22","v":0},1555.27,1555.27,0,0]
[{"$f":"мощность!$AA$22","v":"19.02.2026"},4,{"$f":"мощность!F22","v":0},1731.34,1731.34,0,0]
[{"$f":"мощность!$AA$22","v":"19.02.2026"},5,{"$f":"мощность!G22","v":0},1950.72,1950.72,0,0]
[{"$f":"мощность!$AA$22","v":"19.02.2026"},6,{"$f":"мощность!H22","v":0},2219.33,2219.33,0,0]
[{"$f":"мощность!$AA$22","v":"19.02.2026"},7,{"$f":"мощность!I22","v":0},2507.7600000000002,2507.7600000000002,0,0]
[{"$f":"мощность!$AA$22","v":"19.02.2026"},8,{"$f":"мощность!J22","v":0},2527.12,2527.12,0,0]
[{"$f":"мощность!$AA$22","v":"19.02.2026"},9,{"$f":"мощность!K22","v":0},2592.56,2592.56,0,0]
[{"$f":"мощность!$AA$22","v":"19.02.2026"},10,{"$f":"мощность!L22","v":0},2604.52,2604.52,0,0]
[{"$f":"мощность!$AA$22","v":"19.02.2026"},11,{"$f":"мощность!M22","v":0},2625.2,2625.2,0,0]
[{"$f":"мощность!$AA$22","v":"19.02.2026"},12,{"$f":"мощность!N22","v":0},2610.1799999999998,2610.1799999999998,0,0]
[{"$f":"мощность!$AA$22","v":"19.02.2026"},13,{"$f":"мощность!O22","v":0},2612.2800000000002,2612.2800000000002,0,0]
[{"$f":"мощность!$AA$22","v":"19.02.2026"},14,{"$f":"мощность!P22","v":0},2598.4499999999998,2598.4499999999998,0,0]
[{"$f":"мощность!$AA$22","v":"19.02.2026"},15,{"$f":"мощность!Q22","v":0},2582.35,2582.35,0,0]
[{"$f":"мощность!$AA$22","v":"19.02.2026"},16,{"$f":"мощность!R22","v":0},2540.79,2540.79,0,0]
[{"$f":"мощность!$AA$22","v":"19.02.2026"},17,{"$f":"мощность!S22","v":0},2539.4699999999998,{"$f":"1*D451","v":2539.4699999999998},{"$f":"ROUND(C451*D451/1000,2)","v":0},{"$f":"ROUND(C451*E451/1000,2)","v":0}]
[{"$f":"мощность!$AA$22","v":"19.02.2026"},18,{"$f":"мощность!T22","v":0},2568.37,2568.37,0,0]
[{"$f":"мощность!$AA$22","v":"19.02.2026"},19,{"$f":"мощность!U22","v":0},2590.5700000000002,2590.5700000000002,0,0]
[{"$f":"мощность!$AA$22","v":"19.02.2026"},20,{"$f":"мощность!V22","v":0},2520.58,2520.58,0,0]
[{"$f":"мощность!$AA$22","v":"19.02.2026"},21,{"$f":"мощность!W22","v":0},2567.52,2567.52,0,0]
[{"$f":"мощность!$AA$22","v":"19.02.2026"},22,{"$f":"мощность!X22","v":0},2244.52,2244.52,0,0]
[{"$f":"мощность!$AA$22","v":"19.02.2026"},23,{"$f":"мощность!Y22","v":0},2021.27,2021.27,0,0]
[{"$f":"мощность!$AA$23","v":"20.02.2026"},0,{"$f":"мощность!B23","v":0},1861.29,1861.29,0,0]
[{"$f":"мощность!$AA$23","v":"20.02.2026"},1,{"$f":"мощность!C23","v":0},1608.61,1608.61,0,0]
[{"$f":"мощность!$AA$23","v":"20.02.2026"},2,{"$f":"мощность!D23","v":0},1555.67,1555.67,0,0]
[{"$f":"мощность!$AA$23","v":"20.02.2026"},3,{"$f":"мощность!E23","v":0},1573.03,1573.03,0,0]
[{"$f":"мощность!$AA$23","v":"20.02.2026"},4,{"$f":"мощность!F23","v":0},1664.28,1664.28,0,0]
[{"$f":"мощность!$AA$23","v":"20.02.2026"},5,{"$f":"мощность!G23","v":0},1943.08,1943.08,0,0]
[{"$f":"мощность!$AA$23","v":"20.02.2026"},6,{"$f":"мощность!H23","v":0},2233.02,2233.02,0,0]
[{"$f":"мощность!$AA$23","v":"20.02.2026"},7,{"$f":"мощность!I23","v":0},2494.0300000000002,2494.0300000000002,0,0]
[{"$f":"мощность!$AA$23","v":"20.02.2026"},8,{"$f":"мощность!J23","v":0},2637.07,2637.07,0,0]
[{"$f":"мощность!$AA$23","v":"20.02.2026"},9,{"$f":"мощность!K23","v":0},2724.33,2724.33,0,0]
[{"$f":"мощность!$AA$23","v":"20.02.2026"},10,{"$f":"мощность!L23","v":0},2604.44,2604.44,0,0]
[{"$f":"мощность!$AA$23","v":"20.02.2026"},11,{"$f":"мощность!M23","v":0},2782.19,2782.19,0,0]
[{"$f":"мощность!$AA$23","v":"20.02.2026"},12,{"$f":"мощность!N23","v":0},2775.44,2775.44,0,0]
[{"$f":"мощность!$AA$23","v":"20.02.2026"},13,{"$f":"мощность!O23","v":0},2773.36,2773.36,0,0]
[{"$f":"мощность!$AA$23","v":"20.02.2026"},14,{"$f":"мощность!P23","v":0},2759.7,2759.7,0,0]
[{"$f":"мощность!$AA$23","v":"20.02.2026"},15,{"$f":"мощность!Q23","v":0},2731.07,2731.07,0,0]
[{"$f":"мощность!$AA$23","v":"20.02.2026"},16,{"$f":"мощность!R23","v":0},2638.76,2638.76,0,0]
[{"$f":"мощность!$AA$23","v":"20.02.2026"},17,{"$f":"мощность!S23","v":0},2615.52,2615.52,0,0]
[{"$f":"мощность!$AA$23","v":"20.02.2026"},18,{"$f":"мощность!T23","v":0},2559.0100000000002,2559.0100000000002,0,0]
[{"$f":"мощность!$AA$23","v":"20.02.2026"},19,{"$f":"мощность!U23","v":0},2723.2,2723.2,0,0]
[{"$f":"мощность!$AA$23","v":"20.02.2026"},20,{"$f":"мощность!V23","v":0},2624.08,2624.08,0,0]
[{"$f":"мощность!$AA$23","v":"20.02.2026"},21,{"$f":"мощность!W23","v":0},2570.65,2570.65,0,0]
[{"$f":"мощность!$AA$23","v":"20.02.2026"},22,{"$f":"мощность!X23","v":0},2293.4899999999998,2293.4899999999998,0,0]
[{"$f":"мощность!$AA$23","v":"20.02.2026"},23,{"$f":"мощность!Y23","v":0},2028.13,2028.13,0,0]
[{"$f":"мощность!$AA$24","v":"21.02.2026"},0,{"$f":"мощность!B24","v":0},2034.73,2034.73,0,0]
[{"$f":"мощность!$AA$24","v":"21.02.2026"},1,{"$f":"мощность!C24","v":0},1909.52,1909.52,0,0]
[{"$f":"мощность!$AA$24","v":"21.02.2026"},2,{"$f":"мощность!D24","v":0},1826.61,1826.61,0,0]
[{"$f":"мощность!$AA$24","v":"21.02.2026"},3,{"$f":"мощность!E24","v":0},1723.71,1723.71,0,0]
[{"$f":"мощность!$AA$24","v":"21.02.2026"},4,{"$f":"мощность!F24","v":0},1861.4,1861.4,0,0]
[{"$f":"мощность!$AA$24","v":"21.02.2026"},5,{"$f":"мощность!G24","v":0},1938.23,1938.23,0,0]
[{"$f":"мощность!$AA$24","v":"21.02.2026"},6,{"$f":"мощность!H24","v":0},1954.04,1954.04,0,0]
[{"$f":"мощность!$AA$24","v":"21.02.2026"},7,{"$f":"мощность!I24","v":0},2236.96,2236.96,0,0]
[{"$f":"мощность!$AA$24","v":"21.02.2026"},8,{"$f":"мощность!J24","v":0},2462.19,2462.19,0,0]
[{"$f":"мощность!$AA$24","v":"21.02.2026"},9,{"$f":"мощность!K24","v":0},2585.1,2585.1,0,0]
[{"$f":"мощность!$AA$24","v":"21.02.2026"},10,{"$f":"мощность!L24","v":0},2533.89,2533.89,0,0]
[{"$f":"мощность!$AA$24","v":"21.02.2026"},11,{"$f":"мощность!M24","v":0},2544.61,2544.61,0,0]
[{"$f":"мощность!$AA$24","v":"21.02.2026"},12,{"$f":"мощность!N24","v":0},2531.1999999999998,2531.1999999999998,0,0]
[{"$f":"мощность!$AA$24","v":"21.02.2026"},13,{"$f":"мощность!O24","v":0},2517.39,2517.39,0,0]
[{"$f":"мощность!$AA$24","v":"21.02.2026"},14,{"$f":"мощность!P24","v":0},2507.9499999999998,2507.9499999999998,0,0]
[{"$f":"мощность!$AA$24","v":"21.02.2026"},15,{"$f":"мощность!Q24","v":0},2484.39,2484.39,0,0]
[{"$f":"мощность!$AA$24","v":"21.02.2026"},16,{"$f":"мощность!R24","v":0},2480.85,2480.85,0,0]
[{"$f":"мощность!$AA$24","v":"21.02.2026"},17,{"$f":"мощность!S24","v":0},2498.63,2498.63,0,0]
[{"$f":"мощность!$AA$24","v":"21.02.2026"},18,{"$f":"мощность!T24","v":0},2512.7199999999998,2512.7199999999998,0,0]
[{"$f":"мощность!$AA$24","v":"21.02.2026"},19,{"$f":"мощность!U24","v":0},2505.87,2505.87,0,0]
[{"$f":"мощность!$AA$24","v":"21.02.2026"},20,{"$f":"мощность!V24","v":0},2483.02,2483.02,0,0]
[{"$f":"мощность!$AA$24","v":"21.02.2026"},21,{"$f":"мощность!W24","v":0},2437.9899999999998,2437.9899999999998,0,0]
[{"$f":"мощность!$AA$24","v":"21.02.2026"},22,{"$f":"мощность!X24","v":0},2251.2600000000002,2251.2600000000002,0,0]
[{"$f":"мощность!$AA$24","v":"21.02.2026"},23,{"$f":"мощность!Y24","v":0},1976.5,1976.5,0,0]
[{"$f":"мощность!$AA$25","v":"22.02.2026"},0,{"$f":"мощность!B25","v":0},2032.5,2032.5,0,0]
[{"$f":"мощность!$AA$25","v":"22.02.2026"},1,{"$f":"мощность!C25","v":0},1898.47,1898.47,0,0]
[{"$f":"мощность!$AA$25","v":"22.02.2026"},2,{"$f":"мощность!D25","v":0},1743.51,1743.51,0,0]
[{"$f":"мощность!$AA$25","v":"22.02.2026"},3,{"$f":"мощность!E25","v":0},1678.59,1678.59,0,0]
[{"$f":"мощность!$AA$25","v":"22.02.2026"},4,{"$f":"мощность!F25","v":0},1766.92,1766.92,0,0]
[{"$f":"мощность!$AA$25","v":"22.02.2026"},5,{"$f":"мощность!G25","v":0},1866.04,1866.04,0,0]
[{"$f":"мощность!$AA$25","v":"22.02.2026"},6,{"$f":"мощность!H25","v":0},1843.12,1843.12,0,0]
[{"$f":"мощность!$AA$25","v":"22.02.2026"},7,{"$f":"мощность!I25","v":0},1961.77,1961.77,0,0]
[{"$f":"мощность!$AA$25","v":"22.02.2026"},8,{"$f":"мощность!J25","v":0},2268.19,2268.19,0,0]
[{"$f":"мощность!$AA$25","v":"22.02.2026"},9,{"$f":"мощность!K25","v":0},2494.9,{"$f":"1*D515","v":2494.9},{"$f":"ROUND(C515*D515/1000,2)","v":0},{"$f":"ROUND(C515*E515/1000,2)","v":0}]
[{"$f":"мощность!$AA$25","v":"22.02.2026"},10,{"$f":"мощность!L25","v":0},2564.06,2564.06,0,0]
[{"$f":"мощность!$AA$25","v":"22.02.2026"},11,{"$f":"мощность!M25","v":0},2584.64,2584.64,0,0]
[{"$f":"мощность!$AA$25","v":"22.02.2026"},12,{"$f":"мощность!N25","v":0},2574.54,2574.54,0,0]
[{"$f":"мощность!$AA$25","v":"22.02.2026"},13,{"$f":"мощность!O25","v":0},2568.7399999999998,2568.7399999999998,0,0]
[{"$f":"мощность!$AA$25","v":"22.02.2026"},14,{"$f":"мощность!P25","v":0},2566.56,2566.56,0,0]
[{"$f":"мощность!$AA$25","v":"22.02.2026"},15,{"$f":"мощность!Q25","v":0},2523.88,2523.88,0,0]
[{"$f":"мощность!$AA$25","v":"22.02.2026"},16,{"$f":"мощность!R25","v":0},2516.9899999999998,2516.9899999999998,0,0]
[{"$f":"мощность!$AA$25","v":"22.02.2026"},17,{"$f":"мощность!S25","v":0},2540.84,2540.84,0,0]
[{"$f":"мощность!$AA$25","v":"22.02.2026"},18,{"$f":"мощность!T25","v":0},2584.4299999999998,2584.4299999999998,0,0]
[{"$f":"мощность!$AA$25","v":"22.02.2026"},19,{"$f":"мощность!U25","v":0},2581.61,2581.61,0,0]
[{"$f":"мощность!$AA$25","v":"22.02.2026"},20,{"$f":"мощность!V25","v":0},2596.48,2596.48,0,0]
[{"$f":"мощность!$AA$25","v":"22.02.2026"},21,{"$f":"мощность!W25","v":0},2509.16,2509.16,0,0]
[{"$f":"мощность!$AA$25","v":"22.02.2026"},22,{"$f":"мощность!X25","v":0},2313.16,2313.16,0,0]
[{"$f":"мощность!$AA$25","v":"22.02.2026"},23,{"$f":"мощность!Y25","v":0},1965.46,1965.46,0,0]
[{"$f":"мощность!$AA$26","v":"23.02.2026"},0,{"$f":"мощность!B26","v":0},1946.02,1946.02,0,0]
[{"$f":"мощность!$AA$26","v":"23.02.2026"},1,{"$f":"мощность!C26","v":0},1839.82,1839.82,0,0]
[{"$f":"мощность!$AA$26","v":"23.02.2026"},2,{"$f":"мощность!D26","v":0},1705.35,1705.35,0,0]
[{"$f":"мощность!$AA$26","v":"23.02.2026"},3,{"$f":"мощность!E26","v":0},1683.9,1683.9,0,0]
[{"$f":"мощность!$AA$26","v":"23.02.2026"},4,{"$f":"мощность!F26","v":0},1829.81,1829.81,0,0]
[{"$f":"мощность!$AA$26","v":"23.02.2026"},5,{"$f":"мощность!G26","v":0},1900.7,1900.7,0,0]
[{"$f":"мощность!$AA$26","v":"23.02.2026"},6,{"$f":"мощность!H26","v":0},1881.73,1881.73,0,0]
[{"$f":"мощность!$AA$26","v":"23.02.2026"},7,{"$f":"мощность!I26","v":0},2004.35,2004.35,0,0]
[{"$f":"мощность!$AA$26","v":"23.02.2026"},8,{"$f":"мощность!J26","v":0},2289.4899999999998,2289.4899999999998,0,0]
[{"$f":"мощность!$AA$26","v":"23.02.2026"},9,{"$f":"мощность!K26","v":0},2486.16,2486.16,0,0]
[{"$f":"мощность!$AA$26","v":"23.02.2026"},10,{"$f":"мощность!L26","v":0},2541.29,2541.29,0,0]
[{"$f":"мощность!$AA$26","v":"23.02.2026"},11,{"$f":"мощность!M26","v":0},2556.9299999999998,2556.9299999999998,0,0]
[{"$f":"мощность!$AA$26","v":"23.02.2026"},12,{"$f":"мощность!N26","v":0},2549.56,2549.56,0,0]
[{"$f":"мощность!$AA$26","v":"23.02.2026"},13,{"$f":"мощность!O26","v":0},2546.69,2546.69,0,0]
[{"$f":"мощность!$AA$26","v":"23.02.2026"},14,{"$f":"мощность!P26","v":0},2544.81,2544.81,0,0]
[{"$f":"мощность!$AA$26","v":"23.02.2026"},15,{"$f":"мощность!Q26","v":0},2507.9,2507.9,0,0]
[{"$f":"мощность!$AA$26","v":"23.02.2026"},16,{"$f":"мощность!R26","v":0},2497.21,2497.21,0,0]
[{"$f":"мощность!$AA$26","v":"23.02.2026"},17,{"$f":"мощность!S26","v":0},2532.54,2532.54,0,0]
[{"$f":"мощность!$AA$26","v":"23.02.2026"},18,{"$f":"мощность!T26","v":0},2581.5,2581.5,0,0]
[{"$f":"мощность!$AA$26","v":"23.02.2026"},19,{"$f":"мощность!U26","v":0},2581.9299999999998,2581.9299999999998,0,0]
[{"$f":"мощность!$AA$26","v":"23.02.2026"},20,{"$f":"мощность!V26","v":0},2597.31,2597.31,0,0]
[{"$f":"мощность!$AA$26","v":"23.02.2026"},21,{"$f":"мощность!W26","v":0},2529.62,2529.62,0,0]
[{"$f":"мощность!$AA$26","v":"23.02.2026"},22,{"$f":"мощность!X26","v":0},2344.86,2344.86,0,0]
[{"$f":"мощность!$AA$26","v":"23.02.2026"},23,{"$f":"мощность!Y26","v":0},2149.5700000000002,2149.5700000000002,0,0]
[{"$f":"мощность!$AA$27","v":"24.02.2026"},0,{"$f":"мощность!B27","v":0},1978.93,1978.93,0,0]
[{"$f":"мощность!$AA$27","v":"24.02.2026"},1,{"$f":"мощность!C27","v":0},1901.78,1901.78,0,0]
[{"$f":"мощность!$AA$27","v":"24.02.2026"},2,{"$f":"мощность!D27","v":0},1789.17,1789.17,0,0]
[{"$f":"мощность!$AA$27","v":"24.02.2026"},3,{"$f":"мощность!E27","v":0},1823.71,1823.71,0,0]
[{"$f":"мощность!$AA$27","v":"24.02.2026"},4,{"$f":"мощность!F27","v":0},1889.99,1889.99,0,0]
[{"$f":"мощность!$AA$27","v":"24.02.2026"},5,{"$f":"мощность!G27","v":0},2083.83,2083.83,0,0]
[{"$f":"мощность!$AA$27","v":"24.02.2026"},6,{"$f":"мощность!H27","v":0},2250.7600000000002,2250.7600000000002,0,0]
[{"$f":"мощность!$AA$27","v":"24.02.2026"},7,{"$f":"мощность!I27","v":0},2451.84,2451.84,0,0]
[{"$f":"мощность!$AA$27","v":"24.02.2026"},8,{"$f":"мощность!J27","v":0},2574.9,2574.9,0,0]
[{"$f":"мощность!$AA$27","v":"24.02.2026"},9,{"$f":"мощность!K27","v":0},2651.5,2651.5,0,0]
[{"$f":"мощность!$AA$27","v":"24.02.2026"},10,{"$f":"мощность!L27","v":0},2738.44,2738.44,0,0]
[{"$f":"мощность!$AA$27","v":"24.02.2026"},11,{"$f":"мощность!M27","v":0},2763.8,2763.8,0,0]
[{"$f":"мощность!$AA$27","v":"24.02.2026"},12,{"$f":"мощность!N27","v":0},2654.11,2654.11,0,0]
[{"$f":"мощность!$AA$27","v":"24.02.2026"},13,{"$f":"мощность!O27","v":0},2713.78,2713.78,0,0]
[{"$f":"мощность!$AA$27","v":"24.02.2026"},14,{"$f":"мощность!P27","v":0},2656.73,2656.73,0,0]
[{"$f":"мощность!$AA$27","v":"24.02.2026"},15,{"$f":"мощность!Q27","v":0},2631.37,2631.37,0,0]
[{"$f":"мощность!$AA$27","v":"24.02.2026"},16,{"$f":"мощность!R27","v":0},2585.5300000000002,2585.5300000000002,0,0]
[{"$f":"мощность!$AA$27","v":"24.02.2026"},17,{"$f":"мощность!S27","v":0},2569.13,2569.13,0,0]
[{"$f":"мощность!$AA$27","v":"24.02.2026"},18,{"$f":"мощность!T27","v":0},2638.21,2638.21,0,0]
[{"$f":"мощность!$AA$27","v":"24.02.2026"},19,{"$f":"мощность!U27","v":0},2636.97,2636.97,0,0]
[{"$f":"мощность!$AA$27","v":"24.02.2026"},20,{"$f":"мощность!V27","v":0},2581.9299999999998,2581.9299999999998,0,0]
[{"$f":"мощность!$AA$27","v":"24.02.2026"},21,{"$f":"мощность!W27","v":0},2462.34,2462.34,0,0]
[{"$f":"мощность!$AA$27","v":"24.02.2026"},22,{"$f":"мощность!X27","v":0},2259.4699999999998,2259.4699999999998,0,0]
[{"$f":"мощность!$AA$27","v":"24.02.2026"},23,{"$f":"мощность!Y27","v":0},1996.24,1996.24,0,0]
[{"$f":"мощность!$AA$28","v":"25.02.2026"},0,{"$f":"мощность!B28","v":0},1939.64,1939.64,0,0]
[{"$f":"мощность!$AA$28","v":"25.02.2026"},1,{"$f":"мощность!C28","v":0},1777.64,{"$f":"1*D579","v":1777.64},{"$f":"ROUND(C579*D579/1000,2)","v":0},{"$f":"ROUND(C579*E579/1000,2)","v":0}]
[{"$f":"мощность!$AA$28","v":"25.02.2026"},2,{"$f":"мощность!D28","v":0},1697.16,1697.16,0,0]
[{"$f":"мощность!$AA$28","v":"25.02.2026"},3,{"$f":"мощность!E28","v":0},1725.2,1725.2,0,0]
[{"$f":"мощность!$AA$28","v":"25.02.2026"},4,{"$f":"мощность!F28","v":0},1845.97,1845.97,0,0]
[{"$f":"мощность!$AA$28","v":"25.02.2026"},5,{"$f":"мощность!G28","v":0},2017.44,2017.44,0,0]
[{"$f":"мощность!$AA$28","v":"25.02.2026"},6,{"$f":"мощность!H28","v":0},2260.9,2260.9,0,0]
[{"$f":"мощность!$AA$28","v":"25.02.2026"},7,{"$f":"мощность!I28","v":0},2400.8200000000002,2400.8200000000002,0,0]
[{"$f":"мощность!$AA$28","v":"25.02.2026"},8,{"$f":"мощность!J28","v":0},2524.7399999999998,2524.7399999999998,0,0]
[{"$f":"мощность!$AA$28","v":"25.02.2026"},9,{"$f":"мощность!K28","v":0},2645,2645,0,0]
[{"$f":"мощность!$AA$28","v":"25.02.2026"},10,{"$f":"мощность!L28","v":0},2763.6,2763.6,0,0]
[{"$f":"мощность!$AA$28","v":"25.02.2026"},11,{"$f":"мощность!M28","v":0},2751.29,2751.29,0,0]
[{"$f":"мощность!$AA$28","v":"25.02.2026"},12,{"$f":"мощность!N28","v":0},2636.49,2636.49,0,0]
[{"$f":"мощность!$AA$28","v":"25.02.2026"},13,{"$f":"мощность!O28","v":0},2652.09,2652.09,0,0]
[{"$f":"мощность!$AA$28","v":"25.02.2026"},14,{"$f":"мощность!P28","v":0},2638.5,2638.5,0,0]
[{"$f":"мощность!$AA$28","v":"25.02.2026"},15,{"$f":"мощность!Q28","v":0},2608.4899999999998,2608.4899999999998,0,0]
[{"$f":"мощность!$AA$28","v":"25.02.2026"},16,{"$f":"мощность!R28","v":0},2560,2560,0,0]
[{"$f":"мощность!$AA$28","v":"25.02.2026"},17,{"$f":"мощность!S28","v":0},2529.44,2529.44,0,0]
[{"$f":"мощность!$AA$28","v":"25.02.2026"},18,{"$f":"мощность!T28","v":0},2574.69,2574.69,0,0]
[{"$f":"мощность!$AA$28","v":"25.02.2026"},19,{"$f":"мощность!U28","v":0},2608.38,2608.38,0,0]
[{"$f":"мощность!$AA$28","v":"25.02.2026"},20,{"$f":"мощность!V28","v":0},2564.09,2564.09,0,0]
[{"$f":"мощность!$AA$28","v":"25.02.2026"},21,{"$f":"мощность!W28","v":0},2468.98,2468.98,0,0]
[{"$f":"мощность!$AA$28","v":"25.02.2026"},22,{"$f":"мощность!X28","v":0},2281.4699999999998,2281.4699999999998,0,0]
[{"$f":"мощность!$AA$28","v":"25.02.2026"},23,{"$f":"мощность!Y28","v":0},1979.31,1979.31,0,0]
[{"$f":"мощность!$AA$29","v":"26.02.2026"},0,{"$f":"мощность!B29","v":0},1955.64,1955.64,0,0]
[{"$f":"мощность!$AA$29","v":"26.02.2026"},1,{"$f":"мощность!C29","v":0},1889.2,1889.2,0,0]
[{"$f":"мощность!$AA$29","v":"26.02.2026"},2,{"$f":"мощность!D29","v":0},1847.08,1847.08,0,0]
[{"$f":"мощность!$AA$29","v":"26.02.2026"},3,{"$f":"мощность!E29","v":0},1838.46,1838.46,0,0]
[{"$f":"мощность!$AA$29","v":"26.02.2026"},4,{"$f":"мощность!F29","v":0},1908.77,1908.77,0,0]
[{"$f":"мощность!$AA$29","v":"26.02.2026"},5,{"$f":"мощность!G29","v":0},2111.7800000000002,2111.7800000000002,0,0]
[{"$f":"мощность!$AA$29","v":"26.02.2026"},6,{"$f":"мощность!H29","v":0},2290.0700000000002,2290.0700000000002,0,0]
[{"$f":"мощность!$AA$29","v":"26.02.2026"},7,{"$f":"мощность!I29","v":0},2363.62,2363.62,0,0]
[{"$f":"мощность!$AA$29","v":"26.02.2026"},8,{"$f":"мощность!J29","v":0},2648.36,2648.36,0,0]
[{"$f":"мощность!$AA$29","v":"26.02.2026"},9,{"$f":"мощность!K29","v":0},2730.89,2730.89,0,0]
[{"$f":"мощность!$AA$29","v":"26.02.2026"},10,{"$f":"мощность!L29","v":0},2765.55,2765.55,0,0]
[{"$f":"мощность!$AA$29","v":"26.02.2026"},11,{"$f":"мощность!M29","v":0},2792.65,2792.65,0,0]
[{"$f":"мощность!$AA$29","v":"26.02.2026"},12,{"$f":"мощность!N29","v":0},2786.53,2786.53,0,0]
[{"$f":"мощность!$AA$29","v":"26.02.2026"},13,{"$f":"мощность!O29","v":0},2774.39,2774.39,0,0]
[{"$f":"мощность!$AA$29","v":"26.02.2026"},14,{"$f":"мощность!P29","v":0},2784.16,2784.16,0,0]
[{"$f":"мощность!$AA$29","v":"26.02.2026"},15,{"$f":"мощность!Q29","v":0},2779.85,2779.85,0,0]
[{"$f":"мощность!$AA$29","v":"26.02.2026"},16,{"$f":"мощность!R29","v":0},2695.8,2695.8,0,0]
[{"$f":"мощность!$AA$29","v":"26.02.2026"},17,{"$f":"мощность!S29","v":0},2674.91,2674.91,0,0]
[{"$f":"мощность!$AA$29","v":"26.02.2026"},18,{"$f":"мощность!T29","v":0},2715.57,2715.57,0,0]
[{"$f":"мощность!$AA$29","v":"26.02.2026"},19,{"$f":"мощность!U29","v":0},2764.1,2764.1,0,0]
[{"$f":"мощность!$AA$29","v":"26.02.2026"},20,{"$f":"мощность!V29","v":0},2711.6,2711.6,0,0]
[{"$f":"мощность!$AA$29","v":"26.02.2026"},21,{"$f":"мощность!W29","v":0},2606.73,2606.73,0,0]
[{"$f":"мощность!$AA$29","v":"26.02.2026"},22,{"$f":"мощность!X29","v":0},2344.29,2344.29,0,0]
[{"$f":"мощность!$AA$29","v":"26.02.2026"},23,{"$f":"мощность!Y29","v":0},2127.54,2127.54,0,0]
[{"$f":"мощность!$AA$30","v":"27.02.2026"},0,{"$f":"мощность!B30","v":0},1913.87,1913.87,0,0]
[{"$f":"мощность!$AA$30","v":"27.02.2026"},1,{"$f":"мощность!C30","v":0},1817.29,1817.29,0,0]
[{"$f":"мощность!$AA$30","v":"27.02.2026"},2,{"$f":"мощность!D30","v":0},1741.62,1741.62,0,0]
[{"$f":"мощность!$AA$30","v":"27.02.2026"},3,{"$f":"мощность!E30","v":0},1716.97,1716.97,0,0]
[{"$f":"мощность!$AA$30","v":"27.02.2026"},4,{"$f":"мощность!F30","v":0},1804.5,1804.5,0,0]
[{"$f":"мощность!$AA$30","v":"27.02.2026"},5,{"$f":"мощность!G30","v":0},1978.39,1978.39,0,0]
[{"$f":"мощность!$AA$30","v":"27.02.2026"},6,{"$f":"мощность!H30","v":0},2274.4499999999998,2274.4499999999998,0,0]
[{"$f":"мощность!$AA$30","v":"27.02.2026"},7,{"$f":"мощность!I30","v":0},2415.44,2415.44,0,0]
[{"$f":"мощность!$AA$30","v":"27.02.2026"},8,{"$f":"мощность!J30","v":0},2546.39,2546.39,0,0]
[{"$f":"мощность!$AA$30","v":"27.02.2026"},9,{"$f":"мощность!K30","v":0},2609.11,2609.11,0,0]
[{"$f":"мощность!$AA$30","v":"27.02.2026"},10,{"$f":"мощность!L30","v":0},2622.64,2622.64,0,0]
[{"$f":"мощность!$AA$30","v":"27.02.2026"},11,{"$f":"мощность!M30","v":0},2673.2,2673.2,0,0]
[{"$f":"мощность!$AA$30","v":"27.02.2026"},12,{"$f":"мощность!N30","v":0},2661,2661,0,0]
[{"$f":"мощность!$AA$30","v":"27.02.2026"},13,{"$f":"мощность!O30","v":0},2658.11,2658.11,0,0]
[{"$f":"мощность!$AA$30","v":"27.02.2026"},14,{"$f":"мощность!P30","v":0},2652.02,2652.02,0,0]
[{"$f":"мощность!$AA$30","v":"27.02.2026"},15,{"$f":"мощность!Q30","v":0},2634.73,2634.73,0,0]
[{"$f":"мощность!$AA$30","v":"27.02.2026"},16,{"$f":"мощность!R30","v":0},2565.88,2565.88,0,0]
[{"$f":"мощность!$AA$30","v":"27.02.2026"},17,{"$f":"мощность!S30","v":0},2521.7600000000002,{"$f":"1*D643","v":2521.7600000000002},{"$f":"ROUND(C643*D643/1000,2)","v":0},{"$f":"ROUND(C643*E643/1000,2)","v":0}]
[{"$f":"мощность!$AA$30","v":"27.02.2026"},18,{"$f":"мощность!T30","v":0},2590.11,2590.11,0,0]
[{"$f":"мощность!$AA$30","v":"27.02.2026"},19,{"$f":"мощность!U30","v":0},2609.19,2609.19,0,0]
[{"$f":"мощность!$AA$30","v":"27.02.2026"},20,{"$f":"мощность!V30","v":0},2546.23,2546.23,0,0]
[{"$f":"мощность!$AA$30","v":"27.02.2026"},21,{"$f":"мощность!W30","v":0},2471.63,2471.63,0,0]
[{"$f":"мощность!$AA$30","v":"27.02.2026"},22,{"$f":"мощность!X30","v":0},2308.14,2308.14,0,0]
[{"$f":"мощность!$AA$30","v":"27.02.2026"},23,{"$f":"мощность!Y30","v":0},1981.08,1981.08,0,0]
[{"$f":"мощность!$AA$31","v":"28.02.2026"},0,{"$f":"мощность!B31","v":0},2003.65,2003.65,0,0]
[{"$f":"мощность!$AA$31","v":"28.02.2026"},1,{"$f":"мощность!C31","v":0},1917.53,1917.53,0,0]
[{"$f":"мощность!$AA$31","v":"28.02.2026"},2,{"$f":"мощность!D31","v":0},1863.22,1863.22,0,0]
[{"$f":"мощность!$AA$31","v":"28.02.2026"},3,{"$f":"мощность!E31","v":0},1834.48,1834.48,0,0]
[{"$f":"мощность!$AA$31","v":"28.02.2026"},4,{"$f":"мощность!F31","v":0},1851.84,1851.84,0,0]
[{"$f":"мощность!$AA$31","v":"28.02.2026"},5,{"$f":"мощность!G31","v":0},1920.94,1920.94,0,0]
[{"$f":"мощность!$AA$31","v":"28.02.2026"},6,{"$f":"мощность!H31","v":0},1926.67,1926.67,0,0]
[{"$f":"мощность!$AA$31","v":"28.02.2026"},7,{"$f":"мощность!I31","v":0},2282.81,2282.81,0,0]
[{"$f":"мощность!$AA$31","v":"28.02.2026"},8,{"$f":"мощность!J31","v":0},2332.88,2332.88,0,0]
[{"$f":"мощность!$AA$31","v":"28.02.2026"},9,{"$f":"мощность!K31","v":0},2446.92,2446.92,0,0]
[{"$f":"мощность!$AA$31","v":"28.02.2026"},10,{"$f":"мощность!L31","v":0},2553.44,2553.44,0,0]
[{"$f":"мощность!$AA$31","v":"28.02.2026"},11,{"$f":"мощность!M31","v":0},2514.92,2514.92,0,0]
[{"$f":"мощность!$AA$31","v":"28.02.2026"},12,{"$f":"мощность!N31","v":0},2414.3000000000002,2414.3000000000002,0,0]
[{"$f":"мощность!$AA$31","v":"28.02.2026"},13,{"$f":"мощность!O31","v":0},2404.3000000000002,2404.3000000000002,0,0]
[{"$f":"мощность!$AA$31","v":"28.02.2026"},14,{"$f":"мощность!P31","v":0},2396.5500000000002,2396.5500000000002,0,0]
[{"$f":"мощность!$AA$31","v":"28.02.2026"},15,{"$f":"мощность!Q31","v":0},2388.41,2388.41,0,0]
[{"$f":"мощность!$AA$31","v":"28.02.2026"},16,{"$f":"мощность!R31","v":0},2376.9299999999998,2376.9299999999998,0,0]
[{"$f":"мощность!$AA$31","v":"28.02.2026"},17,{"$f":"мощность!S31","v":0},2396.8200000000002,2396.8200000000002,0,0]
[{"$f":"мощность!$AA$31","v":"28.02.2026"},18,{"$f":"мощность!T31","v":0},2456.61,2456.61,0,0]
[{"$f":"мощность!$AA$31","v":"28.02.2026"},19,{"$f":"мощность!U31","v":0},2466.33,2466.33,0,0]
[{"$f":"мощность!$AA$31","v":"28.02.2026"},20,{"$f":"мощность!V31","v":0},2406.83,2406.83,0,0]
[{"$f":"мощность!$AA$31","v":"28.02.2026"},21,{"$f":"мощность!W31","v":0},2351.11,2351.11,0,0]
[{"$f":"мощность!$AA$31","v":"28.02.2026"},22,{"$f":"мощность!X31","v":0},2306.23,2306.23,0,0]
[{"$f":"мощность!$AA$31","v":"28.02.2026"},23,{"$f":"мощность!Y31","v":0},2123.6799999999998,2123.6799999999998,0,0]
["ИТОГО",null,{"$f":"SUM(C2:C673)","v":0},{"$f":"ROUND(F674/C674*1000,2)","v":{"$error":"#DIV/0!"}},{"$f":"ROUND(G674/C674*1000,2)","v":{"$error":"#DIV/0!"}},{"$f":"SUM(F2:F673)","v":0},{"$f":"SUM(G2:G673)","v":0}]
[]
["Средневзвешенная нерегулируемая цена на мощность",null,{"$f":"ROUND(мощность!AB35,0)","v":0},{"$f":"Нерег.цена!B32","v":"971764,66"},{"$f":"ROUND(1*D676,2)","v":971764.66},{"$f":"ROUND(C676*D676,2)/1000","v":0},{"$f":"C676*E676/1000","v":0}]
[null,null,null,"377213,16"]
[]
["Показатель",null,"Объём (КВтч)","Цена руб/МВтч","Стоимость, руб.","Стоимость с НДС, руб.","в т.ч. НДС (22%)"]
["Электроэнергия",null,{"$f":"C674","v":0},{"$f":"E674","v":{"$error":"#DIV/0!"}},{"$f":"ROUND(D680*C680/1000,2)","v":{"$error":"#DIV/0!"}},{"$f":"ROUND(E680*1.22,2)","v":{"$error":"#DIV/0!"}},{"$f":"ROUND(E680*1.22,2)-E680","v":{"$error":"#DIV/0!"}}]
["Мощность",null,{"$f":"C676","v":0},{"$f":"E676","v":971764.66},{"$f":"ROUND(D681*C681/1000,2)","v":0},{"$f":"ROUND(E681*1.22,2)","v":0},{"$f":"ROUND(E681*1.22,2)-E681","v":0}]
["ИТОГО",null,"Х",null,{"$f":"SUM(E680:E681)","v":{"$error":"#DIV/0!"}},{"$f":"SUM(F680:F681)","v":{"$error":"#DIV/0!"}},{"$f":"SUM(G680:G681)","v":{"$error":"#DIV/0!"}}]

{"sheet":"округл","index":4,"n_rows":91,"n_cols":33,"rows_kept":91,"cut":false,"hidden":true,"merged":[]}
[null,"Почасовые расходы,кВтч ( мощность,кВт ) "]
[]
[null,"за ",{"$f":"мощность!B1","v":"февраль"}]
[]
[null,1,2,3,4,5,6,7,8,9,10,11,12,13,14,15,16,17,18,19,20,21,22,23,24,25,26,27,28,29,30,31]
[1,{"$f":"ввод!$B$5","v":0},{"$f":"ввод!$B$6","v":0},{"$f":"ввод!$B$7","v":0},{"$f":"ввод!$B$8","v":0},{"$f":"ввод!$B$9","v":0},{"$f":"ввод!$B$10","v":0},{"$f":"ввод!$B$11","v":0},{"$f":"ввод!$B$12","v":0},{"$f":"ввод!$B$13","v":0},{"$f":"ввод!$B$14","v":0},{"$f":"ввод!$B$15","v":0},{"$f":"ввод!$B$16","v":0},{"$f":"ввод!$B$17","v":0},{"$f":"ввод!$B$18","v":0},{"$f":"ввод!$B$19","v":0},{"$f":"ввод!$B$20","v":0},{"$f":"ввод!$B$21","v":0},{"$f":"ввод!$B$22","v":0},{"$f":"ввод!$B$23","v":0},{"$f":"ввод!$B$24","v":0},{"$f":"ввод!$B$25","v":0},{"$f":"ввод!$B$26","v":0},{"$f":"ввод!$B$27","v":0},{"$f":"ввод!$B$28","v":0},{"$f":"ввод!$B$29","v":0},{"$f":"ввод!$B$30","v":0},{"$f":"ввод!$B$31","v":0},{"$f":"ввод!$B$32","v":0},{"$f":"ввод!$B$33","v":0},{"$f":"ввод!$B$34","v":0},{"$f":"ввод!$B$35","v":0}]
[2,{"$f":"ввод!$C$5","v":0},{"$f":"ввод!$C$6","v":0},{"$f":"ввод!$C$7","v":0},{"$f":"ввод!$C$8","v":0},{"$f":"ввод!$C$9","v":0},{"$f":"ввод!$C$10","v":0},{"$f":"ввод!$C$11","v":0},{"$f":"ввод!$C$12","v":0},{"$f":"ввод!$C$13","v":0},{"$f":"ввод!$C$14","v":0},{"$f":"ввод!$C$15","v":0},{"$f":"ввод!$C$16","v":0},{"$f":"ввод!$C$17","v":0},{"$f":"ввод!$C$18","v":0},{"$f":"ввод!$C$19","v":0},{"$f":"ввод!$C$20","v":0},{"$f":"ввод!$C$21","v":0},{"$f":"ввод!$C$22","v":0},{"$f":"ввод!$C$23","v":0},{"$f":"ввод!$C$24","v":0},{"$f":"ввод!$C$25","v":0},{"$f":"ввод!$C$26","v":0},{"$f":"ввод!$C$27","v":0},{"$f":"ввод!$C$28","v":0},{"$f":"ввод!$C$29","v":0},{"$f":"ввод!$C$30","v":0},{"$f":"ввод!$C$31","v":0},{"$f":"ввод!$C$32","v":0},{"$f":"ввод!$C$33","v":0},{"$f":"ввод!$C$34","v":0},{"$f":"ввод!$C$35","v":0}]
[3,{"$f":"ввод!$D$5","v":0},{"$f":"ввод!$D$6","v":0},{"$f":"ввод!$D$7","v":0},{"$f":"ввод!$D$8","v":0},{"$f":"ввод!$D$9","v":0},{"$f":"ввод!$D$10","v":0},{"$f":"ввод!$D$11","v":0},{"$f":"ввод!$D$12","v":0},{"$f":"ввод!$D$13","v":0},{"$f":"ввод!$D$14","v":0},{"$f":"ввод!$D$15","v":0},{"$f":"ввод!$D$16","v":0},{"$f":"ввод!$D$17","v":0},{"$f":"ввод!$D$18","v":0},{"$f":"ввод!$D$19","v":0},{"$f":"ввод!$D$20","v":0},{"$f":"ввод!$D$21","v":0},{"$f":"ввод!$D$22","v":0},{"$f":"ввод!$D$23","v":0},{"$f":"ввод!$D$24","v":0},{"$f":"ввод!$D$25","v":0},{"$f":"ввод!$D$26","v":0},{"$f":"ввод!$D$27","v":0},{"$f":"ввод!$D$28","v":0},{"$f":"ввод!$D$29","v":0},{"$f":"ввод!$D$30","v":0},{"$f":"ввод!$D$31","v":0},{"$f":"ввод!$D$32","v":0},{"$f":"ввод!$D$33","v":0},{"$f":"ввод!$D$34","v":0},{"$f":"ввод!$D$35","v":0}]
[4,{"$f":"ввод!$E$5","v":0},{"$f":"ввод!$E$6","v":0},{"$f":"ввод!$E$7","v":0},{"$f":"ввод!$E$8","v":0},{"$f":"ввод!$E$9","v":0},{"$f":"ввод!$E$10","v":0},{"$f":"ввод!$E$11","v":0},{"$f":"ввод!$E$12","v":0},{"$f":"ввод!$E$13","v":0},{"$f":"ввод!$E$14","v":0},{"$f":"ввод!$E$15","v":0},{"$f":"ввод!$E$16","v":0},{"$f":"ввод!$E$17","v":0},{"$f":"ввод!$E$18","v":0},{"$f":"ввод!$E$19","v":0},{"$f":"ввод!$E$20","v":0},{"$f":"ввод!$E$21","v":0},{"$f":"ввод!$E$22","v":0},{"$f":"ввод!$E$23","v":0},{"$f":"ввод!$E$24","v":0},{"$f":"ввод!$E$25","v":0},{"$f":"ввод!$E$26","v":0},{"$f":"ввод!$E$27","v":0},{"$f":"ввод!$E$28","v":0},{"$f":"ввод!$E$29","v":0},{"$f":"ввод!$E$30","v":0},{"$f":"ввод!$E$31","v":0},{"$f":"ввод!$E$32","v":0},{"$f":"ввод!$E$33","v":0},{"$f":"ввод!$E$34","v":0},{"$f":"ввод!$E$35","v":0}]
[5,{"$f":"ввод!$F$5","v":0},{"$f":"ввод!$F$6","v":0},{"$f":"ввод!$F$7","v":0},{"$f":"ввод!$F$8","v":0},{"$f":"ввод!$F$9","v":0},{"$f":"ввод!$F$10","v":0},{"$f":"ввод!$F$11","v":0},{"$f":"ввод!$F$12","v":0},{"$f":"ввод!$F$13","v":0},{"$f":"ввод!$F$14","v":0},{"$f":"ввод!$F$15","v":0},{"$f":"ввод!$F$16","v":0},{"$f":"ввод!$F$17","v":0},{"$f":"ввод!$F$18","v":0},{"$f":"ввод!$F$19","v":0},{"$f":"ввод!$F$20","v":0},{"$f":"ввод!$F$21","v":0},{"$f":"ввод!$F$22","v":0},{"$f":"ввод!$F$23","v":0},{"$f":"ввод!$F$24","v":0},{"$f":"ввод!$F$25","v":0},{"$f":"ввод!$F$26","v":0},{"$f":"ввод!$F$27","v":0},{"$f":"ввод!$F$28","v":0},{"$f":"ввод!$F$29","v":0},{"$f":"ввод!$F$30","v":0},{"$f":"ввод!$F$31","v":0},{"$f":"ввод!$F$32","v":0},{"$f":"ввод!$F$33","v":0},{"$f":"ввод!$F$34","v":0},{"$f":"ввод!$F$35","v":0}]
[6,{"$f":"ввод!$G$5","v":0},{"$f":"ввод!$G$6","v":0},{"$f":"ввод!$G$7","v":0},{"$f":"ввод!$G$8","v":0},{"$f":"ввод!$G$9","v":0},{"$f":"ввод!$G$10","v":0},{"$f":"ввод!$G$11","v":0},{"$f":"ввод!$G$12","v":0},{"$f":"ввод!$G$13","v":0},{"$f":"ввод!$G$14","v":0},{"$f":"ввод!$G$15","v":0},{"$f":"ввод!$G$16","v":0},{"$f":"ввод!$G$17","v":0},{"$f":"ввод!$G$18","v":0},{"$f":"ввод!$G$19","v":0},{"$f":"ввод!$G$20","v":0},{"$f":"ввод!$G$21","v":0},{"$f":"ввод!$G$22","v":0},{"$f":"ввод!$G$23","v":0},{"$f":"ввод!$G$24","v":0},{"$f":"ввод!$G$25","v":0},{"$f":"ввод!$G$26","v":0},{"$f":"ввод!$G$27","v":0},{"$f":"ввод!$G$28","v":0},{"$f":"ввод!$G$29","v":0},{"$f":"ввод!$G$30","v":0},{"$f":"ввод!$G$31","v":0},{"$f":"ввод!$G$32","v":0},{"$f":"ввод!$G$33","v":0},{"$f":"ввод!$G$34","v":0},{"$f":"ввод!$G$35","v":0}]
[7,{"$f":"ввод!$H$5","v":0},{"$f":"ввод!$H$6","v":0},{"$f":"ввод!$H$7","v":0},{"$f":"ввод!$H$8","v":0},{"$f":"ввод!$H$9","v":0},{"$f":"ввод!$H$10","v":0},{"$f":"ввод!$H$11","v":0},{"$f":"ввод!$H$12","v":0},{"$f":"ввод!$H$13","v":0},{"$f":"ввод!$H$14","v":0},{"$f":"ввод!$H$15","v":0},{"$f":"ввод!$H$16","v":0},{"$f":"ввод!$H$17","v":0},{"$f":"ввод!$H$18","v":0},{"$f":"ввод!$H$19","v":0},{"$f":"ввод!$H$20","v":0},{"$f":"ввод!$H$21","v":0},{"$f":"ввод!$H$22","v":0},{"$f":"ввод!$H$23","v":0},{"$f":"ввод!$H$24","v":0},{"$f":"ввод!$H$25","v":0},{"$f":"ввод!$H$26","v":0},{"$f":"ввод!$H$27","v":0},{"$f":"ввод!$H$28","v":0},{"$f":"ввод!$H$29","v":0},{"$f":"ввод!$H$30","v":0},{"$f":"ввод!$H$31","v":0},{"$f":"ввод!$H$32","v":0},{"$f":"ввод!$H$33","v":0},{"$f":"ввод!$H$34","v":0},{"$f":"ввод!$H$35","v":0}]
[8,{"$f":"ввод!$I$5","v":0},{"$f":"ввод!$I$6","v":0},{"$f":"ввод!$I$7","v":0},{"$f":"ввод!$I$8","v":0},{"$f":"ввод!$I$9","v":0},{"$f":"ввод!$I$10","v":0},{"$f":"ввод!$I$11","v":0},{"$f":"ввод!$I$12","v":0},{"$f":"ввод!$I$13","v":0},{"$f":"ввод!$I$14","v":0},{"$f":"ввод!$I$15","v":0},{"$f":"ввод!$I$16","v":0},{"$f":"ввод!$I$17","v":0},{"$f":"ввод!$I$18","v":0},{"$f":"ввод!$I$19","v":0},{"$f":"ввод!$I$20","v":0},{"$f":"ввод!$I$21","v":0},{"$f":"ввод!$I$22","v":0},{"$f":"ввод!$I$23","v":0},{"$f":"ввод!$I$24","v":0},{"$f":"ввод!$I$25","v":0},{"$f":"ввод!$I$26","v":0},{"$f":"ввод!$I$27","v":0},{"$f":"ввод!$I$28","v":0},{"$f":"ввод!$I$29","v":0},{"$f":"ввод!$I$30","v":0},{"$f":"ввод!$I$31","v":0},{"$f":"ввод!$I$32","v":0},{"$f":"ввод!$I$33","v":0},{"$f":"ввод!$I$34","v":0},{"$f":"ввод!$I$35","v":0}]
[9,{"$f":"ввод!$J$5","v":0},{"$f":"ввод!$J$6","v":0},{"$f":"ввод!$J$7","v":0},{"$f":"ввод!$J$8","v":0},{"$f":"ввод!$J$9","v":0},{"$f":"ввод!$J$10","v":0},{"$f":"ввод!$J$11","v":0},{"$f":"ввод!$J$12","v":0},{"$f":"ввод!$J$13","v":0},{"$f":"ввод!$J$14","v":0},{"$f":"ввод!$J$15","v":0},{"$f":"ввод!$J$16","v":0},{"$f":"ввод!$J$17","v":0},{"$f":"ввод!$J$18","v":0},{"$f":"ввод!$J$19","v":0},{"$f":"ввод!$J$20","v":0},{"$f":"ввод!$J$21","v":0},{"$f":"ввод!$J$22","v":0},{"$f":"ввод!$J$23","v":0},{"$f":"ввод!$J$24","v":0},{"$f":"ввод!$J$25","v":0},{"$f":"ввод!$J$26","v":0},{"$f":"ввод!$J$27","v":0},{"$f":"ввод!$J$28","v":0},{"$f":"ввод!$J$29","v":0},{"$f":"ввод!$J$30","v":0},{"$f":"ввод!$J$31","v":0},{"$f":"ввод!$J$32","v":0},{"$f":"ввод!$J$33","v":0},{"$f":"ввод!$J$34","v":0},{"$f":"ввод!$J$35","v":0}]
[10,{"$f":"ввод!$K$5","v":0},{"$f":"ввод!$K$6","v":0},{"$f":"ввод!$K$7","v":0},{"$f":"ввод!$K$8","v":0},{"$f":"ввод!$K$9","v":0},{"$f":"ввод!$K$10","v":0},{"$f":"ввод!$K$11","v":0},{"$f":"ввод!$K$12","v":0},{"$f":"ввод!$K$13","v":0},{"$f":"ввод!$K$14","v":0},{"$f":"ввод!$K$15","v":0},{"$f":"ввод!$K$16","v":0},{"$f":"ввод!$K$17","v":0},{"$f":"ввод!$K$18","v":0},{"$f":"ввод!$K$19","v":0},{"$f":"ввод!$K$20","v":0},{"$f":"ввод!$K$21","v":0},{"$f":"ввод!$K$22","v":0},{"$f":"ввод!$K$23","v":0},{"$f":"ввод!$K$24","v":0},{"$f":"ввод!$K$25","v":0},{"$f":"ввод!$K$26","v":0},{"$f":"ввод!$K$27","v":0},{"$f":"ввод!$K$28","v":0},{"$f":"ввод!$K$29","v":0},{"$f":"ввод!$K$30","v":0},{"$f":"ввод!$K$31","v":0},{"$f":"ввод!$K$32","v":0},{"$f":"ввод!$K$33","v":0},{"$f":"ввод!$K$34","v":0},{"$f":"ввод!$K$35","v":0}]
[11,{"$f":"ввод!$L$5","v":0},{"$f":"ввод!$L$6","v":0},{"$f":"ввод!$L$7","v":0},{"$f":"ввод!$L$8","v":0},{"$f":"ввод!$L$9","v":0},{"$f":"ввод!$L$10","v":0},{"$f":"ввод!$L$11","v":0},{"$f":"ввод!$L$12","v":0},{"$f":"ввод!$L$13","v":0},{"$f":"ввод!$L$14","v":0},{"$f":"ввод!$L$15","v":0},{"$f":"ввод!$L$16","v":0},{"$f":"ввод!$L$17","v":0},{"$f":"ввод!$L$18","v":0},{"$f":"ввод!$L$19","v":0},{"$f":"ввод!$L$20","v":0},{"$f":"ввод!$L$21","v":0},{"$f":"ввод!$L$22","v":0},{"$f":"ввод!$L$23","v":0},{"$f":"ввод!$L$24","v":0},{"$f":"ввод!$L$25","v":0},{"$f":"ввод!$L$26","v":0},{"$f":"ввод!$L$27","v":0},{"$f":"ввод!$L$28","v":0},{"$f":"ввод!$L$29","v":0},{"$f":"ввод!$L$30","v":0},{"$f":"ввод!$L$31","v":0},{"$f":"ввод!$L$32","v":0},{"$f":"ввод!$L$33","v":0},{"$f":"ввод!$L$34","v":0},{"$f":"ввод!$L$35","v":0}]
[12,{"$f":"ввод!$M$5","v":0},{"$f":"ввод!$M$6","v":0},{"$f":"ввод!$M$7","v":0},{"$f":"ввод!$M$8","v":0},{"$f":"ввод!$M$9","v":0},{"$f":"ввод!$M$10","v":0},{"$f":"ввод!$M$11","v":0},{"$f":"ввод!$M$12","v":0},{"$f":"ввод!$M$13","v":0},{"$f":"ввод!$M$14","v":0},{"$f":"ввод!$M$15","v":0},{"$f":"ввод!$M$16","v":0},{"$f":"ввод!$M$17","v":0},{"$f":"ввод!$M$18","v":0},{"$f":"ввод!$M$19","v":0},{"$f":"ввод!$M$20","v":0},{"$f":"ввод!$M$21","v":0},{"$f":"ввод!$M$22","v":0},{"$f":"ввод!$M$23","v":0},{"$f":"ввод!$M$24","v":0},{"$f":"ввод!$M$25","v":0},{"$f":"ввод!$M$26","v":0},{"$f":"ввод!$M$27","v":0},{"$f":"ввод!$M$28","v":0},{"$f":"ввод!$M$29","v":0},{"$f":"ввод!$M$30","v":0},{"$f":"ввод!$M$31","v":0},{"$f":"ввод!$M$32","v":0},{"$f":"ввод!$M$33","v":0},{"$f":"ввод!$M$34","v":0},{"$f":"ввод!$M$35","v":0}]
[13,{"$f":"ввод!$N$5","v":0},{"$f":"ввод!$N$6","v":0},{"$f":"ввод!$N$7","v":0},{"$f":"ввод!$N$8","v":0},{"$f":"ввод!$N$9","v":0},{"$f":"ввод!$N$10","v":0},{"$f":"ввод!$N$11","v":0},{"$f":"ввод!$N$12","v":0},{"$f":"ввод!$N$13","v":0},{"$f":"ввод!$N$14","v":0},{"$f":"ввод!$N$15","v":0},{"$f":"ввод!$N$16","v":0},{"$f":"ввод!$N$17","v":0},{"$f":"ввод!$N$18","v":0},{"$f":"ввод!$N$19","v":0},{"$f":"ввод!$N$20","v":0},{"$f":"ввод!$N$21","v":0},{"$f":"ввод!$N$22","v":0},{"$f":"ввод!$N$23","v":0},{"$f":"ввод!$N$24","v":0},{"$f":"ввод!$N$25","v":0},{"$f":"ввод!$N$26","v":0},{"$f":"ввод!$N$27","v":0},{"$f":"ввод!$N$28","v":0},{"$f":"ввод!$N$29","v":0},{"$f":"ввод!$N$30","v":0},{"$f":"ввод!$N$31","v":0},{"$f":"ввод!$N$32","v":0},{"$f":"ввод!$N$33","v":0},{"$f":"ввод!$N$34","v":0},{"$f":"ввод!$N$35","v":0}]
[14,{"$f":"ввод!$O$5","v":0},{"$f":"ввод!$O$6","v":0},{"$f":"ввод!$O$7","v":0},{"$f":"ввод!$O$8","v":0},{"$f":"ввод!$O$9","v":0},{"$f":"ввод!$O$10","v":0},{"$f":"ввод!$O$11","v":0},{"$f":"ввод!$O$12","v":0},{"$f":"ввод!$O$13","v":0},{"$f":"ввод!$O$14","v":0},{"$f":"ввод!$O$15","v":0},{"$f":"ввод!$O$16","v":0},{"$f":"ввод!$O$17","v":0},{"$f":"ввод!$O$18","v":0},{"$f":"ввод!$O$19","v":0},{"$f":"ввод!$O$20","v":0},{"$f":"ввод!$O$21","v":0},{"$f":"ввод!$O$22","v":0},{"$f":"ввод!$O$23","v":0},{"$f":"ввод!$O$24","v":0},{"$f":"ввод!$O$25","v":0},{"$f":"ввод!$O$26","v":0},{"$f":"ввод!$O$27","v":0},{"$f":"ввод!$O$28","v":0},{"$f":"ввод!$O$29","v":0},{"$f":"ввод!$O$30","v":0},{"$f":"ввод!$O$31","v":0},{"$f":"ввод!$O$32","v":0},{"$f":"ввод!$O$33","v":0},{"$f":"ввод!$O$34","v":0},{"$f":"ввод!$O$35","v":0}]
[15,{"$f":"ввод!$P$5","v":0},{"$f":"ввод!$P$6","v":0},{"$f":"ввод!$P$7","v":0},{"$f":"ввод!$P$8","v":0},{"$f":"ввод!$P$9","v":0},{"$f":"ввод!$P$10","v":0},{"$f":"ввод!$P$11","v":0},{"$f":"ввод!$P$12","v":0},{"$f":"ввод!$P$13","v":0},{"$f":"ввод!$P$14","v":0},{"$f":"ввод!$P$15","v":0},{"$f":"ввод!$P$16","v":0},{"$f":"ввод!$P$17","v":0},{"$f":"ввод!$P$18","v":0},{"$f":"ввод!$P$19","v":0},{"$f":"ввод!$P$20","v":0},{"$f":"ввод!$P$21","v":0},{"$f":"ввод!$P$22","v":0},{"$f":"ввод!$P$23","v":0},{"$f":"ввод!$P$24","v":0},{"$f":"ввод!$P$25","v":0},{"$f":"ввод!$P$26","v":0},{"$f":"ввод!$P$27","v":0},{"$f":"ввод!$P$28","v":0},{"$f":"ввод!$P$29","v":0},{"$f":"ввод!$P$30","v":0},{"$f":"ввод!$P$31","v":0},{"$f":"ввод!$P$32","v":0},{"$f":"ввод!$P$33","v":0},{"$f":"ввод!$P$34","v":0},{"$f":"ввод!$P$35","v":0}]
[16,{"$f":"ввод!$Q$5","v":0},{"$f":"ввод!$Q$6","v":0},{"$f":"ввод!$Q$7","v":0},{"$f":"ввод!$Q$8","v":0},{"$f":"ввод!$Q$9","v":0},{"$f":"ввод!$Q$10","v":0},{"$f":"ввод!$Q$11","v":0},{"$f":"ввод!$Q$12","v":0},{"$f":"ввод!$Q$13","v":0},{"$f":"ввод!$Q$14","v":0},{"$f":"ввод!$Q$15","v":0},{"$f":"ввод!$Q$16","v":0},{"$f":"ввод!$Q$17","v":0},{"$f":"ввод!$Q$18","v":0},{"$f":"ввод!$Q$19","v":0},{"$f":"ввод!$Q$20","v":0},{"$f":"ввод!$Q$21","v":0},{"$f":"ввод!$Q$22","v":0},{"$f":"ввод!$Q$23","v":0},{"$f":"ввод!$Q$24","v":0},{"$f":"ввод!$Q$25","v":0},{"$f":"ввод!$Q$26","v":0},{"$f":"ввод!$Q$27","v":0},{"$f":"ввод!$Q$28","v":0},{"$f":"ввод!$Q$29","v":0},{"$f":"ввод!$Q$30","v":0},{"$f":"ввод!$Q$31","v":0},{"$f":"ввод!$Q$32","v":0},{"$f":"ввод!$Q$33","v":0},{"$f":"ввод!$Q$34","v":0},{"$f":"ввод!$Q$35","v":0}]
[17,{"$f":"ввод!$R$5","v":0},{"$f":"ввод!$R$6","v":0},{"$f":"ввод!$R$7","v":0},{"$f":"ввод!$R$8","v":0},{"$f":"ввод!$R$9","v":0},{"$f":"ввод!$R$10","v":0},{"$f":"ввод!$R$11","v":0},{"$f":"ввод!$R$12","v":0},{"$f":"ввод!$R$13","v":0},{"$f":"ввод!$R$14","v":0},{"$f":"ввод!$R$15","v":0},{"$f":"ввод!$R$16","v":0},{"$f":"ввод!$R$17","v":0},{"$f":"ввод!$R$18","v":0},{"$f":"ввод!$R$19","v":0},{"$f":"ввод!$R$20","v":0},{"$f":"ввод!$R$21","v":0},{"$f":"ввод!$R$22","v":0},{"$f":"ввод!$R$23","v":0},{"$f":"ввод!$R$24","v":0},{"$f":"ввод!$R$25","v":0},{"$f":"ввод!$R$26","v":0},{"$f":"ввод!$R$27","v":0},{"$f":"ввод!$R$28","v":0},{"$f":"ввод!$R$29","v":0},{"$f":"ввод!$R$30","v":0},{"$f":"ввод!$R$31","v":0},{"$f":"ввод!$R$32","v":0},{"$f":"ввод!$R$33","v":0},{"$f":"ввод!$R$34","v":0},{"$f":"ввод!$R$35","v":0}]
[18,{"$f":"ввод!$S$5","v":0},{"$f":"ввод!$S$6","v":0},{"$f":"ввод!$S$7","v":0},{"$f":"ввод!$S$8","v":0},{"$f":"ввод!$S$9","v":0},{"$f":"ввод!$S$10","v":0},{"$f":"ввод!$S$11","v":0},{"$f":"ввод!$S$12","v":0},{"$f":"ввод!$S$13","v":0},{"$f":"ввод!$S$14","v":0},{"$f":"ввод!$S$15","v":0},{"$f":"ввод!$S$16","v":0},{"$f":"ввод!$S$17","v":0},{"$f":"ввод!$S$18","v":0},{"$f":"ввод!$S$19","v":0},{"$f":"ввод!$S$20","v":0},{"$f":"ввод!$S$21","v":0},{"$f":"ввод!$S$22","v":0},{"$f":"ввод!$S$23","v":0},{"$f":"ввод!$S$24","v":0},{"$f":"ввод!$S$25","v":0},{"$f":"ввод!$S$26","v":0},{"$f":"ввод!$S$27","v":0},{"$f":"ввод!$S$28","v":0},{"$f":"ввод!$S$29","v":0},{"$f":"ввод!$S$30","v":0},{"$f":"ввод!$S$31","v":0},{"$f":"ввод!$S$32","v":0},{"$f":"ввод!$S$33","v":0},{"$f":"ввод!$S$34","v":0},{"$f":"ввод!$S$35","v":0}]
[19,{"$f":"ввод!$T$5","v":0},{"$f":"ввод!$T$6","v":0},{"$f":"ввод!$T$7","v":0},{"$f":"ввод!$T$8","v":0},{"$f":"ввод!$T$9","v":0},{"$f":"ввод!$T$10","v":0},{"$f":"ввод!$T$11","v":0},{"$f":"ввод!$T$12","v":0},{"$f":"ввод!$T$13","v":0},{"$f":"ввод!$T$14","v":0},{"$f":"ввод!$T$15","v":0},{"$f":"ввод!$T$16","v":0},{"$f":"ввод!$T$17","v":0},{"$f":"ввод!$T$18","v":0},{"$f":"ввод!$T$19","v":0},{"$f":"ввод!$T$20","v":0},{"$f":"ввод!$T$21","v":0},{"$f":"ввод!$T$22","v":0},{"$f":"ввод!$T$23","v":0},{"$f":"ввод!$T$24","v":0},{"$f":"ввод!$T$25","v":0},{"$f":"ввод!$T$26","v":0},{"$f":"ввод!$T$27","v":0},{"$f":"ввод!$T$28","v":0},{"$f":"ввод!$T$29","v":0},{"$f":"ввод!$T$30","v":0},{"$f":"ввод!$T$31","v":0},{"$f":"ввод!$T$32","v":0},{"$f":"ввод!$T$33","v":0},{"$f":"ввод!$T$34","v":0},{"$f":"ввод!$T$35","v":0}]
[20,{"$f":"ввод!$U$5","v":0},{"$f":"ввод!$U$6","v":0},{"$f":"ввод!$U$7","v":0},{"$f":"ввод!$U$8","v":0},{"$f":"ввод!$U$9","v":0},{"$f":"ввод!$U$10","v":0},{"$f":"ввод!$U$11","v":0},{"$f":"ввод!$U$12","v":0},{"$f":"ввод!$U$13","v":0},{"$f":"ввод!$U$14","v":0},{"$f":"ввод!$U$15","v":0},{"$f":"ввод!$U$16","v":0},{"$f":"ввод!$U$17","v":0},{"$f":"ввод!$U$18","v":0},{"$f":"ввод!$U$19","v":0},{"$f":"ввод!$U$20","v":0},{"$f":"ввод!$U$21","v":0},{"$f":"ввод!$U$22","v":0},{"$f":"ввод!$U$23","v":0},{"$f":"ввод!$U$24","v":0},{"$f":"ввод!$U$25","v":0},{"$f":"ввод!$U$26","v":0},{"$f":"ввод!$U$27","v":0},{"$f":"ввод!$U$28","v":0},{"$f":"ввод!$U$29","v":0},{"$f":"ввод!$U$30","v":0},{"$f":"ввод!$U$31","v":0},{"$f":"ввод!$U$32","v":0},{"$f":"ввод!$U$33","v":0},{"$f":"ввод!$U$34","v":0},{"$f":"ввод!$U$35","v":0}]
[21,{"$f":"ввод!$V$5","v":0},{"$f":"ввод!$V$6","v":0},{"$f":"ввод!$V$7","v":0},{"$f":"ввод!$V$8","v":0},{"$f":"ввод!$V$9","v":0},{"$f":"ввод!$V$10","v":0},{"$f":"ввод!$V$11","v":0},{"$f":"ввод!$V$12","v":0},{"$f":"ввод!$V$13","v":0},{"$f":"ввод!$V$14","v":0},{"$f":"ввод!$V$15","v":0},{"$f":"ввод!$V$16","v":0},{"$f":"ввод!$V$17","v":0},{"$f":"ввод!$V$18","v":0},{"$f":"ввод!$V$19","v":0},{"$f":"ввод!$V$20","v":0},{"$f":"ввод!$V$21","v":0},{"$f":"ввод!$V$22","v":0},{"$f":"ввод!$V$23","v":0},{"$f":"ввод!$V$24","v":0},{"$f":"ввод!$V$25","v":0},{"$f":"ввод!$V$26","v":0},{"$f":"ввод!$V$27","v":0},{"$f":"ввод!$V$28","v":0},{"$f":"ввод!$V$29","v":0},{"$f":"ввод!$V$30","v":0},{"$f":"ввод!$V$31","v":0},{"$f":"ввод!$V$32","v":0},{"$f":"ввод!$V$33","v":0},{"$f":"ввод!$V$34","v":0},{"$f":"ввод!$V$35","v":0}]
[22,{"$f":"ввод!$W$5","v":0},{"$f":"ввод!$W$6","v":0},{"$f":"ввод!$W$7","v":0},{"$f":"ввод!$W$8","v":0},{"$f":"ввод!$W$9","v":0},{"$f":"ввод!$W$10","v":0},{"$f":"ввод!$W$11","v":0},{"$f":"ввод!$W$12","v":0},{"$f":"ввод!$W$13","v":0},{"$f":"ввод!$W$14","v":0},{"$f":"ввод!$W$15","v":0},{"$f":"ввод!$W$16","v":0},{"$f":"ввод!$W$17","v":0},{"$f":"ввод!$W$18","v":0},{"$f":"ввод!$W$19","v":0},{"$f":"ввод!$W$20","v":0},{"$f":"ввод!$W$21","v":0},{"$f":"ввод!$W$22","v":0},{"$f":"ввод!$W$23","v":0},{"$f":"ввод!$W$24","v":0},{"$f":"ввод!$W$25","v":0},{"$f":"ввод!$W$26","v":0},{"$f":"ввод!$W$27","v":0},{"$f":"ввод!$W$28","v":0},{"$f":"ввод!$W$29","v":0},{"$f":"ввод!$W$30","v":0},{"$f":"ввод!$W$31","v":0},{"$f":"ввод!$W$32","v":0},{"$f":"ввод!$W$33","v":0},{"$f":"ввод!$W$34","v":0},{"$f":"ввод!$W$35","v":0}]
[23,{"$f":"ввод!$X$5","v":0},{"$f":"ввод!$X$6","v":0},{"$f":"ввод!$X$7","v":0},{"$f":"ввод!$X$8","v":0},{"$f":"ввод!$X$9","v":0},{"$f":"ввод!$X$10","v":0},{"$f":"ввод!$X$11","v":0},{"$f":"ввод!$X$12","v":0},{"$f":"ввод!$X$13","v":0},{"$f":"ввод!$X$14","v":0},{"$f":"ввод!$X$15","v":0},{"$f":"ввод!$X$16","v":0},{"$f":"ввод!$X$17","v":0},{"$f":"ввод!$X$18","v":0},{"$f":"ввод!$X$19","v":0},{"$f":"ввод!$X$20","v":0},{"$f":"ввод!$X$21","v":0},{"$f":"ввод!$X$22","v":0},{"$f":"ввод!$X$23","v":0},{"$f":"ввод!$X$24","v":0},{"$f":"ввод!$X$25","v":0},{"$f":"ввод!$X$26","v":0},{"$f":"ввод!$X$27","v":0},{"$f":"ввод!$X$28","v":0},{"$f":"ввод!$X$29","v":0},{"$f":"ввод!$X$30","v":0},{"$f":"ввод!$X$31","v":0},{"$f":"ввод!$X$32","v":0},{"$f":"ввод!$X$33","v":0},{"$f":"ввод!$X$34","v":0},{"$f":"ввод!$X$35","v":0}]
[24,{"$f":"ввод!$Y$5","v":0},{"$f":"ввод!$Y$6","v":0},{"$f":"ввод!$Y$7","v":0},{"$f":"ввод!$Y$8","v":0},{"$f":"ввод!$Y$9","v":0},{"$f":"ввод!$Y$10","v":0},{"$f":"ввод!$Y$11","v":0},{"$f":"ввод!$Y$12","v":0},{"$f":"ввод!$Y$13","v":0},{"$f":"ввод!$Y$14","v":0},{"$f":"ввод!$Y$15","v":0},{"$f":"ввод!$Y$16","v":0},{"$f":"ввод!$Y$17","v":0},{"$f":"ввод!$Y$18","v":0},{"$f":"ввод!$Y$19","v":0},{"$f":"ввод!$Y$20","v":0},{"$f":"ввод!$Y$21","v":0},{"$f":"ввод!$Y$22","v":0},{"$f":"ввод!$Y$23","v":0},{"$f":"ввод!$Y$24","v":0},{"$f":"ввод!$Y$25","v":0},{"$f":"ввод!$Y$26","v":0},{"$f":"ввод!$Y$27","v":0},{"$f":"ввод!$Y$28","v":0},{"$f":"ввод!$Y$29","v":0},{"$f":"ввод!$Y$30","v":0},{"$f":"ввод!$Y$31","v":0},{"$f":"ввод!$Y$32","v":0},{"$f":"ввод!$Y$33","v":0},{"$f":"ввод!$Y$34","v":0},{"$f":"ввод!$Y$35","v":0}]
[]
["итог",{"$f":"SUM(B6:B29)","v":0},{"$f":"SUM(C6:C29)","v":0},0,0,0,0,0,0,0,0,0,0,0,0,0,0,0,0,0,0,0,0,0,0,0,0,0,0,0,0,0,{"$f":"SUM(B6:AF30)","v":0}]
[]
[]
[]
[]
[null,1,2,3,4,5,6,7,8,9,10,11,12,13,14,15,16,17,18,19,20,21,22,23,24,25,26,27,28,29,30,31]
[1,{"$f":"B6","v":0},{"$f":"C6+(B60-ROUND(B60,0))","v":0},{"$f":"D6+(C60-ROUND(C60,0))","v":0},0,0,0,0,0,0,0,0,0,0,0,0,0,0,0,0,0,0,0,0,0,0,0,0,{"$f":"AC6+(AB60-ROUND(AB60,0))","v":0},{"$f":"AD6+(AC60-ROUND(AC60,0))","v":0},{"$f":"AE6+(AD60-ROUND(AD60,0))","v":0},{"$f":"AF6+(AE60-ROUND(AE60,0))","v":0}]
[2,{"$f":"B7+(B37-ROUND(B37,0))","v":0},{"$f":"C7+(C37-ROUND(C37,0))","v":0},{"$f":"D7+(D37-ROUND(D37,0))","v":0},0,0,0,0,0,0,0,0,0,0,0,0,0,0,0,0,0,0,0,0,0,0,0,0,{"$f":"AC7+(AC37-ROUND(AC37,0))","v":0},{"$f":"AD7+(AD37-ROUND(AD37,0))","v":0},{"$f":"AE7+(AE37-ROUND(AE37,0))","v":0},{"$f":"AF7+(AF37-ROUND(AF37,0))","v":0}]
[3,{"$f":"B8+(B38-ROUND(B38,0))","v":0},0,0,0,0,0,0,0,0,0,0,0,0,0,0,0,0,0,0,0,0,0,0,0,0,0,0,0,{"$f":"AD8+(AD38-ROUND(AD38,0))","v":0},0,0]
[4,0,0,0,0,0,0,0,0,0,0,0,0,0,0,0,0,0,0,0,0,0,0,0,0,0,0,0,0,0,0,0]
[5,0,0,0,0,0,0,0,0,0,0,0,0,0,0,0,0,0,0,0,0,0,0,0,0,0,0,0,0,0,0,0]
[6,0,0,0,0,0,0,0,0,0,0,0,0,0,0,0,0,0,0,0,0,0,0,0,0,0,0,0,0,0,0,0]
[7,0,0,0,0,0,0,0,0,0,0,0,0,0,0,0,0,0,0,0,0,0,0,0,0,0,0,0,0,0,0,0]
[8,0,0,0,0,0,0,0,0,0,0,0,0,0,0,0,0,0,0,0,0,0,0,0,0,0,0,0,0,0,0,0]
[9,0,0,0,0,0,0,0,0,0,0,0,0,0,0,0,0,0,0,0,0,0,0,0,0,0,0,0,0,0,0,0]
[10,0,0,0,0,0,0,0,0,0,0,0,0,0,0,0,0,0,0,0,0,0,0,0,0,0,0,0,0,0,0,0]
[11,0,0,0,0,0,0,0,0,0,0,0,0,0,0,0,0,0,0,0,0,0,0,0,0,0,0,0,0,0,0,0]
[12,0,0,0,0,0,0,0,0,0,0,0,0,0,0,0,0,0,0,0,0,0,0,0,0,0,0,{"$f":"AB17+(AB47-ROUND(AB47,0))","v":0},0,0,0,0]
[13,0,0,0,0,0,0,0,0,0,0,0,0,0,0,0,0,{"$f":"R18+(R48-ROUND(R48,0))","v":0},0,0,0,0,0,0,0,0,0,0,0,0,0,0]
[14,0,0,0,0,0,0,0,0,0,0,0,0,0,0,0,0,0,0,0,0,0,0,0,0,0,0,0,0,0,0,0]
[15,0,0,0,0,0,0,0,0,0,0,0,0,0,0,0,0,0,0,0,0,0,0,0,0,0,0,0,0,0,0,0]
[16,0,0,0,0,0,{"$f":"G21+(G51-ROUND(G51,0))","v":0},0,0,0,0,0,0,0,0,0,0,0,0,0,0,0,0,0,0,0,0,0,0,0,0,0]
[17,0,0,0,0,0,0,0,0,0,0,0,0,0,0,0,0,0,0,0,0,0,0,0,0,0,0,0,0,0,0,0]
[18,0,0,0,0,0,0,0,0,0,0,0,0,0,0,0,0,0,0,0,0,0,0,0,0,0,0,0,0,0,0,0]
[19,{"$f":"B24+(B54-ROUND(B54,0))","v":0},0,0,0,0,0,0,0,0,0,0,0,0,0,0,0,0,0,0,0,0,0,0,0,0,0,0,0,0,0,0]
[20,0,0,0,0,0,0,0,0,0,0,0,0,0,0,0,0,0,0,0,0,0,0,0,0,{"$f":"Z25+(Z55-ROUND(Z55,0))","v":0},0,0,0,0,0,0]
[21,0,0,0,0,0,0,0,0,0,0,0,0,0,0,0,0,0,0,0,0,0,0,0,0,0,0,0,0,0,0,0]
[22,0,0,0,0,0,0,0,0,0,0,0,0,0,0,0,0,0,0,0,0,0,0,0,0,0,0,0,0,0,0,0]
[23,0,0,0,0,0,0,0,0,0,0,0,0,0,0,0,0,0,0,0,0,0,0,0,0,0,0,0,0,0,0,0]
[24,{"$f":"B29+(B59-ROUND(B59,0))","v":0},0,0,0,0,0,0,0,0,0,0,0,0,0,0,0,0,0,0,0,0,0,0,0,0,0,0,0,0,0,0]
[]
["итог",{"$f":"SUM(B37:B60)","v":0},{"$f":"SUM(C37:C60)","v":0},0,0,0,0,0,0,0,0,0,0,0,0,0,0,0,0,0,0,0,0,0,0,0,0,0,0,0,{"$f":"SUM(AE37:AE60)","v":0},{"$f":"SUM(AF37:AF60)","v":0}]
[]
[]
[null,1,2,3,4,5,6,7,8,9,10,11,12,13,14,15,16,17,18,19,20,21,22,23,24,25,26,27,28,29,30,31]
[1,{"$f":"ROUND(B37,0)","v":0},{"$f":"ROUND(C37,0)","v":0},0,0,0,0,0,0,0,0,0,0,0,0,0,0,0,0,0,0,0,0,{"$f":"ROUND(X37,0)","v":0},0,0,0,0,0,0,0,0]
[2,{"$f":"ROUND(B38,0)","v":0},0,0,0,0,0,0,0,0,0,0,0,0,0,0,0,0,0,0,0,0,0,0,0,0,0,0,0,0,0,0]
[3,0,0,0,0,0,0,0,0,0,0,0,0,0,0,0,0,0,0,0,0,0,0,0,0,0,0,0,0,0,0,0]
[4,0,0,0,0,0,0,0,0,0,0,0,0,0,0,0,0,0,0,0,0,0,0,{"$f":"ROUND(X40,0)","v":0},0,0,0,0,0,0,0,0]
[5,0,0,0,0,0,0,0,0,0,0,0,0,0,0,0,0,0,0,0,0,0,0,0,0,0,0,0,0,0,0,0]
[6,0,0,0,0,0,0,0,0,0,0,0,0,0,0,0,0,0,0,0,0,0,0,0,0,0,0,0,0,0,0,0]
[7,0,0,0,0,0,0,0,0,0,0,0,0,0,0,0,0,0,0,0,0,0,0,0,0,0,0,0,0,0,0,0]
[8,0,0,0,0,0,0,0,0,0,0,0,0,0,0,0,0,0,0,0,0,0,0,0,0,0,0,0,0,0,0,0]
[9,0,0,0,0,0,0,0,0,0,0,0,0,0,0,0,0,0,0,{"$f":"ROUND(T45,0)","v":0},0,0,0,0,0,0,0,0,0,0,0,0]
[10,0,0,0,0,0,0,0,0,0,0,0,0,0,0,0,0,0,0,0,0,0,0,0,0,0,0,0,0,0,0,0]
[11,0,0,0,0,0,0,0,0,0,0,0,0,0,0,0,0,0,0,0,0,0,0,0,0,0,0,0,0,0,0,0]
[12,0,0,0,0,0,0,0,0,0,0,0,0,0,0,0,0,0,0,0,0,0,0,0,0,0,0,0,0,0,0,0]
[13,0,0,0,0,0,0,0,0,0,0,0,0,0,0,0,0,0,0,0,0,0,0,0,0,0,0,0,0,0,0,0]
[14,0,0,0,0,0,0,0,0,0,0,0,0,0,0,0,0,0,0,0,0,0,0,0,0,0,0,0,0,0,0,0]
[15,0,0,0,0,0,{"$f":"ROUND(G51,0)","v":0},0,0,0,0,0,0,0,0,0,0,0,0,0,0,0,0,0,0,0,0,0,0,0,0,0]
[16,0,0,0,0,0,{"$f":"ROUND(G52,0)","v":0},0,0,0,0,0,0,0,0,0,0,0,0,0,0,0,0,0,0,0,0,0,0,0,0,0]
[17,0,0,0,0,0,0,0,0,0,0,0,0,0,0,0,0,0,0,0,0,0,0,0,0,0,0,0,0,0,0,0]
[18,{"$f":"ROUND(B54,0)","v":0},0,0,0,0,0,0,0,0,0,0,0,0,0,0,0,0,0,0,0,0,0,0,0,0,0,0,0,0,0,0]
[19,0,0,0,0,0,0,0,0,0,0,0,0,0,0,0,0,0,0,0,0,0,0,0,0,0,0,0,0,0,0,0]
[20,0,0,0,0,0,0,0,0,0,0,0,0,0,0,0,0,0,0,0,0,0,0,0,0,0,0,0,0,0,0,0]
[21,0,0,0,0,0,0,0,0,0,0,0,0,0,0,0,0,0,0,0,0,0,0,0,0,0,0,0,0,0,0,0]
[22,0,0,0,0,0,0,0,0,0,0,0,0,0,0,0,0,0,0,0,0,0,0,0,0,0,0,0,0,0,0,0]
[23,0,0,0,0,0,0,0,0,0,0,0,0,0,0,0,0,0,0,0,0,0,0,0,{"$f":"ROUND(Y59,0)","v":0},0,0,0,0,0,0,0]
[24,0,0,0,0,0,0,0,0,0,0,0,0,0,0,0,0,0,0,0,0,0,0,0,0,0,0,0,0,0,0,{"$f":"ROUND(AF60,0)","v":0}]
[]
["итог",{"$f":"SUM(B66:B89)","v":0},0,0,0,0,0,0,0,0,0,0,0,0,0,0,0,0,0,0,0,0,0,0,0,0,0,0,0,0,0,0,{"$f":"SUM(B91:AF91)","v":0}]

{"sheet":"Нерег.цена","index":5,"n_rows":807,"n_cols":6,"rows_kept":807,"cut":false,"hidden":false,"merged":[]}
[]
["Составляющие предельных уровней нерегулируемых цен"]
["за расчетный период",{"$f":"мощность!H1","v":"2026-02-01"}]
["для ГТП","PTVERENE"]
["участника оптового рынка","АО \"Росатом Энергосбыт\"",""]
[]
[]
[]
["Дифференцированные по зонам суток расчетного периода средневзвешенные нерегулируемые цены на электрическую энергию (мощность) на оптовом рынке и средневзвешенные нерегулируемые цены на электрическую энергию на оптовом рынке, определяемые для соответствующих зон суток, руб/МВтч"]
["Дифференцированная по зонам суток расчетного периода средневзвешенная нерегулируемая цена на электрическую энергию (мощность) на оптовом рынке по трем зонам суток:"]
["Ночная зона",1888.5]
["Полупиковая зона",4203.8599999999997]
["Пиковая зона",10012.98]
["Дифференцированная по зонам суток расчетного периода средневзвешенная нерегулируемая цена на электрическую энергию (мощность) на оптовом рынке по двум зонам суток:"]
["Ночная зона",1888.5]
["Дневная зона",6559.65]
["Средневзвешенная нерегулируемая цена на электрическую энергию на оптовом рынке, определяемая для соответствующей зоны суток:"]
["Ночная зона",1888.5]
["Полупиковая зона",2533.2199999999998]
["Пиковая зона",2565.2800000000002]
["Средневзвешенная нерегулируемая цена на электрическую энергию на оптовом рынке, определяемая для соответствующей зоны суток:"]
["Ночная зона",1888.5]
["Дневная зона",2546.2399999999998]
["Дифференцированная по зонам суток расчетного периода средневзвешенная нерегулируемая цена на электрическую энергию на оптовом рынке, определяемая по результатам конкурентного отбора ценовых заявок на сутки вперед для соответствующих зон суток, руб/МВтч"]
["Дифференцированная по зонам суток расчетного периода средневзвешенная нерегулируемая цена на электрическую энергию на оптовом рынке, определяемая по результатам конкурентного отбора ценовых заявок на сутки вперед по трем зонам суток:"]
["Ночная зона",1867.68]
["Полупиковая зона",2512.39]
["Пиковая зона",2544.46]
["Дифференцированная по зонам суток расчетного периода средневзвешенная нерегулируемая цена на электрическую энергию на оптовом рынке, определяемая по результатам конкурентного отбора ценовых заявок на сутки вперед по двум зонам суток:"]
["Ночная зона",1867.68]
["Дневная зона",2525.42]
["Средневзвешенная нерегулируемая цена на мощность на оптовом рынке, руб/МВт","971764,66"]
["Средневзвешенная нерегулируемая цена на электрическую энергию на оптовом рынке, определяемая по результатам конкурентного отбора ценовых заявок на сутки вперед и конкурентного отбора заявок для балансирования системы, руб/МВтч","2314,44"]
["Средневзвешенная нерегулируемая цена на электрическую энергию на оптовом рынке, определяемая по результатам конкурентных отборов на сутки вперед, руб/МВтч","2293,62"]
["Средневзвешенная цена услуг по управлению изменением режима потребления электрической энергии,руб/МВт","995,96"]
[]
[]
[]
["Объем электрической энергии, приобретенный участником оптового рынка за расчетный период по регулируемым ценам, МВтч","164659,992"]
["Объем электрической энергии, приобретенный участником оптового рынка за расчетный период по договору, в рамках которого осуществляется торговля электрической энергией и мощностью по регулируемым ценам (тарифам) на отдельных территориях, ранее относившихся к неценовым зонам, в целях обеспечения электрической энергией и мощностью потребителей, не относящихся к населению и (или) приравненным к нему категориям потребителей, МВтч","0"]
["Объем электрической энергии, приобретенный участником оптового рынка за расчетный период по результатам конкурентного отбора заявок на сутки вперед, МВтч","361368,692"]
[]
[]
[]
["Приходящаяся на единицу электрической энергии величина разницы предварительных требований и обязательств по результатам конкурентного отбора ценовых заявок на сутки вперед, руб/МВтч","-2,65"]
["Приходящаяся на единицу электрической энергии величина разницы предварительных требований и обязательств по результатам конкурентного отбора заявок для балансирования системы, руб/МВтч","463,92"]
[]
[]
[]
["Расчетная стоимость услуг инфраструктурных организаций оптового рынка, руб.\n\nв том числе:","2813095,8"]
["расчетная стоимость услуги по оперативно-диспетчерскому управлению в электроэнергетике в части организации отбора исполнителей и оплаты услуг по обеспечению системной надежности, услуг по обеспечению вывода Единой энергетической системы России из аварийных ситуаций, услуг по формированию технологического резерва мощностей","1391598,57"]
["расчетная стоимость услуг коммерческого оператора по организации торговли на оптовом рынке, связанной с заключением и организацией исполнения сделок по обращению электрической энергии, мощности, иных объектов торговли, обращение которых допускается на оптовом рынке","1149262,15"]
["расчетная стоимость комплексной услуги ЦФР по расчету требований и обязательств участников оптового рынка и исполнителей услуг по управлению изменением режима потребления электрической энергии","272235,08"]
[]
[]
[]
["дата","час","Дифференцированная по часам расчетного периода нерегулируемая цена на электрическую энергию на оптовом рынке, определяемая по результатам конкурентного отбора ценовых заявок на сутки вперед, руб/МВтч","Дифференцированная по часам расчетного периода нерегулируемая цена на электрическую энергию на оптовом рынке, определяемая по результатам конкурентного отбора заявок для балансирования системы для объема превышения фактического потребления над плановым, руб/МВтч","Дифференцированная по часам расчетного периода нерегулируемая цена на электрическую энергию на оптовом рынке, определяемая по результатам конкурентного отбора заявок для балансирования системы для объема превышения планового потребления над фактическим, руб/МВтч","Дифференцированная по часам расчетного периода нерегулируемая цена на электрическую энергию на оптовом рынке, определяемая по результатам конкурентного отбора ценовых заявок на сутки вперед и конкурентного отбора заявок для балансирования системы, руб/МВтч"]
["01.02.2026",0,1971.28,62.01,0,1992.1]
["01.02.2026",1,1901.27,4.22,2.11,1922.09]
["01.02.2026",2,1751.18,42.65,0,1772]
["01.02.2026",3,1702.87,66.22,0,1723.69]
["01.02.2026",4,1754.27,149.19,0,1775.09]
["01.02.2026",5,1855.32,254.24,0,1876.14]
["01.02.2026",6,1902.34,186.28,0,1923.16]
["01.02.2026",7,2012.94,213.79,0,2033.76]
["01.02.2026",8,2253.2800000000002,184.78,0,2274.1]
["01.02.2026",9,2548.34,170.58,0,2569.16]
["01.02.2026",10,2632.36,158.91,0,2653.18]
["01.02.2026",11,2668.84,172.46,0,2689.66]
["01.02.2026",12,2661.79,165.56,0,2682.61]
["01.02.2026",13,2665.76,175.48,0,2686.58]
["01.02.2026",14,2621.12,244.69,0,2641.94]
["01.02.2026",15,2594.8200000000002,276.64999999999998,0,2615.64]
["01.02.2026",16,2607.5300000000002,353.28,0,2628.35]
["01.02.2026",17,2683.16,637.41,7.46,2703.98]
["01.02.2026",18,2740.27,328.51,19.5,2761.09]
["01.02.2026",19,2608.4,406.94,0,2629.22]
["01.02.2026",20,2599,338.96,0,2619.8200000000002]
["01.02.2026",21,2494.91,270.52,0,2515.73]
["01.02.2026",22,2221.54,0.26,6.94,2242.36]
["01.02.2026",23,2021.71,0,29.51,2042.53]
["02.02.2026",0,1915.81,0.02,4.95,1936.63]
["02.02.2026",1,1859.32,11.27,0.05,1880.14]
["02.02.2026",2,1638.82,0,46.42,1659.64]
["02.02.2026",3,1612.51,0,18.95,1633.33]
["02.02.2026",4,1711.38,174.42,0,1732.2]
["02.02.2026",5,1914.9,297.64,0,1935.72]
["02.02.2026",6,2069.64,141.26,0.83,2090.46]
["02.02.2026",7,2297.42,387.45,0,2318.2399999999998]
["02.02.2026",8,2318.6799999999998,141.41,1.67,2339.5]
["02.02.2026",9,2345.39,382.11,29.05,2366.21]
["02.02.2026",10,2447.8000000000002,291.72000000000003,37.659999999999997,2468.62]
["02.02.2026",11,2537.9299999999998,287.08999999999997,33.85,2558.75]
["02.02.2026",12,2517.23,279.58999999999997,28.16,2538.0500000000002]
["02.02.2026",13,2531.67,290.58999999999997,13.19,2552.4899999999998]
["02.02.2026",14,2375.36,417.85,8.32,2396.1799999999998]
["02.02.2026",15,2350.71,493.63,0,2371.5300000000002]
["02.02.2026",16,2337.69,531.86,0,2358.5100000000002]
["02.02.2026",17,2345.4899999999998,598.91,0,2366.31]
["02.02.2026",18,2363.52,468.24,0,2384.34]
["02.02.2026",19,2361.89,285.02999999999997,0,2382.71]
["02.02.2026",20,2324.21,42.15,0.56000000000000005,2345.0300000000002]
["02.02.2026",21,2265.8000000000002,0,276.99,2286.62]
["02.02.2026",22,2207.46,0,27.81,2228.2800000000002]
["02.02.2026",23,1918.43,17.739999999999998,0,1939.25]
["03.02.2026",0,1910.25,3.5,0.87,1931.07]
["03.02.2026",1,1797.3,85.53,0,1818.12]
["03.02.2026",2,1590.16,201.49,0,1610.98]
["03.02.2026",3,1558.88,211.01,0,1579.7]
["03.02.2026",4,1594.36,298.51,0,1615.18]
["03.02.2026",5,1913.67,328.08,0,1934.49]
["03.02.2026",6,2018.35,203.61,1.06,2039.17]
["03.02.2026",7,2245.75,347.25,0,2266.5700000000002]
["03.02.2026",8,2318.16,394.18,0,2338.98]
["03.02.2026",9,2370.25,784.71,0,2391.0700000000002]
["03.02.2026",10,2496.46,386.18,5.94,2517.2800000000002]
["03.02.2026",11,2610.87,69.040000000000006,12.98,2631.69]
["03.02.2026",12,2513.1999999999998,207.16,0,2534.02]
["03.02.2026",13,2522.54,463.77,5.49,2543.36]
["03.02.2026",14,2501.94,366.07,0,2522.7600000000002]
["03.02.2026",15,2447.1,1242.92,0,2467.92]
["03.02.2026",16,2425.13,2831.65,0,2445.9499999999998]
["03.02.2026",17,2441.1,1181.19,0,2461.92]
["03.02.2026",18,2495.6999999999998,334.79,16.97,2516.52]
["03.02.2026",19,2503.46,301.3,15.17,2524.2800000000002]
["03.02.2026",20,2405.91,361.05,15.87,2426.73]
["03.02.2026",21,2317.09,194.55,0,2337.91]
["03.02.2026",22,2236.71,36.35,0,2257.5300000000002]
["03.02.2026",23,2015.79,68.36,0,2036.61]
["04.02.2026",0,1899.32,0,25.86,1920.14]
["04.02.2026",1,1679.15,94.95,0,1699.97]
["04.02.2026",2,1601.42,183.19,0,1622.24]
["04.02.2026",3,1592.13,177.94,0,1612.95]
["04.02.2026",4,1695.24,246.95,0,1716.06]
["04.02.2026",5,1935.33,290.98,0,1956.15]
["04.02.2026",6,2073.4499999999998,154.99,31.88,2094.27]
["04.02.2026",7,2274.44,294.69,0,2295.2600000000002]
["04.02.2026",8,2497.29,449.11,2.82,2518.11]
["04.02.2026",9,2558.0100000000002,1502.57,0,2578.83]
["04.02.2026",10,2573.02,1034.26,0,2593.84]
["04.02.2026",11,2638.23,205.42,0,2659.05]
["04.02.2026",12,2595.88,236.27,0,2616.6999999999998]
["04.02.2026",13,2604.13,245.58,0,2624.95]
["04.02.2026",14,2600.81,226.12,0,2621.63]
["04.02.2026",15,2543.15,175.87,0,2563.9699999999998]
["04.02.2026",16,2523.67,52.17,0,2544.4899999999998]
["04.02.2026",17,2532,47.65,62.9,2552.8200000000002]
["04.02.2026",18,2589.48,2.44,45.57,2610.3000000000002]
["04.02.2026",19,2590.7199999999998,188.93,0,2611.54]
["04.02.2026",20,2526.91,0,90.48,2547.73]
["04.02.2026",21,2328.06,0,27.5,2348.88]
["04.02.2026",22,2240.19,0,370.86,2261.0100000000002]
["04.02.2026",23,2028.02,0,253.34,2048.84]
["05.02.2026",0,1943.4,0,44.92,1964.22]
["05.02.2026",1,1863.06,39.31,0,1883.88]
["05.02.2026",2,1635.11,237.29,0,1655.93]
["05.02.2026",3,1602.2,299.31,0,1623.02]
["05.02.2026",4,1743.3,218.97,0,1764.12]
["05.02.2026",5,1944.89,366.22,0,1965.71]
["05.02.2026",6,2214.15,80.55,47.36,2234.9699999999998]
["05.02.2026",7,2360.75,230.33,0,2381.5700000000002]
["05.02.2026",8,2527.73,301.27,0,2548.5500000000002]
["05.02.2026",9,2580.64,487.76,0,2601.46]
["05.02.2026",10,2593.06,1031.56,0,2613.88]
["05.02.2026",11,2664.81,277.17,0,2685.63]
["05.02.2026",12,2592.29,293.56,0,2613.11]
["05.02.2026",13,2619.06,265.14,0,2639.88]
["05.02.2026",14,2601.09,206.4,0,2621.91]
["05.02.2026",15,2566.09,222.97,0,2586.91]
["05.02.2026",16,2535.71,198.24,0,2556.5300000000002]
["05.02.2026",17,2554.7800000000002,186.97,28.68,2575.6]
["05.02.2026",18,2606.64,42.77,68.709999999999994,2627.46]
["05.02.2026",19,2605.39,0.01,21.14,2626.21]
["05.02.2026",20,2546.4299999999998,0,135.86000000000001,2567.25]
["05.02.2026",21,2436.5300000000002,0,140.55000000000001,2457.35]
["05.02.2026",22,2316.4,0,745.33,2337.2199999999998]
["05.02.2026",23,2206.0300000000002,0,881.35,2226.85]
["06.02.2026",0,1936.79,0,64.41,1957.61]
["06.02.2026",1,1829.71,42.87,0,1850.53]
["06.02.2026",2,1616.9,93.43,0,1637.72]
["06.02.2026",3,1584.63,232.51,0,1605.45]
["06.02.2026",4,1696.61,227.47,0,1717.43]
["06.02.2026",5,1923.18,32.979999999999997,578.82000000000005,1944]
["06.02.2026",6,2221.29,27.93,659.42,2242.11]
["06.02.2026",7,2396.58,353.65,0,2417.4]
["06.02.2026",8,2548.54,277.58,0,2569.36]
["06.02.2026",9,2558.85,281.8,10.94,2579.67]
["06.02.2026",10,2571.64,303.61,25.22,2592.46]
["06.02.2026",11,2678.02,156.69,0,2698.84]
["06.02.2026",12,2638.47,191.19,0,2659.29]
["06.02.2026",13,2635.27,190.96,0,2656.09]
["06.02.2026",14,2622.41,191.74,0,2643.23]
["06.02.2026",15,2578.0100000000002,192.1,0,2598.83]
["06.02.2026",16,2550.58,241.67,0,2571.4]
["06.02.2026",17,2541.42,232.94,12.34,2562.2399999999998]
["06.02.2026",18,2600.0500000000002,170.28,18.75,2620.87]
["06.02.2026",19,2598.7800000000002,284.7,9.07,2619.6]
["06.02.2026",20,2578.56,236.92,0,2599.38]
["06.02.2026",21,2487.41,4.5,48.07,2508.23]
["06.02.2026",22,2354.48,0,102.49,2375.3000000000002]
["06.02.2026",23,2161.0700000000002,0,218.46,2181.89]
["07.02.2026",0,1927.51,10.38,1.33,1948.33]
["07.02.2026",1,1878.53,32.26,0,1899.35]
["07.02.2026",2,1717.76,185.35,0,1738.58]
["07.02.2026",3,1650.24,238.41,0,1671.06]
["07.02.2026",4,1694.54,225.66,0,1715.36]
["07.02.2026",5,1860.04,344.92,0,1880.86]
["07.02.2026",6,1904,287.66000000000003,0,1924.82]
["07.02.2026",7,2215.54,109.44,0,2236.36]
["07.02.2026",8,2397.41,324.58,0,2418.23]
["07.02.2026",9,2599.5300000000002,298.32,0,2620.35]
["07.02.2026",10,2680.9,279.39999999999998,0,2701.72]
["07.02.2026",11,2717.91,312.87,0,2738.73]
["07.02.2026",12,2707.31,276.36,0,2728.13]
["07.02.2026",13,2692.57,339.55,0,2713.39]
["07.02.2026",14,2642.52,786.3,0,2663.34]
["07.02.2026",15,2631.41,407.97,0,2652.23]
["07.02.2026",16,2634.57,485.36,0,2655.39]
["07.02.2026",17,2675.1,443.03,0,2695.92]
["07.02.2026",18,2730.35,344.43,0,2751.17]
["07.02.2026",19,2684.17,150.41,0,2704.99]
["07.02.2026",20,2654.18,131.25,0,2675]
["07.02.2026",21,2453.04,11.67,48.93,2473.86]
["07.02.2026",22,2310.73,0,71.989999999999995,2331.5500000000002]
["07.02.2026",23,2087.8000000000002,29.87,887.17,2108.62]
["08.02.2026",0,1996.57,1.02,5.38,2017.39]
["08.02.2026",1,1904.72,0,8.39,1925.54]
["08.02.2026",2,1739.4,135.26,0,1760.22]
["08.02.2026",3,1708.26,40.56,0,1729.08]
["08.02.2026",4,1733.11,167.42,0,1753.93]
["08.02.2026",5,1875.31,57.69,0,1896.13]
["08.02.2026",6,1889.23,38.979999999999997,0,1910.05]
["08.02.2026",7,1950.33,107.62,0,1971.15]
["08.02.2026",8,2233.91,48.63,0,2254.73]
["08.02.2026",9,2369.1,55.19,1.51,2389.92]
["08.02.2026",10,2464.41,227.54,0,2485.23]
["08.02.2026",11,2498.11,180.26,0,2518.9299999999998]
["08.02.2026",12,2496.13,89.13,0,2516.9499999999998]
["08.02.2026",13,2488.17,83.56,0,2508.9899999999998]
["08.02.2026",14,2485.75,62.35,0,2506.5700000000002]
["08.02.2026",15,2446.56,105.98,0,2467.38]
["08.02.2026",16,2442.06,219.63,0,2462.88]
["08.02.2026",17,2471.69,247.25,0,2492.5100000000002]
["08.02.2026",18,2501.14,229.6,22.55,2521.96]
["08.02.2026",19,2520.44,88.71,13.99,2541.2600000000002]
["08.02.2026",20,2532.81,33.729999999999997,15.55,2553.63]
["08.02.2026",21,2401.73,0,168.33,2422.5500000000002]
["08.02.2026",22,2267.77,0,328.86,2288.59]
["08.02.2026",23,2045.35,0,349.32,2066.17]
["09.02.2026",0,1831.38,0,82.92,1852.2]
["09.02.2026",1,1623.52,0,115.49,1644.34]
["09.02.2026",2,1560.64,0,125.2,1581.46]
["09.02.2026",3,1546.67,0,66.75,1567.49]
["09.02.2026",4,1618.93,31.04,0,1639.75]
["09.02.2026",5,1831.6,106.72,0,1852.42]
["09.02.2026",6,2118.83,68.37,47.88,2139.65]
["09.02.2026",7,2336.6,177.38,1.05,2357.42]
["09.02.2026",8,2470.04,134.99,2.27,2490.86]
["09.02.2026",9,2537.91,55.73,16.55,2558.73]
["09.02.2026",10,2560.2800000000002,29.67,15.68,2581.1]
["09.02.2026",11,2605.42,4.2699999999999996,14.48,2626.24]
["09.02.2026",12,2585,1.07,20.55,2605.8200000000002]
["09.02.2026",13,2586.8000000000002,49.22,2.88,2607.62]
["09.02.2026",14,2575.85,54.45,1.88,2596.67]
["09.02.2026",15,2539.9499999999998,11.83,9.61,2560.77]
["09.02.2026",16,2510.7399999999998,0,105.5,2531.56]
["09.02.2026",17,2519.2600000000002,0,138.84,2540.08]
["09.02.2026",18,2555.75,0,105.89,2576.5700000000002]
["09.02.2026",19,2556.17,0,95.82,2576.9899999999998]
["09.02.2026",20,2481.59,0,102.97,2502.41]
["09.02.2026",21,2345.86,0,499.45,2366.6799999999998]
["09.02.2026",22,2193.83,0,309.2,2214.65]
["09.02.2026",23,1904.31,0,254.88,1925.13]
["10.02.2026",0,1776.55,0,205.14,1797.37]
["10.02.2026",1,1581.59,0,25.03,1602.41]
["10.02.2026",2,1539.28,0,21.5,1560.1]
["10.02.2026",3,1550.24,59.38,0,1571.06]
["10.02.2026",4,1658.92,107.02,0,1679.74]
["10.02.2026",5,1907.22,276.07,0,1928.04]
["10.02.2026",6,2218.2199999999998,20.65,28.26,2239.04]
["10.02.2026",7,2373.2199999999998,24.12,162.38,2394.04]
["10.02.2026",8,2500.37,112.16,87.45,2521.19]
["10.02.2026",9,2519.38,159.52000000000001,33.69,2540.1999999999998]
["10.02.2026",10,2528.06,109.44,38.57,2548.88]
["10.02.2026",11,2630.86,98.63,23.62,2651.68]
["10.02.2026",12,2588.09,22.97,12.44,2608.91]
["10.02.2026",13,2595.17,65.38,0,2615.9899999999998]
["10.02.2026",14,2578.4499999999998,34.770000000000003,0,2599.27]
["10.02.2026",15,2537.9699999999998,12.21,0,2558.79]
["10.02.2026",16,2514.61,25.18,0,2535.4299999999998]
["10.02.2026",17,2501.4,117.39,0,2522.2199999999998]
["10.02.2026",18,2510.79,45.35,0.34,2531.61]
["10.02.2026",19,2557.6,0,169.36,2578.42]
["10.02.2026",20,2520.39,0,201.98,2541.21]
["10.02.2026",21,2427.0700000000002,0,674.84,2447.89]
["10.02.2026",22,2226.69,0,391.52,2247.5100000000002]
["10.02.2026",23,2059.9,0,369.61,2080.7199999999998]
["11.02.2026",0,1889.94,26.85,0,1910.76]
["11.02.2026",1,1712.58,105.15,0,1733.4]
["11.02.2026",2,1689.4,26.43,0.72,1710.22]
["11.02.2026",3,1659.93,80.989999999999995,0,1680.75]
["11.02.2026",4,1726.97,203.47,0,1747.79]
["11.02.2026",5,1935.96,282.42,0,1956.78]
["11.02.2026",6,2211.83,33.979999999999997,51.61,2232.65]
["11.02.2026",7,2437.2600000000002,82.12,0,2458.08]
["11.02.2026",8,2543.66,87.09,259.37,2564.48]
["11.02.2026",9,2506.56,70.31,22.33,2527.38]
["11.02.2026",10,2523.85,42.3,16.72,2544.67]
["11.02.2026",11,2626.99,109.31,0.54,2647.81]
["11.02.2026",12,2560.81,57.8,4.33,2581.63]
["11.02.2026",13,2640.65,101.65,0,2661.47]
["11.02.2026",14,2623.97,135.11000000000001,0,2644.79]
["11.02.2026",15,2581.91,67.569999999999993,0,2602.73]
["11.02.2026",16,2546,22.22,83.57,2566.8200000000002]
["11.02.2026",17,2511.96,48.02,471.15,2532.7800000000002]
["11.02.2026",18,2583.4299999999998,41.22,444.62,2604.25]
["11.02.2026",19,2595.19,0,101.19,2616.0100000000002]
["11.02.2026",20,2544.69,13.28,645.71,2565.5100000000002]
["11.02.2026",21,2424.4899999999998,0,190.78,2445.31]
["11.02.2026",22,2215.0100000000002,2.8,2.08,2235.83]
["11.02.2026",23,2011.82,31.38,978.59,2032.64]
["12.02.2026",0,1917.66,0,45.11,1938.48]
["12.02.2026",1,1814.09,0,34.18,1834.91]
["12.02.2026",2,1751.45,0,27.09,1772.27]
["12.02.2026",3,1725.57,38.46,0,1746.39]
["12.02.2026",4,1831.07,72.72,0,1851.89]
["12.02.2026",5,2091.5700000000002,253.93,0,2112.39]
["12.02.2026",6,2235.1799999999998,25.52,51.74,2256]
["12.02.2026",7,2505.06,197.33,0,2525.88]
["12.02.2026",8,2467.61,176.04,8.8699999999999992,2488.4299999999998]
["12.02.2026",9,2558.04,22.55,709.33,2578.86]
["12.02.2026",10,2584.33,73.13,0,2605.15]
["12.02.2026",11,2625.76,7.87,116.4,2646.58]
["12.02.2026",12,2582.4899999999998,13.37,229.64,2603.31]
["12.02.2026",13,2588.1799999999998,6.84,122,2609]
["12.02.2026",14,2573.66,95.42,0,2594.48]
["12.02.2026",15,2533.96,28.41,319.52,2554.7800000000002]
["12.02.2026",16,2503.7600000000002,31.02,250.82,2524.58]
["12.02.2026",17,2508.87,33.17,436.59,2529.69]
["12.02.2026",18,2533.6,20.3,64.069999999999993,2554.42]
["12.02.2026",19,2534.75,18.45,9.7799999999999994,2555.5700000000002]
["12.02.2026",20,2482.9499999999998,23.52,41.85,2503.77]
["12.02.2026",21,2536.87,0,238.81,2557.69]
["12.02.2026",22,2336.41,0,487.99,2357.23]
["12.02.2026",23,2199.09,0,451.66,2219.91]
["13.02.2026",0,1884.67,0.56999999999999995,3.89,1905.49]
["13.02.2026",1,1733.19,68.19,0,1754.01]
["13.02.2026",2,1700.1,5.46,1.04,1720.92]
["13.02.2026",3,1695.46,97.21,0,1716.28]
["13.02.2026",4,1793.05,86.34,0,1813.87]
["13.02.2026",5,2009.9,218.33,0,2030.72]
["13.02.2026",6,2222.0300000000002,17.77,105.71,2242.85]
["13.02.2026",7,2489.42,229.14,0,2510.2399999999998]
["13.02.2026",8,2651.22,173.41,0,2672.04]
["13.02.2026",9,2725.11,90.84,0,2745.93]
["13.02.2026",10,2737.82,51.37,0,2758.64]
["13.02.2026",11,2782.17,50.24,0,2802.99]
["13.02.2026",12,2732.06,76.95,0,2752.88]
["13.02.2026",13,2730.36,111.49,0,2751.18]
["13.02.2026",14,2724.15,90.71,0,2744.97]
["13.02.2026",15,2693.57,111.55,0,2714.39]
["13.02.2026",16,2660.95,119.04,0,2681.77]
["13.02.2026",17,2670.3,259.94,0,2691.12]
["13.02.2026",18,2706.47,178.84,0,2727.29]
["13.02.2026",19,2694.47,79.989999999999995,0,2715.29]
["13.02.2026",20,2614.67,19.77,2.19,2635.49]
["13.02.2026",21,2527.7199999999998,0,174.98,2548.54]
["13.02.2026",22,2232.1799999999998,0,433.76,2253]
["13.02.2026",23,2128.0500000000002,0,126.62,2148.87]
["14.02.2026",0,2104.29,81.11,0,2125.11]
["14.02.2026",1,1881.65,53.29,0,1902.47]
["14.02.2026",2,1857.09,37.380000000000003,0,1877.91]
["14.02.2026",3,1827.13,52.58,0,1847.95]
["14.02.2026",4,1861.6,71.63,0,1882.42]
["14.02.2026",5,1885.18,292.26,0,1906]
["14.02.2026",6,1976.7,29.42,701.68,1997.52]
["14.02.2026",7,2197.86,200.01,0,2218.6799999999998]
["14.02.2026",8,2327.46,338.08,0,2348.2800000000002]
["14.02.2026",9,2558.94,243.63,0,2579.7600000000002]
["14.02.2026",10,2651.07,228.21,0,2671.89]
["14.02.2026",11,2682.62,191.62,0,2703.44]
["14.02.2026",12,2671.55,188.16,0,2692.37]
["14.02.2026",13,2654.95,232.47,0,2675.77]
["14.02.2026",14,2581.86,255.05,0,2602.6799999999998]
["14.02.2026",15,2557.8000000000002,294.26,0,2578.62]
["14.02.2026",16,2532.1799999999998,448.11,0,2553]
["14.02.2026",17,2454.81,700.88,0,2475.63]
["14.02.2026",18,2577.13,646.85,0,2597.9499999999998]
["14.02.2026",19,2607.84,300.52999999999997,0,2628.66]
["14.02.2026",20,2586.5700000000002,262.19,0,2607.39]
["14.02.2026",21,2353.12,182.78,0,2373.94]
["14.02.2026",22,2234.65,1.39,11.6,2255.4699999999998]
["14.02.2026",23,2017.01,0,22.57,2037.83]
["15.02.2026",0,1951.7,0,35.200000000000003,1972.52]
["15.02.2026",1,1844.34,32.29,0,1865.16]
["15.02.2026",2,1746.57,108.18,0,1767.39]
["15.02.2026",3,1700.6,84.91,0,1721.42]
["15.02.2026",4,1752.98,99.66,0,1773.8]
["15.02.2026",5,1866.23,43.31,0,1887.05]
["15.02.2026",6,1892.11,102.65,0,1912.93]
["15.02.2026",7,2054.65,152.13,0,2075.4699999999998]
["15.02.2026",8,2255.09,140.69,0,2275.91]
["15.02.2026",9,2470.39,167.06,0,2491.21]
["15.02.2026",10,2580.44,108.4,0,2601.2600000000002]
["15.02.2026",11,2609.9899999999998,100.88,0,2630.81]
["15.02.2026",12,2600.31,84.11,0,2621.13]
["15.02.2026",13,2592.5100000000002,68.040000000000006,0,2613.33]
["15.02.2026",14,2592.87,64.25,0,2613.69]
["15.02.2026",15,2531.08,55.81,0,2551.9]
["15.02.2026",16,2549.9,59.37,0,2570.7199999999998]
["15.02.2026",17,2568.66,152.09,0,2589.48]
["15.02.2026",18,2602.8000000000002,266.07,0,2623.62]
["15.02.2026",19,2521.86,258.01,1.1100000000000001,2542.6799999999998]
["15.02.2026",20,2662.02,166.14,0,2682.84]
["15.02.2026",21,2514.21,0,168.23,2535.0300000000002]
["15.02.2026",22,2261.4699999999998,0,329.92,2282.29]
["15.02.2026",23,2041.09,0,362.19,2061.91]
["16.02.2026",0,1999.03,0,137.32,2019.85]
["16.02.2026",1,1873.83,0,69.03,1894.65]
["16.02.2026",2,1792.64,0,164.53,1813.46]
["16.02.2026",3,1666.17,0,36.28,1686.99]
["16.02.2026",4,1819.95,39.299999999999997,0,1840.77]
["16.02.2026",5,1970.78,227.05,0,1991.6]
["16.02.2026",6,2201.1799999999998,48.91,56.85,2222]
["16.02.2026",7,2443.2399999999998,285.70999999999998,0,2464.06]
["16.02.2026",8,2604.75,257.81,0,2625.57]
["16.02.2026",9,2562.06,165.09,3.05,2582.88]
["16.02.2026",10,2560.94,128.34,0.17,2581.7600000000002]
["16.02.2026",11,2581.75,140.04,0,2602.5700000000002]
["16.02.2026",12,2578.63,154.65,0,2599.4499999999998]
["16.02.2026",13,2585.17,152.78,0,2605.9899999999998]
["16.02.2026",14,2572.86,152.30000000000001,0,2593.6799999999998]
["16.02.2026",15,2561.94,135.80000000000001,0,2582.7600000000002]
["16.02.2026",16,2521.91,124.89,3.93,2542.73]
["16.02.2026",17,2514.69,285.08,41.46,2535.5100000000002]
["16.02.2026",18,2541.56,245.57,53.96,2562.38]
["16.02.2026",19,2556.16,0,91.71,2576.98]
["16.02.2026",20,2504.56,0,186.6,2525.38]
["16.02.2026",21,2520.87,0,543.62,2541.69]
["16.02.2026",22,2254.96,0,630.15,2275.7800000000002]
["16.02.2026",23,2152.9899999999998,0,488.44,2173.81]
["17.02.2026",0,1954.71,0,50.31,1975.53]
["17.02.2026",1,1858.96,0.22,3.71,1879.78]
["17.02.2026",2,1696.66,80.91,0,1717.48]
["17.02.2026",3,1699.26,153.06,0,1720.08]
["17.02.2026",4,1847.37,133.6,0,1868.19]
["17.02.2026",5,1978.85,280.55,0,1999.67]
["17.02.2026",6,2206.67,185.23,0,2227.4899999999998]
["17.02.2026",7,2409.65,157.43,0.61,2430.4699999999998]
["17.02.2026",8,2472.1,282.94,16.39,2492.92]
["17.02.2026",9,2550.09,166.29,24.91,2570.91]
["17.02.2026",10,2559.75,80.42,0,2580.5700000000002]
["17.02.2026",11,2568.11,67.25,0,2588.9299999999998]
["17.02.2026",12,2555.96,56.6,0,2576.7800000000002]
["17.02.2026",13,2562.6999999999998,38.54,0,2583.52]
["17.02.2026",14,2543.75,18.41,5.12,2564.5700000000002]
["17.02.2026",15,2522.7800000000002,10.56,15.88,2543.6]
["17.02.2026",16,2499,25,0,2519.8200000000002]
["17.02.2026",17,2473.88,80.48,0,2494.6999999999998]
["17.02.2026",18,2517.14,70.47,0.17,2537.96]
["17.02.2026",19,2549.0100000000002,0,161.94,2569.83]
["17.02.2026",20,2463.17,0.08,141.51,2483.9899999999998]
["17.02.2026",21,2491.88,0,282.69,2512.6999999999998]
["17.02.2026",22,2327.4499999999998,0,117.86,2348.27]
["17.02.2026",23,2193,0,260.18,2213.8200000000002]
["18.02.2026",0,1914.08,0,98.13,1934.9]
["18.02.2026",1,1783.47,0,155.97,1804.29]
["18.02.2026",2,1592.46,1.42,4.5999999999999996,1613.28]
["18.02.2026",3,1615.59,26.66,0,1636.41]
["18.02.2026",4,1797.25,65.5,0,1818.07]
["18.02.2026",5,1955.79,252.07,0,1976.61]
["18.02.2026",6,2216.9899999999998,29.55,57.89,2237.81]
["18.02.2026",7,2390.12,369.42,0,2410.94]
["18.02.2026",8,2524.92,185.22,0,2545.7399999999998]
["18.02.2026",9,2541.2600000000002,331.69,0,2562.08]
["18.02.2026",10,2563.9499999999998,310.86,0,2584.77]
["18.02.2026",11,2588.2199999999998,135.16,0,2609.04]
["18.02.2026",12,2574.5500000000002,113.33,0,2595.37]
["18.02.2026",13,2577.84,14.31,52.72,2598.66]
["18.02.2026",14,2570.7800000000002,7.07,37.340000000000003,2591.6]
["18.02.2026",15,2549.81,3.82,59.32,2570.63]
["18.02.2026",16,2500.91,25.25,4.53,2521.73]
["18.02.2026",17,2518.69,106.97,0,2539.5100000000002]
["18.02.2026",18,2550.9,191.06,0,2571.7199999999998]
["18.02.2026",19,2569.38,5.44,50,2590.1999999999998]
["18.02.2026",20,2478.39,7.07,38.89,2499.21]
["18.02.2026",21,2424.6799999999998,0,162.57,2445.5]
["18.02.2026",22,2277.5300000000002,0,157.11000000000001,2298.35]
["18.02.2026",23,1966.79,0,326.64,1987.61]
["19.02.2026",0,1856.8,47.19,0,1877.62]
["19.02.2026",1,1627.74,119.13,0,1648.56]
["19.02.2026",2,1538.03,161.16,0,1558.85]
["19.02.2026",3,1555.27,142.07,0,1576.09]
["19.02.2026",4,1731.34,133.59,0,1752.16]
["19.02.2026",5,1950.72,355.95,0,1971.54]
["19.02.2026",6,2219.33,88.28,12.42,2240.15]
["19.02.2026",7,2507.7600000000002,204.51,0,2528.58]
["19.02.2026",8,2527.12,318.31,0,2547.94]
["19.02.2026",9,2592.56,38.9,70.5,2613.38]
["19.02.2026",10,2604.52,116.08,0,2625.34]
["19.02.2026",11,2625.2,107.04,0,2646.02]
["19.02.2026",12,2610.1799999999998,130.55000000000001,0,2631]
["19.02.2026",13,2612.2800000000002,14.49,581.21,2633.1]
["19.02.2026",14,2598.4499999999998,125.16,0,2619.27]
["19.02.2026",15,2582.35,45.4,6.18,2603.17]
["19.02.2026",16,2540.79,10.84,187.91,2561.61]
["19.02.2026",17,2539.4699999999998,13.42,389.99,2560.29]
["19.02.2026",18,2568.37,28.17,217.18,2589.19]
["19.02.2026",19,2590.5700000000002,66.16,0,2611.39]
["19.02.2026",20,2520.58,0.69,14.42,2541.4]
["19.02.2026",21,2567.52,0,268.75,2588.34]
["19.02.2026",22,2244.52,0,615.39,2265.34]
["19.02.2026",23,2021.27,0,543.20000000000005,2042.09]
["20.02.2026",0,1861.29,0,22.66,1882.11]
["20.02.2026",1,1608.61,25.44,0,1629.43]
["20.02.2026",2,1555.67,49.2,0,1576.49]
["20.02.2026",3,1573.03,116.75,0,1593.85]
["20.02.2026",4,1664.28,278.43,0,1685.1]
["20.02.2026",5,1943.08,392.56,0,1963.9]
["20.02.2026",6,2233.02,173.77,0,2253.84]
["20.02.2026",7,2494.0300000000002,171.49,0,2514.85]
["20.02.2026",8,2637.07,172.55,0,2657.89]
["20.02.2026",9,2724.33,7.89,59.4,2745.15]
["20.02.2026",10,2604.44,111.49,6.41,2625.26]
["20.02.2026",11,2782.19,31.34,6.71,2803.01]
["20.02.2026",12,2775.44,62.99,1.08,2796.26]
["20.02.2026",13,2773.36,51.13,3.3,2794.18]
["20.02.2026",14,2759.7,74.489999999999995,0.71,2780.52]
["20.02.2026",15,2731.07,111.56,0,2751.89]
["20.02.2026",16,2638.76,170.72,0,2659.58]
["20.02.2026",17,2615.52,195.83,0,2636.34]
["20.02.2026",18,2559.0100000000002,259.11,0,2579.83]
["20.02.2026",19,2723.2,127.88,0,2744.02]
["20.02.2026",20,2624.08,120.86,0,2644.9]
["20.02.2026",21,2570.65,0,189.7,2591.4699999999998]
["20.02.2026",22,2293.4899999999998,0,338.44,2314.31]
["20.02.2026",23,2028.13,0,308.55,2048.9499999999998]
["21.02.2026",0,2034.73,0,118.53,2055.5500000000002]
["21.02.2026",1,1909.52,0,32.65,1930.34]
["21.02.2026",2,1826.61,25.94,0,1847.43]
["21.02.2026",3,1723.71,120.65,0,1744.53]
["21.02.2026",4,1861.4,16.45,0,1882.22]
["21.02.2026",5,1938.23,60.54,0,1959.05]
["21.02.2026",6,1954.04,271.20999999999998,0,1974.86]
["21.02.2026",7,2236.96,89.55,0,2257.7800000000002]
["21.02.2026",8,2462.19,138.51,0,2483.0100000000002]
["21.02.2026",9,2585.1,121.01,0,2605.92]
["21.02.2026",10,2533.89,234.46,0,2554.71]
["21.02.2026",11,2544.61,239.25,0,2565.4299999999998]
["21.02.2026",12,2531.1999999999998,236.48,0,2552.02]
["21.02.2026",13,2517.39,170.11,1.49,2538.21]
["21.02.2026",14,2507.9499999999998,150.13,2.2799999999999998,2528.77]
["21.02.2026",15,2484.39,121.05,5.25,2505.21]
["21.02.2026",16,2480.85,98.93,9.2100000000000009,2501.67]
["21.02.2026",17,2498.63,190.05,1.37,2519.4499999999998]
["21.02.2026",18,2512.7199999999998,192.5,1.55,2533.54]
["21.02.2026",19,2505.87,20.100000000000001,37.11,2526.69]
["21.02.2026",20,2483.02,0.18,82.27,2503.84]
["21.02.2026",21,2437.9899999999998,0,93.71,2458.81]
["21.02.2026",22,2251.2600000000002,0,123.19,2272.08]
["21.02.2026",23,1976.5,0,312.48,1997.32]
["22.02.2026",0,2032.5,0,164.39,2053.3200000000002]
["22.02.2026",1,1898.47,7.08,2.56,1919.29]
["22.02.2026",2,1743.51,8.17,2.2200000000000002,1764.33]
["22.02.2026",3,1678.59,0,24.38,1699.41]
["22.02.2026",4,1766.92,93.42,0,1787.74]
["22.02.2026",5,1866.04,43.34,0,1886.86]
["22.02.2026",6,1843.12,29.59,0,1863.94]
["22.02.2026",7,1961.77,166.75,0,1982.59]
["22.02.2026",8,2268.19,240.19,0,2289.0100000000002]
["22.02.2026",9,2494.9,107.69,0,2515.7199999999998]
["22.02.2026",10,2564.06,83.73,0,2584.88]
["22.02.2026",11,2584.64,5.42,1.02,2605.46]
["22.02.2026",12,2574.54,0,58,2595.36]
["22.02.2026",13,2568.7399999999998,0,147.62,2589.56]
["22.02.2026",14,2566.56,0,179.71,2587.38]
["22.02.2026",15,2523.88,0,161.13999999999999,2544.6999999999998]
["22.02.2026",16,2516.9899999999998,0,94.97,2537.81]
["22.02.2026",17,2540.84,0,51.68,2561.66]
["22.02.2026",18,2584.4299999999998,0.03,66.739999999999995,2605.25]
["22.02.2026",19,2581.61,0,127.8,2602.4299999999998]
["22.02.2026",20,2596.48,0,238.57,2617.3000000000002]
["22.02.2026",21,2509.16,0,515.95000000000005,2529.98]
["22.02.2026",22,2313.16,0,887.93,2333.98]
["22.02.2026",23,1965.46,0,400.58,1986.28]
["23.02.2026",0,1946.02,0,71.930000000000007,1966.84]
["23.02.2026",1,1839.82,0,100.86,1860.64]
["23.02.2026",2,1705.35,0,70.09,1726.17]
["23.02.2026",3,1683.9,0,61.46,1704.72]
["23.02.2026",4,1829.81,2.14,3.61,1850.63]
["23.02.2026",5,1900.7,16.25,0.76,1921.52]
["23.02.2026",6,1881.73,44.86,0,1902.55]
["23.02.2026",7,2004.35,72.89,0,2025.17]
["23.02.2026",8,2289.4899999999998,175.61,0,2310.31]
["23.02.2026",9,2486.16,210.34,0,2506.98]
["23.02.2026",10,2541.29,201.24,0.04,2562.11]
["23.02.2026",11,2556.9299999999998,212.88,0.04,2577.75]
["23.02.2026",12,2549.56,191.55,0.12,2570.38]
["23.02.2026",13,2546.69,146.57,0.26,2567.5100000000002]
["23.02.2026",14,2544.81,155.15,0.23,2565.63]
["23.02.2026",15,2507.9,152.09,0.15,2528.7199999999998]
["23.02.2026",16,2497.21,203.78,0,2518.0300000000002]
["23.02.2026",17,2532.54,253.13,0,2553.36]
["23.02.2026",18,2581.5,437.76,0,2602.3200000000002]
["23.02.2026",19,2581.9299999999998,129.21,0.35,2602.75]
["23.02.2026",20,2597.31,24.52,2200.27,2618.13]
["23.02.2026",21,2529.62,0,157.16,2550.44]
["23.02.2026",22,2344.86,0,142.27000000000001,2365.6799999999998]
["23.02.2026",23,2149.5700000000002,0,249.78,2170.39]
["24.02.2026",0,1978.93,0,162.07,1999.75]
["24.02.2026",1,1901.78,0,48.5,1922.6]
["24.02.2026",2,1789.17,0,113.12,1809.99]
["24.02.2026",3,1823.71,0,185.7,1844.53]
["24.02.2026",4,1889.99,1.78,1.43,1910.81]
["24.02.2026",5,2083.83,129.72,0,2104.65]
["24.02.2026",6,2250.7600000000002,51.48,6.19,2271.58]
["24.02.2026",7,2451.84,213.72,0,2472.66]
["24.02.2026",8,2574.9,148.87,0,2595.7199999999998]
["24.02.2026",9,2651.5,44.47,0,2672.32]
["24.02.2026",10,2738.44,0,38.74,2759.26]
["24.02.2026",11,2763.8,0.6,14.22,2784.62]
["24.02.2026",12,2654.11,136.5,0,2674.93]
["24.02.2026",13,2713.78,103.78,0,2734.6]
["24.02.2026",14,2656.73,147.51,0,2677.55]
["24.02.2026",15,2631.37,172.69,0,2652.19]
["24.02.2026",16,2585.5300000000002,197.45,0,2606.35]
["24.02.2026",17,2569.13,240.51,0,2589.9499999999998]
["24.02.2026",18,2638.21,280.01,0,2659.03]
["24.02.2026",19,2636.97,146.72,0,2657.79]
["24.02.2026",20,2581.9299999999998,0,86.05,2602.75]
["24.02.2026",21,2462.34,0,218.61,2483.16]
["24.02.2026",22,2259.4699999999998,0,600.57000000000005,2280.29]
["24.02.2026",23,1996.24,0,247.78,2017.06]
["25.02.2026",0,1939.64,0,99.59,1960.46]
["25.02.2026",1,1777.64,0,143.72999999999999,1798.46]
["25.02.2026",2,1697.16,1.5,1.93,1717.98]
["25.02.2026",3,1725.2,85.72,0,1746.02]
["25.02.2026",4,1845.97,131.24,0,1866.79]
["25.02.2026",5,2017.44,291.26,0,2038.26]
["25.02.2026",6,2260.9,165.17,0,2281.7199999999998]
["25.02.2026",7,2400.8200000000002,212.89,0,2421.64]
["25.02.2026",8,2524.7399999999998,542.46,0,2545.56]
["25.02.2026",9,2645,589.45000000000005,22.28,2665.82]
["25.02.2026",10,2763.6,193.31,0,2784.42]
["25.02.2026",11,2751.29,150.32,0,2772.11]
["25.02.2026",12,2636.49,474.45,0,2657.31]
["25.02.2026",13,2652.09,383.66,0,2672.91]
["25.02.2026",14,2638.5,353.72,0,2659.32]
["25.02.2026",15,2608.4899999999998,419.84,0,2629.31]
["25.02.2026",16,2560,405.2,0,2580.8200000000002]
["25.02.2026",17,2529.44,562.66999999999996,0,2550.2600000000002]
["25.02.2026",18,2574.69,710.84,4.32,2595.5100000000002]
["25.02.2026",19,2608.38,242.62,0,2629.2]
["25.02.2026",20,2564.09,0,65.61,2584.91]
["25.02.2026",21,2468.98,0,415.49,2489.8000000000002]
["25.02.2026",22,2281.4699999999998,0,379.53,2302.29]
["25.02.2026",23,1979.31,0,128.91,2000.13]
["26.02.2026",0,1955.64,0,86.07,1976.46]
["26.02.2026",1,1889.2,0,34.11,1910.02]
["26.02.2026",2,1847.08,0,14.17,1867.9]
["26.02.2026",3,1838.46,0,237.84,1859.28]
["26.02.2026",4,1908.77,128.93,0,1929.59]
["26.02.2026",5,2111.7800000000002,156.80000000000001,0,2132.6]
["26.02.2026",6,2290.0700000000002,30.1,894.02,2310.89]
["26.02.2026",7,2363.62,203.13,0,2384.44]
["26.02.2026",8,2648.36,916.6,0,2669.18]
["26.02.2026",9,2730.89,661.56,11.42,2751.71]
["26.02.2026",10,2765.55,552.63,0,2786.37]
["26.02.2026",11,2792.65,143.47999999999999,0,2813.47]
["26.02.2026",12,2786.53,161.72999999999999,0,2807.35]
["26.02.2026",13,2774.39,146.59,0,2795.21]
["26.02.2026",14,2784.16,146.96,0,2804.98]
["26.02.2026",15,2779.85,261.52999999999997,0,2800.67]
["26.02.2026",16,2695.8,103.14,0,2716.62]
["26.02.2026",17,2674.91,163.98,0,2695.73]
["26.02.2026",18,2715.57,154.71,0,2736.39]
["26.02.2026",19,2764.1,100.72,0,2784.92]
["26.02.2026",20,2711.6,4.96,16.95,2732.42]
["26.02.2026",21,2606.73,0,238.43,2627.55]
["26.02.2026",22,2344.29,0,451.52,2365.11]
["26.02.2026",23,2127.54,0,396.21,2148.36]
["27.02.2026",0,1913.87,0,156.82,1934.69]
["27.02.2026",1,1817.29,0,42.85,1838.11]
["27.02.2026",2,1741.62,0,130.32,1762.44]
["27.02.2026",3,1716.97,0,39.549999999999997,1737.79]
["27.02.2026",4,1804.5,64.56,0,1825.32]
["27.02.2026",5,1978.39,219.33,0,1999.21]
["27.02.2026",6,2274.4499999999998,73.900000000000006,0,2295.27]
["27.02.2026",7,2415.44,69.06,2.2999999999999998,2436.2600000000002]
["27.02.2026",8,2546.39,116.03,0,2567.21]
["27.02.2026",9,2609.11,35.35,9.52,2629.93]
["27.02.2026",10,2622.64,12.32,88.32,2643.46]
["27.02.2026",11,2673.2,0,147.63,2694.02]
["27.02.2026",12,2661,0,103.04,2681.82]
["27.02.2026",13,2658.11,0,122.92,2678.93]
["27.02.2026",14,2652.02,0,82.49,2672.84]
["27.02.2026",15,2634.73,0,72.23,2655.55]
["27.02.2026",16,2565.88,0,58.36,2586.6999999999998]
["27.02.2026",17,2521.7600000000002,19.34,18.28,2542.58]
["27.02.2026",18,2590.11,140.81,0,2610.9299999999998]
["27.02.2026",19,2609.19,6.72,80.52,2630.01]
["27.02.2026",20,2546.23,0,193.78,2567.0500000000002]
["27.02.2026",21,2471.63,0,1414.89,2492.4499999999998]
["27.02.2026",22,2308.14,0,488.5,2328.96]
["27.02.2026",23,1981.08,0,240.53,2001.9]
["28.02.2026",0,2003.65,0,117.23,2024.47]
["28.02.2026",1,1917.53,0,44.34,1938.35]
["28.02.2026",2,1863.22,0,137.53,1884.04]
["28.02.2026",3,1834.48,6.45,1.48,1855.3]
["28.02.2026",4,1851.84,8.2200000000000006,2.0299999999999998,1872.66]
["28.02.2026",5,1920.94,106.32,0,1941.76]
["28.02.2026",6,1926.67,252.74,0,1947.49]
["28.02.2026",7,2282.81,22.36,0.31,2303.63]
["28.02.2026",8,2332.88,206.52,0,2353.6999999999998]
["28.02.2026",9,2446.92,185.35,0,2467.7399999999998]
["28.02.2026",10,2553.44,183.63,0,2574.2600000000002]
["28.02.2026",11,2514.92,265.38,0,2535.7399999999998]
["28.02.2026",12,2414.3000000000002,388.08,0,2435.12]
["28.02.2026",13,2404.3000000000002,437.96,0,2425.12]
["28.02.2026",14,2396.5500000000002,438.95,0,2417.37]
["28.02.2026",15,2388.41,361.94,0,2409.23]
["28.02.2026",16,2376.9299999999998,359.59,0,2397.75]
["28.02.2026",17,2396.8200000000002,335.08,0,2417.64]
["28.02.2026",18,2456.61,206.74,0,2477.4299999999998]
["28.02.2026",19,2466.33,81.73,0,2487.15]
["28.02.2026",20,2406.83,74.489999999999995,0.44,2427.65]
["28.02.2026",21,2351.11,21.61,1.87,2371.9299999999998]
["28.02.2026",22,2306.23,0,127.49,2327.0500000000002]
["28.02.2026",23,2123.6799999999998,0,92.28,2144.5]
["29.12.2025",0,1747.41,19.23,0,1769.18]
["29.12.2025",1,1536.45,0,34.450000000000003,1558.22]
["29.12.2025",2,1482.18,12.89,0,1503.95]
["29.12.2025",3,1447.95,2.4500000000000002,6.79,1469.72]
["29.12.2025",4,1514.29,93.44,0,1536.06]
["29.12.2025",5,1745.95,251.93,0,1767.72]
["29.12.2025",6,1954.7,352.54,0,1976.47]
["29.12.2025",7,2293,294.51,0,2314.77]
["29.12.2025",8,2409.11,236.48,0,2430.88]
["29.12.2025",9,2426.9899999999998,109.98,0,2448.7600000000002]
["29.12.2025",10,2438.33,35.520000000000003,0,2460.1]
["29.12.2025",11,2468.29,0,17.510000000000002,2490.06]
["29.12.2025",12,2435.41,0,45.28,2457.1799999999998]
["29.12.2025",13,2448.5100000000002,0,72.349999999999994,2470.2800000000002]
["29.12.2025",14,2387.41,0,47.92,2409.1799999999998]
["29.12.2025",15,2362.5,0,99.31,2384.27]
["29.12.2025",16,2395.34,0,95.43,2417.11]
["29.12.2025",17,2442.88,0,210.04,2464.65]
["29.12.2025",18,2439.2800000000002,0,156.33000000000001,2461.0500000000002]
["29.12.2025",19,2394.79,0,62.34,2416.56]
["29.12.2025",20,2336.4,0,394.16,2358.17]
["29.12.2025",21,2300.77,0,714.05,2322.54]
["29.12.2025",22,2008.09,0,509.29,2029.86]
["29.12.2025",23,1683.54,0,175.54,1705.31]
["30.12.2025",0,1558.05,7.76,4.45,1579.82]
["30.12.2025",1,1406.49,68.52,0,1428.26]
["30.12.2025",2,1397.8,12.68,1.82,1419.57]
["30.12.2025",3,1380.31,49.64,0,1402.08]
["30.12.2025",4,1405.16,137.85,0,1426.93]
["30.12.2025",5,1566.14,314.37,0,1587.91]
["30.12.2025",6,1838.96,203.72,0,1860.73]
["30.12.2025",7,2055.42,235.81,0,2077.19]
["30.12.2025",8,2288.4,68.33,0,2310.17]
["30.12.2025",9,2302.11,18.940000000000001,8.86,2323.88]
["30.12.2025",10,2447.08,0,162.07,2468.85]
["30.12.2025",11,2469.84,0,315.61,2491.61]
["30.12.2025",12,2352.65,0,127.42,2374.42]
["30.12.2025",13,2347.98,0,227.77,2369.75]
["30.12.2025",14,2286.8000000000002,0,212.85,2308.5700000000002]
["30.12.2025",15,2280.06,0,184.56,2301.83]
["30.12.2025",16,2291.44,0,173.67,2313.21]
["30.12.2025",17,2300.34,0,269.29000000000002,2322.11]
["30.12.2025",18,2297.2199999999998,0,288.91000000000003,2318.9899999999998]
["30.12.2025",19,2293.7600000000002,0,448.17,2315.5300000000002]
["30.12.2025",20,2287.12,0,484.82,2308.89]
["30.12.2025",21,2259.88,0,683.04,2281.65]
["30.12.2025",22,2165.4899999999998,0,667.59,2187.2600000000002]
["30.12.2025",23,1883.49,0,429.93,1905.26]
["31.12.2025",0,1652.42,45.86,0,1674.19]
["31.12.2025",1,1459.21,36.47,0,1480.98]
["31.12.2025",2,1406.73,18.02,0,1428.5]
["31.12.2025",3,1357.3,50.27,0,1379.07]
["31.12.2025",4,1366.31,71.95,0,1388.08]
["31.12.2025",5,1458.4,151.69,0,1480.17]
["31.12.2025",6,1457.83,201.6,0,1479.6]
["31.12.2025",7,1694.56,190.04,0,1716.33]
["31.12.2025",8,1913.98,331.41,0,1935.75]
["31.12.2025",9,2036.11,198.96,0,2057.88]
["31.12.2025",10,2151.54,132.34,0,2173.31]
["31.12.2025",11,2205.1,92.89,0,2226.87]
["31.12.2025",12,2212.39,73.91,0,2234.16]
["31.12.2025",13,2215.19,52.83,0,2236.96]
["31.12.2025",14,2183.64,65.81,0,2205.41]
["31.12.2025",15,2185.66,28.7,0,2207.4299999999998]
["31.12.2025",16,2241.71,88.42,0,2263.48]
["31.12.2025",17,2291.61,179.55,0,2313.38]
["31.12.2025",18,2280.86,180.71,0,2302.63]
["31.12.2025",19,2281.75,2.1,3.28,2303.52]
["31.12.2025",20,2231.36,0,396.92,2253.13]
["31.12.2025",21,2172.8000000000002,0,593.92999999999995,2194.5700000000002]
["31.12.2025",22,1969.13,0,504.8,1990.9]
["31.12.2025",23,1734.97,0,630.82000000000005,1756.74]
[]
[]
[]
["В случае если результатом расчета составляющей предельных уровней нерегулируемых цен (кроме приходящейся на единицу электрической энергии величины разницы предварительных требований и обязательств по результатам конкурентного отбора ценовых заявок на сутки вперед и приходящейся на единицу электрической энергии величины разницы предварительных требований и обязательств по результатам конкурентного отбора заявок для балансирования системы) и иных подлежащих публикации величин в соответствии с подпунктами 1 и 3.3 п. 10.8 Регламента Финансовых расчетов на оптовом рынке э/э является отрицательная величина, то КО публикует вместо отрицательной величины 0"]
[]
["В случае если результатом расчета составляющей предельных уровней нерегулируемых цен и иных, подлежащих публикации величин в соответствии с подпунктами 1 и 3.3 п. 10.8 Регламента Финансовых расчетов на оптовом рынке э/э является неопределенность, то КО публикует вместо неопределенности 0"]

{"sheet":"Часы пик","index":6,"n_rows":28,"n_cols":2,"rows_kept":28,"cut":false,"hidden":false,"merged":[[0,0,0,1]]}
["Ежемесячный отчет по часам пиковой нагрузки для субъектов Российской Федерации"]
[]
["Участник:","АО \"Росатом Энергосбыт\""]
["Субъект РФ:","Тверская область"]
["Отчетный период:",{"$f":"мощность!H1","v":"2026-02-01"}]
["Код(ы) ГТП:","PTVERENE"]
[]
["Дата","Час максимального совокупного потребления электроэнергии в субъекте Российской Федерации"]
[1,2]
["02.02.2026",11]
["03.02.2026",11]
["04.02.2026",10]
["05.02.2026",10]
["06.02.2026",10]
["09.02.2026",11]
["10.02.2026",10]
["11.02.2026",11]
["12.02.2026",10]
["13.02.2026",19]
["16.02.2026",12]
["17.02.2026",10]
["18.02.2026",11]
["19.02.2026",11]
["20.02.2026",11]
["24.02.2026",10]
["25.02.2026",20]
["26.02.2026",10]
["27.02.2026",10]